BEGIN:VCALENDAR
VERSION:2.0
PRODID:-//Myrtle Learning - ECPv6.15.3//NONSGML v1.0//EN
CALSCALE:GREGORIAN
METHOD:PUBLISH
X-ORIGINAL-URL:https://myrtlelearning.com
X-WR-CALDESC:Events for Myrtle Learning
REFRESH-INTERVAL;VALUE=DURATION:PT1H
X-Robots-Tag:noindex
X-PUBLISHED-TTL:PT1H
BEGIN:VTIMEZONE
TZID:UTC
BEGIN:STANDARD
TZOFFSETFROM:+0000
TZOFFSETTO:+0000
TZNAME:UTC
DTSTART:20260101T000000
END:STANDARD
END:VTIMEZONE
BEGIN:VEVENT
DTSTART;TZID=UTC:20260504T130000
DTEND;TZID=UTC:20260504T150000
DTSTAMP:20260421T063048
CREATED:20250909T120836Z
LAST-MODIFIED:20251014T101904Z
UID:10080775-1777899600-1777906800@myrtlelearning.com
SUMMARY:27GS Myrtle HE1
DESCRIPTION:27GS Myrtle HE1 \nThese group is made of students preparing for their Science exams in 2025/2026 \nSelect the button below to join the lesson online \n \n 
URL:https://myrtlelearning.com/event/25gs-myrtle-he1-2-2/2026-05-04/
LOCATION:Online Session\, 25 Pattens Gardens\, Rochester\, Other\, ME1 2QP\, United Kingdom
CATEGORIES:27GS Myrtle HE1
ATTACH;FMTTYPE=image/jpeg:https://myrtlelearning.com/wp-content/uploads/2023/08/myrtle-icon-whitejpg.jpg
ORGANIZER;CN="Abbie":MAILTO:barnesab@myrtlelearning.com
END:VEVENT
BEGIN:VEVENT
DTSTART;TZID=UTC:20260505T130000
DTEND;TZID=UTC:20260505T150000
DTSTAMP:20260421T063048
CREATED:20250909T120836Z
LAST-MODIFIED:20251014T101904Z
UID:10079710-1777986000-1777993200@myrtlelearning.com
SUMMARY:27GS Myrtle HE1
DESCRIPTION:27GS Myrtle HE1 \nThese group is made of students preparing for their Science exams in 2025/2026 \nSelect the button below to join the lesson online \n \n 
URL:https://myrtlelearning.com/event/25gs-myrtle-he1-2-2/2026-05-05/
LOCATION:Online Session\, 25 Pattens Gardens\, Rochester\, Other\, ME1 2QP\, United Kingdom
CATEGORIES:27GS Myrtle HE1
ATTACH;FMTTYPE=image/jpeg:https://myrtlelearning.com/wp-content/uploads/2023/08/myrtle-icon-whitejpg.jpg
ORGANIZER;CN="Abbie":MAILTO:barnesab@myrtlelearning.com
END:VEVENT
BEGIN:VEVENT
DTSTART;TZID=UTC:20260506T130000
DTEND;TZID=UTC:20260506T150000
DTSTAMP:20260421T063048
CREATED:20250909T120836Z
LAST-MODIFIED:20251014T101904Z
UID:10082899-1778072400-1778079600@myrtlelearning.com
SUMMARY:27GS Myrtle HE1
DESCRIPTION:27GS Myrtle HE1 \nThese group is made of students preparing for their Science exams in 2025/2026 \nSelect the button below to join the lesson online \n \n 
URL:https://myrtlelearning.com/event/25gs-myrtle-he1-2-2/2026-05-06/
LOCATION:Online Session\, 25 Pattens Gardens\, Rochester\, Other\, ME1 2QP\, United Kingdom
CATEGORIES:27GS Myrtle HE1
ATTACH;FMTTYPE=image/jpeg:https://myrtlelearning.com/wp-content/uploads/2023/08/myrtle-icon-whitejpg.jpg
ORGANIZER;CN="Abbie":MAILTO:barnesab@myrtlelearning.com
END:VEVENT
BEGIN:VEVENT
DTSTART;TZID=UTC:20260511T130000
DTEND;TZID=UTC:20260511T150000
DTSTAMP:20260421T063048
CREATED:20250909T120836Z
LAST-MODIFIED:20251014T101904Z
UID:10080776-1778504400-1778511600@myrtlelearning.com
SUMMARY:27GS Myrtle HE1
DESCRIPTION:27GS Myrtle HE1 \nThese group is made of students preparing for their Science exams in 2025/2026 \nSelect the button below to join the lesson online \n \n 
URL:https://myrtlelearning.com/event/25gs-myrtle-he1-2-2/2026-05-11/
LOCATION:Online Session\, 25 Pattens Gardens\, Rochester\, Other\, ME1 2QP\, United Kingdom
CATEGORIES:27GS Myrtle HE1
ATTACH;FMTTYPE=image/jpeg:https://myrtlelearning.com/wp-content/uploads/2023/08/myrtle-icon-whitejpg.jpg
ORGANIZER;CN="Abbie":MAILTO:barnesab@myrtlelearning.com
END:VEVENT
BEGIN:VEVENT
DTSTART;TZID=UTC:20260512T130000
DTEND;TZID=UTC:20260512T150000
DTSTAMP:20260421T063048
CREATED:20250909T120836Z
LAST-MODIFIED:20251014T101904Z
UID:10079711-1778590800-1778598000@myrtlelearning.com
SUMMARY:27GS Myrtle HE1
DESCRIPTION:27GS Myrtle HE1 \nThese group is made of students preparing for their Science exams in 2025/2026 \nSelect the button below to join the lesson online \n \n 
URL:https://myrtlelearning.com/event/25gs-myrtle-he1-2-2/2026-05-12/
LOCATION:Online Session\, 25 Pattens Gardens\, Rochester\, Other\, ME1 2QP\, United Kingdom
CATEGORIES:27GS Myrtle HE1
ATTACH;FMTTYPE=image/jpeg:https://myrtlelearning.com/wp-content/uploads/2023/08/myrtle-icon-whitejpg.jpg
ORGANIZER;CN="Abbie":MAILTO:barnesab@myrtlelearning.com
END:VEVENT
BEGIN:VEVENT
DTSTART;TZID=UTC:20260513T130000
DTEND;TZID=UTC:20260513T150000
DTSTAMP:20260421T063048
CREATED:20250909T120836Z
LAST-MODIFIED:20251014T101904Z
UID:10082900-1778677200-1778684400@myrtlelearning.com
SUMMARY:27GS Myrtle HE1
DESCRIPTION:27GS Myrtle HE1 \nThese group is made of students preparing for their Science exams in 2025/2026 \nSelect the button below to join the lesson online \n \n 
URL:https://myrtlelearning.com/event/25gs-myrtle-he1-2-2/2026-05-13/
LOCATION:Online Session\, 25 Pattens Gardens\, Rochester\, Other\, ME1 2QP\, United Kingdom
CATEGORIES:27GS Myrtle HE1
ATTACH;FMTTYPE=image/jpeg:https://myrtlelearning.com/wp-content/uploads/2023/08/myrtle-icon-whitejpg.jpg
ORGANIZER;CN="Abbie":MAILTO:barnesab@myrtlelearning.com
END:VEVENT
BEGIN:VEVENT
DTSTART;TZID=UTC:20260518T130000
DTEND;TZID=UTC:20260518T150000
DTSTAMP:20260421T063048
CREATED:20250909T120836Z
LAST-MODIFIED:20251014T101904Z
UID:10080777-1779109200-1779116400@myrtlelearning.com
SUMMARY:27GS Myrtle HE1
DESCRIPTION:27GS Myrtle HE1 \nThese group is made of students preparing for their Science exams in 2025/2026 \nSelect the button below to join the lesson online \n \n 
URL:https://myrtlelearning.com/event/25gs-myrtle-he1-2-2/2026-05-18/
LOCATION:Online Session\, 25 Pattens Gardens\, Rochester\, Other\, ME1 2QP\, United Kingdom
CATEGORIES:27GS Myrtle HE1
ATTACH;FMTTYPE=image/jpeg:https://myrtlelearning.com/wp-content/uploads/2023/08/myrtle-icon-whitejpg.jpg
ORGANIZER;CN="Abbie":MAILTO:barnesab@myrtlelearning.com
END:VEVENT
BEGIN:VEVENT
DTSTART;TZID=UTC:20260519T130000
DTEND;TZID=UTC:20260519T150000
DTSTAMP:20260421T063048
CREATED:20250909T120836Z
LAST-MODIFIED:20251014T101904Z
UID:10079712-1779195600-1779202800@myrtlelearning.com
SUMMARY:27GS Myrtle HE1
DESCRIPTION:27GS Myrtle HE1 \nThese group is made of students preparing for their Science exams in 2025/2026 \nSelect the button below to join the lesson online \n \n 
URL:https://myrtlelearning.com/event/25gs-myrtle-he1-2-2/2026-05-19/
LOCATION:Online Session\, 25 Pattens Gardens\, Rochester\, Other\, ME1 2QP\, United Kingdom
CATEGORIES:27GS Myrtle HE1
ATTACH;FMTTYPE=image/jpeg:https://myrtlelearning.com/wp-content/uploads/2023/08/myrtle-icon-whitejpg.jpg
ORGANIZER;CN="Abbie":MAILTO:barnesab@myrtlelearning.com
END:VEVENT
BEGIN:VEVENT
DTSTART;TZID=UTC:20260520T130000
DTEND;TZID=UTC:20260520T150000
DTSTAMP:20260421T063048
CREATED:20250909T120836Z
LAST-MODIFIED:20251014T101904Z
UID:10082901-1779282000-1779289200@myrtlelearning.com
SUMMARY:27GS Myrtle HE1
DESCRIPTION:27GS Myrtle HE1 \nThese group is made of students preparing for their Science exams in 2025/2026 \nSelect the button below to join the lesson online \n \n 
URL:https://myrtlelearning.com/event/25gs-myrtle-he1-2-2/2026-05-20/
LOCATION:Online Session\, 25 Pattens Gardens\, Rochester\, Other\, ME1 2QP\, United Kingdom
CATEGORIES:27GS Myrtle HE1
ATTACH;FMTTYPE=image/jpeg:https://myrtlelearning.com/wp-content/uploads/2023/08/myrtle-icon-whitejpg.jpg
ORGANIZER;CN="Abbie":MAILTO:barnesab@myrtlelearning.com
END:VEVENT
BEGIN:VEVENT
DTSTART;TZID=UTC:20260525T130000
DTEND;TZID=UTC:20260525T150000
DTSTAMP:20260421T063048
CREATED:20250909T120836Z
LAST-MODIFIED:20251014T101904Z
UID:10080778-1779714000-1779721200@myrtlelearning.com
SUMMARY:27GS Myrtle HE1
DESCRIPTION:27GS Myrtle HE1 \nThese group is made of students preparing for their Science exams in 2025/2026 \nSelect the button below to join the lesson online \n \n 
URL:https://myrtlelearning.com/event/25gs-myrtle-he1-2-2/2026-05-25/
LOCATION:Online Session\, 25 Pattens Gardens\, Rochester\, Other\, ME1 2QP\, United Kingdom
CATEGORIES:27GS Myrtle HE1
ATTACH;FMTTYPE=image/jpeg:https://myrtlelearning.com/wp-content/uploads/2023/08/myrtle-icon-whitejpg.jpg
ORGANIZER;CN="Abbie":MAILTO:barnesab@myrtlelearning.com
END:VEVENT
BEGIN:VEVENT
DTSTART;TZID=UTC:20260526T130000
DTEND;TZID=UTC:20260526T150000
DTSTAMP:20260421T063048
CREATED:20250909T120836Z
LAST-MODIFIED:20251014T101904Z
UID:10079713-1779800400-1779807600@myrtlelearning.com
SUMMARY:27GS Myrtle HE1
DESCRIPTION:27GS Myrtle HE1 \nThese group is made of students preparing for their Science exams in 2025/2026 \nSelect the button below to join the lesson online \n \n 
URL:https://myrtlelearning.com/event/25gs-myrtle-he1-2-2/2026-05-26/
LOCATION:Online Session\, 25 Pattens Gardens\, Rochester\, Other\, ME1 2QP\, United Kingdom
CATEGORIES:27GS Myrtle HE1
ATTACH;FMTTYPE=image/jpeg:https://myrtlelearning.com/wp-content/uploads/2023/08/myrtle-icon-whitejpg.jpg
ORGANIZER;CN="Abbie":MAILTO:barnesab@myrtlelearning.com
END:VEVENT
BEGIN:VEVENT
DTSTART;TZID=UTC:20260527T130000
DTEND;TZID=UTC:20260527T150000
DTSTAMP:20260421T063048
CREATED:20250909T120836Z
LAST-MODIFIED:20251014T101904Z
UID:10082902-1779886800-1779894000@myrtlelearning.com
SUMMARY:27GS Myrtle HE1
DESCRIPTION:27GS Myrtle HE1 \nThese group is made of students preparing for their Science exams in 2025/2026 \nSelect the button below to join the lesson online \n \n 
URL:https://myrtlelearning.com/event/25gs-myrtle-he1-2-2/2026-05-27/
LOCATION:Online Session\, 25 Pattens Gardens\, Rochester\, Other\, ME1 2QP\, United Kingdom
CATEGORIES:27GS Myrtle HE1
ATTACH;FMTTYPE=image/jpeg:https://myrtlelearning.com/wp-content/uploads/2023/08/myrtle-icon-whitejpg.jpg
ORGANIZER;CN="Abbie":MAILTO:barnesab@myrtlelearning.com
END:VEVENT
END:VCALENDAR