BEGIN:VCALENDAR
VERSION:2.0
PRODID:-//Myrtle Learning - ECPv6.15.3//NONSGML v1.0//EN
CALSCALE:GREGORIAN
METHOD:PUBLISH
X-ORIGINAL-URL:https://myrtlelearning.com
X-WR-CALDESC:Events for Myrtle Learning
REFRESH-INTERVAL;VALUE=DURATION:PT1H
X-Robots-Tag:noindex
X-PUBLISHED-TTL:PT1H
BEGIN:VTIMEZONE
TZID:UTC
BEGIN:STANDARD
TZOFFSETFROM:+0000
TZOFFSETTO:+0000
TZNAME:UTC
DTSTART:20260101T000000
END:STANDARD
END:VTIMEZONE
BEGIN:VEVENT
DTSTART;TZID=UTC:20261005T170000
DTEND;TZID=UTC:20261005T190000
DTSTAMP:20260421T073835
CREATED:20260420T150514Z
LAST-MODIFIED:20260420T150514Z
UID:10103122-1791219600-1791226800@myrtlelearning.com
SUMMARY:27IBMA Myrtle 1
DESCRIPTION:27IBMA Myrtle 1  \nThis lesson covers Key Stage 3 English \nSelect the button below to join the lesson online
URL:https://myrtlelearning.com/event/27ibma-myrtle-1/2026-10-05/
LOCATION:Online Session\, 25 Pattens Gardens\, Rochester\, Other\, ME1 2QP\, United Kingdom
CATEGORIES:27IBMA Myrtle 1
ATTACH;FMTTYPE=image/jpeg:https://myrtlelearning.com/wp-content/uploads/2023/08/myrtle-icon-whitejpg.jpg
ORGANIZER;CN="Abbie":MAILTO:barnesab@myrtlelearning.com
END:VEVENT
BEGIN:VEVENT
DTSTART;TZID=UTC:20261012T170000
DTEND;TZID=UTC:20261012T190000
DTSTAMP:20260421T073835
CREATED:20260420T150514Z
LAST-MODIFIED:20260420T150514Z
UID:10103123-1791824400-1791831600@myrtlelearning.com
SUMMARY:27IBMA Myrtle 1
DESCRIPTION:27IBMA Myrtle 1  \nThis lesson covers Key Stage 3 English \nSelect the button below to join the lesson online
URL:https://myrtlelearning.com/event/27ibma-myrtle-1/2026-10-12/
LOCATION:Online Session\, 25 Pattens Gardens\, Rochester\, Other\, ME1 2QP\, United Kingdom
CATEGORIES:27IBMA Myrtle 1
ATTACH;FMTTYPE=image/jpeg:https://myrtlelearning.com/wp-content/uploads/2023/08/myrtle-icon-whitejpg.jpg
ORGANIZER;CN="Abbie":MAILTO:barnesab@myrtlelearning.com
END:VEVENT
BEGIN:VEVENT
DTSTART;TZID=UTC:20261019T170000
DTEND;TZID=UTC:20261019T190000
DTSTAMP:20260421T073835
CREATED:20260420T150514Z
LAST-MODIFIED:20260420T150514Z
UID:10103124-1792429200-1792436400@myrtlelearning.com
SUMMARY:27IBMA Myrtle 1
DESCRIPTION:27IBMA Myrtle 1  \nThis lesson covers Key Stage 3 English \nSelect the button below to join the lesson online
URL:https://myrtlelearning.com/event/27ibma-myrtle-1/2026-10-19/
LOCATION:Online Session\, 25 Pattens Gardens\, Rochester\, Other\, ME1 2QP\, United Kingdom
CATEGORIES:27IBMA Myrtle 1
ATTACH;FMTTYPE=image/jpeg:https://myrtlelearning.com/wp-content/uploads/2023/08/myrtle-icon-whitejpg.jpg
ORGANIZER;CN="Abbie":MAILTO:barnesab@myrtlelearning.com
END:VEVENT
BEGIN:VEVENT
DTSTART;TZID=UTC:20261026T170000
DTEND;TZID=UTC:20261026T190000
DTSTAMP:20260421T073835
CREATED:20260420T150514Z
LAST-MODIFIED:20260420T150514Z
UID:10103125-1793034000-1793041200@myrtlelearning.com
SUMMARY:27IBMA Myrtle 1
DESCRIPTION:27IBMA Myrtle 1  \nThis lesson covers Key Stage 3 English \nSelect the button below to join the lesson online
URL:https://myrtlelearning.com/event/27ibma-myrtle-1/2026-10-26/
LOCATION:Online Session\, 25 Pattens Gardens\, Rochester\, Other\, ME1 2QP\, United Kingdom
CATEGORIES:27IBMA Myrtle 1
ATTACH;FMTTYPE=image/jpeg:https://myrtlelearning.com/wp-content/uploads/2023/08/myrtle-icon-whitejpg.jpg
ORGANIZER;CN="Abbie":MAILTO:barnesab@myrtlelearning.com
END:VEVENT
END:VCALENDAR