BEGIN:VCALENDAR
VERSION:2.0
PRODID:-//Myrtle Learning - ECPv6.15.3//NONSGML v1.0//EN
CALSCALE:GREGORIAN
METHOD:PUBLISH
X-WR-CALNAME:Myrtle Learning
X-ORIGINAL-URL:https://myrtlelearning.com
X-WR-CALDESC:Events for Myrtle Learning
REFRESH-INTERVAL;VALUE=DURATION:PT1H
X-Robots-Tag:noindex
X-PUBLISHED-TTL:PT1H
BEGIN:VTIMEZONE
TZID:UTC
BEGIN:STANDARD
TZOFFSETFROM:+0000
TZOFFSETTO:+0000
TZNAME:UTC
DTSTART:20270101T000000
END:STANDARD
END:VTIMEZONE
BEGIN:VEVENT
DTSTART;TZID=UTC:20271101T170000
DTEND;TZID=UTC:20271101T190000
DTSTAMP:20260422T025617
CREATED:20260420T150514Z
LAST-MODIFIED:20260420T150514Z
UID:10103178-1825088400-1825095600@myrtlelearning.com
SUMMARY:27IBMA Myrtle 1
DESCRIPTION:27IBMA Myrtle 1  \nThis lesson covers Key Stage 3 English \nSelect the button below to join the lesson online
URL:https://myrtlelearning.com/event/27ibma-myrtle-1/2027-11-01/
LOCATION:Online Session\, 25 Pattens Gardens\, Rochester\, Other\, ME1 2QP\, United Kingdom
CATEGORIES:27IBMA Myrtle 1
ATTACH;FMTTYPE=image/jpeg:https://myrtlelearning.com/wp-content/uploads/2023/08/myrtle-icon-whitejpg.jpg
ORGANIZER;CN="Abbie":MAILTO:barnesab@myrtlelearning.com
END:VEVENT
BEGIN:VEVENT
DTSTART;TZID=UTC:20271108T170000
DTEND;TZID=UTC:20271108T190000
DTSTAMP:20260422T025617
CREATED:20260420T150514Z
LAST-MODIFIED:20260420T150514Z
UID:10103179-1825693200-1825700400@myrtlelearning.com
SUMMARY:27IBMA Myrtle 1
DESCRIPTION:27IBMA Myrtle 1  \nThis lesson covers Key Stage 3 English \nSelect the button below to join the lesson online
URL:https://myrtlelearning.com/event/27ibma-myrtle-1/2027-11-08/
LOCATION:Online Session\, 25 Pattens Gardens\, Rochester\, Other\, ME1 2QP\, United Kingdom
CATEGORIES:27IBMA Myrtle 1
ATTACH;FMTTYPE=image/jpeg:https://myrtlelearning.com/wp-content/uploads/2023/08/myrtle-icon-whitejpg.jpg
ORGANIZER;CN="Abbie":MAILTO:barnesab@myrtlelearning.com
END:VEVENT
BEGIN:VEVENT
DTSTART;TZID=UTC:20271115T170000
DTEND;TZID=UTC:20271115T190000
DTSTAMP:20260422T025617
CREATED:20260420T150514Z
LAST-MODIFIED:20260420T150514Z
UID:10103180-1826298000-1826305200@myrtlelearning.com
SUMMARY:27IBMA Myrtle 1
DESCRIPTION:27IBMA Myrtle 1  \nThis lesson covers Key Stage 3 English \nSelect the button below to join the lesson online
URL:https://myrtlelearning.com/event/27ibma-myrtle-1/2027-11-15/
LOCATION:Online Session\, 25 Pattens Gardens\, Rochester\, Other\, ME1 2QP\, United Kingdom
CATEGORIES:27IBMA Myrtle 1
ATTACH;FMTTYPE=image/jpeg:https://myrtlelearning.com/wp-content/uploads/2023/08/myrtle-icon-whitejpg.jpg
ORGANIZER;CN="Abbie":MAILTO:barnesab@myrtlelearning.com
END:VEVENT
BEGIN:VEVENT
DTSTART;TZID=UTC:20271122T170000
DTEND;TZID=UTC:20271122T190000
DTSTAMP:20260422T025617
CREATED:20260420T150514Z
LAST-MODIFIED:20260420T150514Z
UID:10103181-1826902800-1826910000@myrtlelearning.com
SUMMARY:27IBMA Myrtle 1
DESCRIPTION:27IBMA Myrtle 1  \nThis lesson covers Key Stage 3 English \nSelect the button below to join the lesson online
URL:https://myrtlelearning.com/event/27ibma-myrtle-1/2027-11-22/
LOCATION:Online Session\, 25 Pattens Gardens\, Rochester\, Other\, ME1 2QP\, United Kingdom
CATEGORIES:27IBMA Myrtle 1
ATTACH;FMTTYPE=image/jpeg:https://myrtlelearning.com/wp-content/uploads/2023/08/myrtle-icon-whitejpg.jpg
ORGANIZER;CN="Abbie":MAILTO:barnesab@myrtlelearning.com
END:VEVENT
BEGIN:VEVENT
DTSTART;TZID=UTC:20271129T170000
DTEND;TZID=UTC:20271129T190000
DTSTAMP:20260422T025617
CREATED:20260420T150514Z
LAST-MODIFIED:20260420T150514Z
UID:10103182-1827507600-1827514800@myrtlelearning.com
SUMMARY:27IBMA Myrtle 1
DESCRIPTION:27IBMA Myrtle 1  \nThis lesson covers Key Stage 3 English \nSelect the button below to join the lesson online
URL:https://myrtlelearning.com/event/27ibma-myrtle-1/2027-11-29/
LOCATION:Online Session\, 25 Pattens Gardens\, Rochester\, Other\, ME1 2QP\, United Kingdom
CATEGORIES:27IBMA Myrtle 1
ATTACH;FMTTYPE=image/jpeg:https://myrtlelearning.com/wp-content/uploads/2023/08/myrtle-icon-whitejpg.jpg
ORGANIZER;CN="Abbie":MAILTO:barnesab@myrtlelearning.com
END:VEVENT
END:VCALENDAR