BEGIN:VCALENDAR
VERSION:2.0
PRODID:-//Myrtle Learning - ECPv6.15.3//NONSGML v1.0//EN
CALSCALE:GREGORIAN
METHOD:PUBLISH
X-WR-CALNAME:Myrtle Learning
X-ORIGINAL-URL:https://myrtlelearning.com
X-WR-CALDESC:Events for Myrtle Learning
REFRESH-INTERVAL;VALUE=DURATION:PT1H
X-Robots-Tag:noindex
X-PUBLISHED-TTL:PT1H
BEGIN:VTIMEZONE
TZID:UTC
BEGIN:STANDARD
TZOFFSETFROM:+0000
TZOFFSETTO:+0000
TZNAME:UTC
DTSTART:20280101T000000
END:STANDARD
END:VTIMEZONE
BEGIN:VEVENT
DTSTART;TZID=UTC:20280501T170000
DTEND;TZID=UTC:20280501T190000
DTSTAMP:20260422T113053
CREATED:20260420T150514Z
LAST-MODIFIED:20260420T150514Z
UID:10103204-1840813200-1840820400@myrtlelearning.com
SUMMARY:27IBMA Myrtle 1
DESCRIPTION:27IBMA Myrtle 1  \nThis lesson covers Key Stage 3 English \nSelect the button below to join the lesson online
URL:https://myrtlelearning.com/event/27ibma-myrtle-1/2028-05-01/
LOCATION:Online Session\, 25 Pattens Gardens\, Rochester\, Other\, ME1 2QP\, United Kingdom
CATEGORIES:27IBMA Myrtle 1
ATTACH;FMTTYPE=image/jpeg:https://myrtlelearning.com/wp-content/uploads/2023/08/myrtle-icon-whitejpg.jpg
ORGANIZER;CN="Abbie":MAILTO:barnesab@myrtlelearning.com
END:VEVENT
BEGIN:VEVENT
DTSTART;TZID=UTC:20280508T170000
DTEND;TZID=UTC:20280508T190000
DTSTAMP:20260422T113053
CREATED:20260420T150514Z
LAST-MODIFIED:20260420T150514Z
UID:10103205-1841418000-1841425200@myrtlelearning.com
SUMMARY:27IBMA Myrtle 1
DESCRIPTION:27IBMA Myrtle 1  \nThis lesson covers Key Stage 3 English \nSelect the button below to join the lesson online
URL:https://myrtlelearning.com/event/27ibma-myrtle-1/2028-05-08/
LOCATION:Online Session\, 25 Pattens Gardens\, Rochester\, Other\, ME1 2QP\, United Kingdom
CATEGORIES:27IBMA Myrtle 1
ATTACH;FMTTYPE=image/jpeg:https://myrtlelearning.com/wp-content/uploads/2023/08/myrtle-icon-whitejpg.jpg
ORGANIZER;CN="Abbie":MAILTO:barnesab@myrtlelearning.com
END:VEVENT
BEGIN:VEVENT
DTSTART;TZID=UTC:20280515T170000
DTEND;TZID=UTC:20280515T190000
DTSTAMP:20260422T113053
CREATED:20260420T150514Z
LAST-MODIFIED:20260420T150514Z
UID:10103206-1842022800-1842030000@myrtlelearning.com
SUMMARY:27IBMA Myrtle 1
DESCRIPTION:27IBMA Myrtle 1  \nThis lesson covers Key Stage 3 English \nSelect the button below to join the lesson online
URL:https://myrtlelearning.com/event/27ibma-myrtle-1/2028-05-15/
LOCATION:Online Session\, 25 Pattens Gardens\, Rochester\, Other\, ME1 2QP\, United Kingdom
CATEGORIES:27IBMA Myrtle 1
ATTACH;FMTTYPE=image/jpeg:https://myrtlelearning.com/wp-content/uploads/2023/08/myrtle-icon-whitejpg.jpg
ORGANIZER;CN="Abbie":MAILTO:barnesab@myrtlelearning.com
END:VEVENT
BEGIN:VEVENT
DTSTART;TZID=UTC:20280522T170000
DTEND;TZID=UTC:20280522T190000
DTSTAMP:20260422T113053
CREATED:20260420T150514Z
LAST-MODIFIED:20260420T150514Z
UID:10103207-1842627600-1842634800@myrtlelearning.com
SUMMARY:27IBMA Myrtle 1
DESCRIPTION:27IBMA Myrtle 1  \nThis lesson covers Key Stage 3 English \nSelect the button below to join the lesson online
URL:https://myrtlelearning.com/event/27ibma-myrtle-1/2028-05-22/
LOCATION:Online Session\, 25 Pattens Gardens\, Rochester\, Other\, ME1 2QP\, United Kingdom
CATEGORIES:27IBMA Myrtle 1
ATTACH;FMTTYPE=image/jpeg:https://myrtlelearning.com/wp-content/uploads/2023/08/myrtle-icon-whitejpg.jpg
ORGANIZER;CN="Abbie":MAILTO:barnesab@myrtlelearning.com
END:VEVENT
BEGIN:VEVENT
DTSTART;TZID=UTC:20280529T170000
DTEND;TZID=UTC:20280529T190000
DTSTAMP:20260422T113053
CREATED:20260420T150514Z
LAST-MODIFIED:20260420T150514Z
UID:10103208-1843232400-1843239600@myrtlelearning.com
SUMMARY:27IBMA Myrtle 1
DESCRIPTION:27IBMA Myrtle 1  \nThis lesson covers Key Stage 3 English \nSelect the button below to join the lesson online
URL:https://myrtlelearning.com/event/27ibma-myrtle-1/2028-05-29/
LOCATION:Online Session\, 25 Pattens Gardens\, Rochester\, Other\, ME1 2QP\, United Kingdom
CATEGORIES:27IBMA Myrtle 1
ATTACH;FMTTYPE=image/jpeg:https://myrtlelearning.com/wp-content/uploads/2023/08/myrtle-icon-whitejpg.jpg
ORGANIZER;CN="Abbie":MAILTO:barnesab@myrtlelearning.com
END:VEVENT
END:VCALENDAR