BEGIN:VCALENDAR
VERSION:2.0
PRODID:-//Myrtle Learning - ECPv6.15.3//NONSGML v1.0//EN
CALSCALE:GREGORIAN
METHOD:PUBLISH
X-WR-CALNAME:Myrtle Learning
X-ORIGINAL-URL:https://myrtlelearning.com
X-WR-CALDESC:Events for Myrtle Learning
REFRESH-INTERVAL;VALUE=DURATION:PT1H
X-Robots-Tag:noindex
X-PUBLISHED-TTL:PT1H
BEGIN:VTIMEZONE
TZID:UTC
BEGIN:STANDARD
TZOFFSETFROM:+0000
TZOFFSETTO:+0000
TZNAME:UTC
DTSTART:20280101T000000
END:STANDARD
END:VTIMEZONE
BEGIN:VEVENT
DTSTART;TZID=UTC:20281002T170000
DTEND;TZID=UTC:20281002T190000
DTSTAMP:20260422T174352
CREATED:20260420T150514Z
LAST-MODIFIED:20260420T150514Z
UID:10103226-1854118800-1854126000@myrtlelearning.com
SUMMARY:27IBMA Myrtle 1
DESCRIPTION:27IBMA Myrtle 1  \nThis lesson covers Key Stage 3 English \nSelect the button below to join the lesson online
URL:https://myrtlelearning.com/event/27ibma-myrtle-1/2028-10-02/
LOCATION:Online Session\, 25 Pattens Gardens\, Rochester\, Other\, ME1 2QP\, United Kingdom
CATEGORIES:27IBMA Myrtle 1
ATTACH;FMTTYPE=image/jpeg:https://myrtlelearning.com/wp-content/uploads/2023/08/myrtle-icon-whitejpg.jpg
ORGANIZER;CN="Abbie":MAILTO:barnesab@myrtlelearning.com
END:VEVENT
BEGIN:VEVENT
DTSTART;TZID=UTC:20281009T170000
DTEND;TZID=UTC:20281009T190000
DTSTAMP:20260422T174352
CREATED:20260420T150514Z
LAST-MODIFIED:20260420T150514Z
UID:10103227-1854723600-1854730800@myrtlelearning.com
SUMMARY:27IBMA Myrtle 1
DESCRIPTION:27IBMA Myrtle 1  \nThis lesson covers Key Stage 3 English \nSelect the button below to join the lesson online
URL:https://myrtlelearning.com/event/27ibma-myrtle-1/2028-10-09/
LOCATION:Online Session\, 25 Pattens Gardens\, Rochester\, Other\, ME1 2QP\, United Kingdom
CATEGORIES:27IBMA Myrtle 1
ATTACH;FMTTYPE=image/jpeg:https://myrtlelearning.com/wp-content/uploads/2023/08/myrtle-icon-whitejpg.jpg
ORGANIZER;CN="Abbie":MAILTO:barnesab@myrtlelearning.com
END:VEVENT
BEGIN:VEVENT
DTSTART;TZID=UTC:20281016T170000
DTEND;TZID=UTC:20281016T190000
DTSTAMP:20260422T174352
CREATED:20260420T150514Z
LAST-MODIFIED:20260420T150514Z
UID:10103228-1855328400-1855335600@myrtlelearning.com
SUMMARY:27IBMA Myrtle 1
DESCRIPTION:27IBMA Myrtle 1  \nThis lesson covers Key Stage 3 English \nSelect the button below to join the lesson online
URL:https://myrtlelearning.com/event/27ibma-myrtle-1/2028-10-16/
LOCATION:Online Session\, 25 Pattens Gardens\, Rochester\, Other\, ME1 2QP\, United Kingdom
CATEGORIES:27IBMA Myrtle 1
ATTACH;FMTTYPE=image/jpeg:https://myrtlelearning.com/wp-content/uploads/2023/08/myrtle-icon-whitejpg.jpg
ORGANIZER;CN="Abbie":MAILTO:barnesab@myrtlelearning.com
END:VEVENT
BEGIN:VEVENT
DTSTART;TZID=UTC:20281023T170000
DTEND;TZID=UTC:20281023T190000
DTSTAMP:20260422T174352
CREATED:20260420T150514Z
LAST-MODIFIED:20260420T150514Z
UID:10103229-1855933200-1855940400@myrtlelearning.com
SUMMARY:27IBMA Myrtle 1
DESCRIPTION:27IBMA Myrtle 1  \nThis lesson covers Key Stage 3 English \nSelect the button below to join the lesson online
URL:https://myrtlelearning.com/event/27ibma-myrtle-1/2028-10-23/
LOCATION:Online Session\, 25 Pattens Gardens\, Rochester\, Other\, ME1 2QP\, United Kingdom
CATEGORIES:27IBMA Myrtle 1
ATTACH;FMTTYPE=image/jpeg:https://myrtlelearning.com/wp-content/uploads/2023/08/myrtle-icon-whitejpg.jpg
ORGANIZER;CN="Abbie":MAILTO:barnesab@myrtlelearning.com
END:VEVENT
BEGIN:VEVENT
DTSTART;TZID=UTC:20281030T170000
DTEND;TZID=UTC:20281030T190000
DTSTAMP:20260422T174352
CREATED:20260420T150514Z
LAST-MODIFIED:20260420T150514Z
UID:10103230-1856538000-1856545200@myrtlelearning.com
SUMMARY:27IBMA Myrtle 1
DESCRIPTION:27IBMA Myrtle 1  \nThis lesson covers Key Stage 3 English \nSelect the button below to join the lesson online
URL:https://myrtlelearning.com/event/27ibma-myrtle-1/2028-10-30/
LOCATION:Online Session\, 25 Pattens Gardens\, Rochester\, Other\, ME1 2QP\, United Kingdom
CATEGORIES:27IBMA Myrtle 1
ATTACH;FMTTYPE=image/jpeg:https://myrtlelearning.com/wp-content/uploads/2023/08/myrtle-icon-whitejpg.jpg
ORGANIZER;CN="Abbie":MAILTO:barnesab@myrtlelearning.com
END:VEVENT
END:VCALENDAR