BEGIN:VCALENDAR
VERSION:2.0
PRODID:-//Myrtle Learning - ECPv6.15.3//NONSGML v1.0//EN
CALSCALE:GREGORIAN
METHOD:PUBLISH
X-WR-CALNAME:Myrtle Learning
X-ORIGINAL-URL:https://myrtlelearning.com
X-WR-CALDESC:Events for Myrtle Learning
REFRESH-INTERVAL;VALUE=DURATION:PT1H
X-Robots-Tag:noindex
X-PUBLISHED-TTL:PT1H
BEGIN:VTIMEZONE
TZID:UTC
BEGIN:STANDARD
TZOFFSETFROM:+0000
TZOFFSETTO:+0000
TZNAME:UTC
DTSTART:20260101T000000
END:STANDARD
END:VTIMEZONE
BEGIN:VEVENT
DTSTART;TZID=UTC:20260305T180000
DTEND;TZID=UTC:20260305T190000
DTSTAMP:20260421T023850
CREATED:20260204T172750Z
LAST-MODIFIED:20260204T172751Z
UID:10096710-1772733600-1772737200@myrtlelearning.com
SUMMARY:28GM Myrtle 1
DESCRIPTION:28GM Myrtle 1 \nThis group are preparing for their GCSE exams in 2028. Their lessons cover Mathematics Key Stage 3 to GCSE
URL:https://myrtlelearning.com/event/ks3-yr-6-myrtle-1-2-2-3/2026-03-05/
LOCATION:Myrtle Learning Centre\, Pattens Gardens\, Rochester\, Kent\, ME1 2QP\, United Kingdom
CATEGORIES:28GM Myrtle 1
ATTACH;FMTTYPE=image/jpeg:https://myrtlelearning.com/wp-content/uploads/2023/08/myrtle-icon-whitejpg.jpg
END:VEVENT
BEGIN:VEVENT
DTSTART;TZID=UTC:20260312T180000
DTEND;TZID=UTC:20260312T190000
DTSTAMP:20260421T023850
CREATED:20260204T172750Z
LAST-MODIFIED:20260204T172751Z
UID:10096711-1773338400-1773342000@myrtlelearning.com
SUMMARY:28GM Myrtle 1
DESCRIPTION:28GM Myrtle 1 \nThis group are preparing for their GCSE exams in 2028. Their lessons cover Mathematics Key Stage 3 to GCSE
URL:https://myrtlelearning.com/event/ks3-yr-6-myrtle-1-2-2-3/2026-03-12/
LOCATION:Myrtle Learning Centre\, Pattens Gardens\, Rochester\, Kent\, ME1 2QP\, United Kingdom
CATEGORIES:28GM Myrtle 1
ATTACH;FMTTYPE=image/jpeg:https://myrtlelearning.com/wp-content/uploads/2023/08/myrtle-icon-whitejpg.jpg
END:VEVENT
BEGIN:VEVENT
DTSTART;TZID=UTC:20260319T180000
DTEND;TZID=UTC:20260319T190000
DTSTAMP:20260421T023850
CREATED:20260204T172750Z
LAST-MODIFIED:20260204T172751Z
UID:10096712-1773943200-1773946800@myrtlelearning.com
SUMMARY:28GM Myrtle 1
DESCRIPTION:28GM Myrtle 1 \nThis group are preparing for their GCSE exams in 2028. Their lessons cover Mathematics Key Stage 3 to GCSE
URL:https://myrtlelearning.com/event/ks3-yr-6-myrtle-1-2-2-3/2026-03-19/
LOCATION:Myrtle Learning Centre\, Pattens Gardens\, Rochester\, Kent\, ME1 2QP\, United Kingdom
CATEGORIES:28GM Myrtle 1
ATTACH;FMTTYPE=image/jpeg:https://myrtlelearning.com/wp-content/uploads/2023/08/myrtle-icon-whitejpg.jpg
END:VEVENT
BEGIN:VEVENT
DTSTART;TZID=UTC:20260326T180000
DTEND;TZID=UTC:20260326T190000
DTSTAMP:20260421T023850
CREATED:20260204T172750Z
LAST-MODIFIED:20260204T172751Z
UID:10096713-1774548000-1774551600@myrtlelearning.com
SUMMARY:28GM Myrtle 1
DESCRIPTION:28GM Myrtle 1 \nThis group are preparing for their GCSE exams in 2028. Their lessons cover Mathematics Key Stage 3 to GCSE
URL:https://myrtlelearning.com/event/ks3-yr-6-myrtle-1-2-2-3/2026-03-26/
LOCATION:Myrtle Learning Centre\, Pattens Gardens\, Rochester\, Kent\, ME1 2QP\, United Kingdom
CATEGORIES:28GM Myrtle 1
ATTACH;FMTTYPE=image/jpeg:https://myrtlelearning.com/wp-content/uploads/2023/08/myrtle-icon-whitejpg.jpg
END:VEVENT
END:VCALENDAR