BEGIN:VCALENDAR
VERSION:2.0
PRODID:-//Myrtle Learning - ECPv6.15.3//NONSGML v1.0//EN
CALSCALE:GREGORIAN
METHOD:PUBLISH
X-WR-CALNAME:Myrtle Learning
X-ORIGINAL-URL:https://myrtlelearning.com
X-WR-CALDESC:Events for Myrtle Learning
REFRESH-INTERVAL;VALUE=DURATION:PT1H
X-Robots-Tag:noindex
X-PUBLISHED-TTL:PT1H
BEGIN:VTIMEZONE
TZID:UTC
BEGIN:STANDARD
TZOFFSETFROM:+0000
TZOFFSETTO:+0000
TZNAME:UTC
DTSTART:20240101T000000
END:STANDARD
END:VTIMEZONE
BEGIN:VEVENT
DTSTART;TZID=UTC:20241105T180000
DTEND;TZID=UTC:20241105T190000
DTSTAMP:20260424T135519
CREATED:20241029T164134Z
LAST-MODIFIED:20241029T164135Z
UID:10052081-1730829600-1730833200@myrtlelearning.com
SUMMARY:28GS Myrtle 1
DESCRIPTION:28GS Myrtle 1 \nThis group are preparing for their GCSE exams in 2028. Their lessons cover Science Key Stage 3 to GCSE
URL:https://myrtlelearning.com/event/28gs-myrtle-1-2-2/2024-11-05/
LOCATION:Myrtle Learning Centre\, Pattens Gardens\, Rochester\, Kent\, ME1 2QP\, United Kingdom
CATEGORIES:28GS Myrtle 1
ATTACH;FMTTYPE=image/jpeg:https://myrtlelearning.com/wp-content/uploads/2023/08/myrtle-icon-whitejpg.jpg
END:VEVENT
BEGIN:VEVENT
DTSTART;TZID=UTC:20241112T180000
DTEND;TZID=UTC:20241112T190000
DTSTAMP:20260424T135519
CREATED:20241029T164134Z
LAST-MODIFIED:20241029T164135Z
UID:10052082-1731434400-1731438000@myrtlelearning.com
SUMMARY:28GS Myrtle 1
DESCRIPTION:28GS Myrtle 1 \nThis group are preparing for their GCSE exams in 2028. Their lessons cover Science Key Stage 3 to GCSE
URL:https://myrtlelearning.com/event/28gs-myrtle-1-2-2/2024-11-12/
LOCATION:Myrtle Learning Centre\, Pattens Gardens\, Rochester\, Kent\, ME1 2QP\, United Kingdom
CATEGORIES:28GS Myrtle 1
ATTACH;FMTTYPE=image/jpeg:https://myrtlelearning.com/wp-content/uploads/2023/08/myrtle-icon-whitejpg.jpg
END:VEVENT
BEGIN:VEVENT
DTSTART;TZID=UTC:20241119T180000
DTEND;TZID=UTC:20241119T190000
DTSTAMP:20260424T135519
CREATED:20241029T164134Z
LAST-MODIFIED:20241029T164135Z
UID:10052083-1732039200-1732042800@myrtlelearning.com
SUMMARY:28GS Myrtle 1
DESCRIPTION:28GS Myrtle 1 \nThis group are preparing for their GCSE exams in 2028. Their lessons cover Science Key Stage 3 to GCSE
URL:https://myrtlelearning.com/event/28gs-myrtle-1-2-2/2024-11-19/
LOCATION:Myrtle Learning Centre\, Pattens Gardens\, Rochester\, Kent\, ME1 2QP\, United Kingdom
CATEGORIES:28GS Myrtle 1
ATTACH;FMTTYPE=image/jpeg:https://myrtlelearning.com/wp-content/uploads/2023/08/myrtle-icon-whitejpg.jpg
END:VEVENT
BEGIN:VEVENT
DTSTART;TZID=UTC:20241126T180000
DTEND;TZID=UTC:20241126T190000
DTSTAMP:20260424T135519
CREATED:20241029T164134Z
LAST-MODIFIED:20241029T164135Z
UID:10052084-1732644000-1732647600@myrtlelearning.com
SUMMARY:28GS Myrtle 1
DESCRIPTION:28GS Myrtle 1 \nThis group are preparing for their GCSE exams in 2028. Their lessons cover Science Key Stage 3 to GCSE
URL:https://myrtlelearning.com/event/28gs-myrtle-1-2-2/2024-11-26/
LOCATION:Myrtle Learning Centre\, Pattens Gardens\, Rochester\, Kent\, ME1 2QP\, United Kingdom
CATEGORIES:28GS Myrtle 1
ATTACH;FMTTYPE=image/jpeg:https://myrtlelearning.com/wp-content/uploads/2023/08/myrtle-icon-whitejpg.jpg
END:VEVENT
END:VCALENDAR