BEGIN:VCALENDAR
VERSION:2.0
PRODID:-//Myrtle Learning - ECPv6.15.3//NONSGML v1.0//EN
CALSCALE:GREGORIAN
METHOD:PUBLISH
X-WR-CALNAME:Myrtle Learning
X-ORIGINAL-URL:https://myrtlelearning.com
X-WR-CALDESC:Events for Myrtle Learning
REFRESH-INTERVAL;VALUE=DURATION:PT1H
X-Robots-Tag:noindex
X-PUBLISHED-TTL:PT1H
BEGIN:VTIMEZONE
TZID:UTC
BEGIN:STANDARD
TZOFFSETFROM:+0000
TZOFFSETTO:+0000
TZNAME:UTC
DTSTART:20250101T000000
END:STANDARD
END:VTIMEZONE
BEGIN:VEVENT
DTSTART;TZID=UTC:20250204T170000
DTEND;TZID=UTC:20250204T180000
DTSTAMP:20260422T033330
CREATED:20240620T154950Z
LAST-MODIFIED:20240620T160453Z
UID:10036687-1738688400-1738692000@myrtlelearning.com
SUMMARY:28GS Myrtle 2
DESCRIPTION:28GS Myrtle 2 \nThese group is made of students preparing for their Science exams in 2026 \nSelect the button below to join the lesson online
URL:https://myrtlelearning.com/event/28gs-myrtle-2-2/2025-02-04/
LOCATION:Abbie\, Myrtle Learning\, ME1 2QP\, United Kingdom
CATEGORIES:28GS Myrtle 2
ATTACH;FMTTYPE=image/jpeg:https://myrtlelearning.com/wp-content/uploads/2023/08/myrtle-icon-whitejpg.jpg
ORGANIZER;CN="Abbie":MAILTO:barnesab@myrtlelearning.com
END:VEVENT
BEGIN:VEVENT
DTSTART;TZID=UTC:20250205T163000
DTEND;TZID=UTC:20250205T180000
DTSTAMP:20260422T033330
CREATED:20240619T153005Z
LAST-MODIFIED:20250129T112137Z
UID:10061500-1738773000-1738778400@myrtlelearning.com
SUMMARY:28GS Myrtle 2
DESCRIPTION:28GS Myrtle 2 \nThese group is made of students preparing for their Science exams in 2028 \nSelect the button below to join the lesson online
URL:https://myrtlelearning.com/event/28gs-myrtle-2/2025-02-05/
LOCATION:Myrtle Learning Centre\, Pattens Gardens\, Rochester\, Kent\, ME1 2QP\, United Kingdom
CATEGORIES:28GS Myrtle 2
ATTACH;FMTTYPE=image/jpeg:https://myrtlelearning.com/wp-content/uploads/2023/08/myrtle-icon-whitejpg.jpg
END:VEVENT
BEGIN:VEVENT
DTSTART;TZID=UTC:20250211T170000
DTEND;TZID=UTC:20250211T180000
DTSTAMP:20260422T033330
CREATED:20240620T154950Z
LAST-MODIFIED:20240620T160453Z
UID:10036688-1739293200-1739296800@myrtlelearning.com
SUMMARY:28GS Myrtle 2
DESCRIPTION:28GS Myrtle 2 \nThese group is made of students preparing for their Science exams in 2026 \nSelect the button below to join the lesson online
URL:https://myrtlelearning.com/event/28gs-myrtle-2-2/2025-02-11/
LOCATION:Abbie\, Myrtle Learning\, ME1 2QP\, United Kingdom
CATEGORIES:28GS Myrtle 2
ATTACH;FMTTYPE=image/jpeg:https://myrtlelearning.com/wp-content/uploads/2023/08/myrtle-icon-whitejpg.jpg
ORGANIZER;CN="Abbie":MAILTO:barnesab@myrtlelearning.com
END:VEVENT
BEGIN:VEVENT
DTSTART;TZID=UTC:20250212T163000
DTEND;TZID=UTC:20250212T180000
DTSTAMP:20260422T033330
CREATED:20240619T153005Z
LAST-MODIFIED:20250129T112137Z
UID:10061501-1739377800-1739383200@myrtlelearning.com
SUMMARY:28GS Myrtle 2
DESCRIPTION:28GS Myrtle 2 \nThese group is made of students preparing for their Science exams in 2028 \nSelect the button below to join the lesson online
URL:https://myrtlelearning.com/event/28gs-myrtle-2/2025-02-12/
LOCATION:Myrtle Learning Centre\, Pattens Gardens\, Rochester\, Kent\, ME1 2QP\, United Kingdom
CATEGORIES:28GS Myrtle 2
ATTACH;FMTTYPE=image/jpeg:https://myrtlelearning.com/wp-content/uploads/2023/08/myrtle-icon-whitejpg.jpg
END:VEVENT
BEGIN:VEVENT
DTSTART;TZID=UTC:20250218T170000
DTEND;TZID=UTC:20250218T180000
DTSTAMP:20260422T033330
CREATED:20240620T154950Z
LAST-MODIFIED:20240620T160453Z
UID:10036689-1739898000-1739901600@myrtlelearning.com
SUMMARY:28GS Myrtle 2
DESCRIPTION:28GS Myrtle 2 \nThese group is made of students preparing for their Science exams in 2026 \nSelect the button below to join the lesson online
URL:https://myrtlelearning.com/event/28gs-myrtle-2-2/2025-02-18/
LOCATION:Abbie\, Myrtle Learning\, ME1 2QP\, United Kingdom
CATEGORIES:28GS Myrtle 2
ATTACH;FMTTYPE=image/jpeg:https://myrtlelearning.com/wp-content/uploads/2023/08/myrtle-icon-whitejpg.jpg
ORGANIZER;CN="Abbie":MAILTO:barnesab@myrtlelearning.com
END:VEVENT
BEGIN:VEVENT
DTSTART;TZID=UTC:20250219T163000
DTEND;TZID=UTC:20250219T180000
DTSTAMP:20260422T033330
CREATED:20240619T153005Z
LAST-MODIFIED:20250129T112137Z
UID:10061502-1739982600-1739988000@myrtlelearning.com
SUMMARY:28GS Myrtle 2
DESCRIPTION:28GS Myrtle 2 \nThese group is made of students preparing for their Science exams in 2028 \nSelect the button below to join the lesson online
URL:https://myrtlelearning.com/event/28gs-myrtle-2/2025-02-19/
LOCATION:Myrtle Learning Centre\, Pattens Gardens\, Rochester\, Kent\, ME1 2QP\, United Kingdom
CATEGORIES:28GS Myrtle 2
ATTACH;FMTTYPE=image/jpeg:https://myrtlelearning.com/wp-content/uploads/2023/08/myrtle-icon-whitejpg.jpg
END:VEVENT
BEGIN:VEVENT
DTSTART;TZID=UTC:20250225T170000
DTEND;TZID=UTC:20250225T180000
DTSTAMP:20260422T033330
CREATED:20240620T154950Z
LAST-MODIFIED:20240620T160453Z
UID:10036690-1740502800-1740506400@myrtlelearning.com
SUMMARY:28GS Myrtle 2
DESCRIPTION:28GS Myrtle 2 \nThese group is made of students preparing for their Science exams in 2026 \nSelect the button below to join the lesson online
URL:https://myrtlelearning.com/event/28gs-myrtle-2-2/2025-02-25/
LOCATION:Abbie\, Myrtle Learning\, ME1 2QP\, United Kingdom
CATEGORIES:28GS Myrtle 2
ATTACH;FMTTYPE=image/jpeg:https://myrtlelearning.com/wp-content/uploads/2023/08/myrtle-icon-whitejpg.jpg
ORGANIZER;CN="Abbie":MAILTO:barnesab@myrtlelearning.com
END:VEVENT
BEGIN:VEVENT
DTSTART;TZID=UTC:20250226T163000
DTEND;TZID=UTC:20250226T180000
DTSTAMP:20260422T033330
CREATED:20240619T153005Z
LAST-MODIFIED:20250129T112137Z
UID:10061503-1740587400-1740592800@myrtlelearning.com
SUMMARY:28GS Myrtle 2
DESCRIPTION:28GS Myrtle 2 \nThese group is made of students preparing for their Science exams in 2028 \nSelect the button below to join the lesson online
URL:https://myrtlelearning.com/event/28gs-myrtle-2/2025-02-26/
LOCATION:Myrtle Learning Centre\, Pattens Gardens\, Rochester\, Kent\, ME1 2QP\, United Kingdom
CATEGORIES:28GS Myrtle 2
ATTACH;FMTTYPE=image/jpeg:https://myrtlelearning.com/wp-content/uploads/2023/08/myrtle-icon-whitejpg.jpg
END:VEVENT
END:VCALENDAR