BEGIN:VCALENDAR
VERSION:2.0
PRODID:-//Myrtle Learning - ECPv6.15.3//NONSGML v1.0//EN
CALSCALE:GREGORIAN
METHOD:PUBLISH
X-ORIGINAL-URL:https://myrtlelearning.com
X-WR-CALDESC:Events for Myrtle Learning
REFRESH-INTERVAL;VALUE=DURATION:PT1H
X-Robots-Tag:noindex
X-PUBLISHED-TTL:PT1H
BEGIN:VTIMEZONE
TZID:UTC
BEGIN:STANDARD
TZOFFSETFROM:+0000
TZOFFSETTO:+0000
TZNAME:UTC
DTSTART:20260101T000000
END:STANDARD
END:VTIMEZONE
BEGIN:VEVENT
DTSTART;TZID=UTC:20260303T170000
DTEND;TZID=UTC:20260303T180000
DTSTAMP:20260420T222229
CREATED:20240620T154950Z
LAST-MODIFIED:20240620T160453Z
UID:10036743-1772557200-1772560800@myrtlelearning.com
SUMMARY:28GS Myrtle 2
DESCRIPTION:28GS Myrtle 2 \nThese group is made of students preparing for their Science exams in 2026 \nSelect the button below to join the lesson online
URL:https://myrtlelearning.com/event/28gs-myrtle-2-2/2026-03-03/
LOCATION:Abbie\, Myrtle Learning\, ME1 2QP\, United Kingdom
CATEGORIES:28GS Myrtle 2
ATTACH;FMTTYPE=image/jpeg:https://myrtlelearning.com/wp-content/uploads/2023/08/myrtle-icon-whitejpg.jpg
ORGANIZER;CN="Abbie":MAILTO:barnesab@myrtlelearning.com
END:VEVENT
BEGIN:VEVENT
DTSTART;TZID=UTC:20260304T163000
DTEND;TZID=UTC:20260304T180000
DTSTAMP:20260420T222229
CREATED:20240619T153005Z
LAST-MODIFIED:20250129T112137Z
UID:10061556-1772641800-1772647200@myrtlelearning.com
SUMMARY:28GS Myrtle 2
DESCRIPTION:28GS Myrtle 2 \nThese group is made of students preparing for their Science exams in 2028 \nSelect the button below to join the lesson online
URL:https://myrtlelearning.com/event/28gs-myrtle-2/2026-03-04/
LOCATION:Myrtle Learning Centre\, Pattens Gardens\, Rochester\, Kent\, ME1 2QP\, United Kingdom
CATEGORIES:28GS Myrtle 2
ATTACH;FMTTYPE=image/jpeg:https://myrtlelearning.com/wp-content/uploads/2023/08/myrtle-icon-whitejpg.jpg
END:VEVENT
BEGIN:VEVENT
DTSTART;TZID=UTC:20260310T170000
DTEND;TZID=UTC:20260310T180000
DTSTAMP:20260420T222229
CREATED:20240620T154950Z
LAST-MODIFIED:20240620T160453Z
UID:10036744-1773162000-1773165600@myrtlelearning.com
SUMMARY:28GS Myrtle 2
DESCRIPTION:28GS Myrtle 2 \nThese group is made of students preparing for their Science exams in 2026 \nSelect the button below to join the lesson online
URL:https://myrtlelearning.com/event/28gs-myrtle-2-2/2026-03-10/
LOCATION:Abbie\, Myrtle Learning\, ME1 2QP\, United Kingdom
CATEGORIES:28GS Myrtle 2
ATTACH;FMTTYPE=image/jpeg:https://myrtlelearning.com/wp-content/uploads/2023/08/myrtle-icon-whitejpg.jpg
ORGANIZER;CN="Abbie":MAILTO:barnesab@myrtlelearning.com
END:VEVENT
BEGIN:VEVENT
DTSTART;TZID=UTC:20260311T163000
DTEND;TZID=UTC:20260311T180000
DTSTAMP:20260420T222229
CREATED:20240619T153005Z
LAST-MODIFIED:20250129T112137Z
UID:10061557-1773246600-1773252000@myrtlelearning.com
SUMMARY:28GS Myrtle 2
DESCRIPTION:28GS Myrtle 2 \nThese group is made of students preparing for their Science exams in 2028 \nSelect the button below to join the lesson online
URL:https://myrtlelearning.com/event/28gs-myrtle-2/2026-03-11/
LOCATION:Myrtle Learning Centre\, Pattens Gardens\, Rochester\, Kent\, ME1 2QP\, United Kingdom
CATEGORIES:28GS Myrtle 2
ATTACH;FMTTYPE=image/jpeg:https://myrtlelearning.com/wp-content/uploads/2023/08/myrtle-icon-whitejpg.jpg
END:VEVENT
BEGIN:VEVENT
DTSTART;TZID=UTC:20260317T170000
DTEND;TZID=UTC:20260317T180000
DTSTAMP:20260420T222229
CREATED:20240620T154950Z
LAST-MODIFIED:20240620T160453Z
UID:10036745-1773766800-1773770400@myrtlelearning.com
SUMMARY:28GS Myrtle 2
DESCRIPTION:28GS Myrtle 2 \nThese group is made of students preparing for their Science exams in 2026 \nSelect the button below to join the lesson online
URL:https://myrtlelearning.com/event/28gs-myrtle-2-2/2026-03-17/
LOCATION:Abbie\, Myrtle Learning\, ME1 2QP\, United Kingdom
CATEGORIES:28GS Myrtle 2
ATTACH;FMTTYPE=image/jpeg:https://myrtlelearning.com/wp-content/uploads/2023/08/myrtle-icon-whitejpg.jpg
ORGANIZER;CN="Abbie":MAILTO:barnesab@myrtlelearning.com
END:VEVENT
BEGIN:VEVENT
DTSTART;TZID=UTC:20260318T163000
DTEND;TZID=UTC:20260318T180000
DTSTAMP:20260420T222229
CREATED:20240619T153005Z
LAST-MODIFIED:20250129T112137Z
UID:10061558-1773851400-1773856800@myrtlelearning.com
SUMMARY:28GS Myrtle 2
DESCRIPTION:28GS Myrtle 2 \nThese group is made of students preparing for their Science exams in 2028 \nSelect the button below to join the lesson online
URL:https://myrtlelearning.com/event/28gs-myrtle-2/2026-03-18/
LOCATION:Myrtle Learning Centre\, Pattens Gardens\, Rochester\, Kent\, ME1 2QP\, United Kingdom
CATEGORIES:28GS Myrtle 2
ATTACH;FMTTYPE=image/jpeg:https://myrtlelearning.com/wp-content/uploads/2023/08/myrtle-icon-whitejpg.jpg
END:VEVENT
BEGIN:VEVENT
DTSTART;TZID=UTC:20260324T170000
DTEND;TZID=UTC:20260324T180000
DTSTAMP:20260420T222229
CREATED:20240620T154950Z
LAST-MODIFIED:20240620T160453Z
UID:10036746-1774371600-1774375200@myrtlelearning.com
SUMMARY:28GS Myrtle 2
DESCRIPTION:28GS Myrtle 2 \nThese group is made of students preparing for their Science exams in 2026 \nSelect the button below to join the lesson online
URL:https://myrtlelearning.com/event/28gs-myrtle-2-2/2026-03-24/
LOCATION:Abbie\, Myrtle Learning\, ME1 2QP\, United Kingdom
CATEGORIES:28GS Myrtle 2
ATTACH;FMTTYPE=image/jpeg:https://myrtlelearning.com/wp-content/uploads/2023/08/myrtle-icon-whitejpg.jpg
ORGANIZER;CN="Abbie":MAILTO:barnesab@myrtlelearning.com
END:VEVENT
BEGIN:VEVENT
DTSTART;TZID=UTC:20260325T163000
DTEND;TZID=UTC:20260325T180000
DTSTAMP:20260420T222229
CREATED:20240619T153005Z
LAST-MODIFIED:20250129T112137Z
UID:10061559-1774456200-1774461600@myrtlelearning.com
SUMMARY:28GS Myrtle 2
DESCRIPTION:28GS Myrtle 2 \nThese group is made of students preparing for their Science exams in 2028 \nSelect the button below to join the lesson online
URL:https://myrtlelearning.com/event/28gs-myrtle-2/2026-03-25/
LOCATION:Myrtle Learning Centre\, Pattens Gardens\, Rochester\, Kent\, ME1 2QP\, United Kingdom
CATEGORIES:28GS Myrtle 2
ATTACH;FMTTYPE=image/jpeg:https://myrtlelearning.com/wp-content/uploads/2023/08/myrtle-icon-whitejpg.jpg
END:VEVENT
BEGIN:VEVENT
DTSTART;TZID=UTC:20260331T170000
DTEND;TZID=UTC:20260331T180000
DTSTAMP:20260420T222229
CREATED:20240620T154950Z
LAST-MODIFIED:20240620T160453Z
UID:10036747-1774976400-1774980000@myrtlelearning.com
SUMMARY:28GS Myrtle 2
DESCRIPTION:28GS Myrtle 2 \nThese group is made of students preparing for their Science exams in 2026 \nSelect the button below to join the lesson online
URL:https://myrtlelearning.com/event/28gs-myrtle-2-2/2026-03-31/
LOCATION:Abbie\, Myrtle Learning\, ME1 2QP\, United Kingdom
CATEGORIES:28GS Myrtle 2
ATTACH;FMTTYPE=image/jpeg:https://myrtlelearning.com/wp-content/uploads/2023/08/myrtle-icon-whitejpg.jpg
ORGANIZER;CN="Abbie":MAILTO:barnesab@myrtlelearning.com
END:VEVENT
END:VCALENDAR