BEGIN:VCALENDAR
VERSION:2.0
PRODID:-//Myrtle Learning - ECPv6.15.3//NONSGML v1.0//EN
CALSCALE:GREGORIAN
METHOD:PUBLISH
X-ORIGINAL-URL:https://myrtlelearning.com
X-WR-CALDESC:Events for Myrtle Learning
REFRESH-INTERVAL;VALUE=DURATION:PT1H
X-Robots-Tag:noindex
X-PUBLISHED-TTL:PT1H
BEGIN:VTIMEZONE
TZID:UTC
BEGIN:STANDARD
TZOFFSETFROM:+0000
TZOFFSETTO:+0000
TZNAME:UTC
DTSTART:20260101T000000
END:STANDARD
END:VTIMEZONE
BEGIN:VEVENT
DTSTART;TZID=UTC:20260106T163000
DTEND;TZID=UTC:20260106T173000
DTSTAMP:20260421T011704
CREATED:20240108T225822Z
LAST-MODIFIED:20250127T152955Z
UID:10051096-1767717000-1767720600@myrtlelearning.com
SUMMARY:29GE Myrtle 1
DESCRIPTION:29GE Myrtle 1 \nThese students are preparing for their examinations in 2029 \nSelect the button below to join the lesson online
URL:https://myrtlelearning.com/event/29ge-myrtle-1/2026-01-06/
LOCATION:Online Session\, 25 Pattens Gardens\, Rochester\, Other\, ME1 2QP\, United Kingdom
CATEGORIES:29GE Myrtle 1
ATTACH;FMTTYPE=image/jpeg:https://myrtlelearning.com/wp-content/uploads/2023/08/myrtle-icon-whitejpg.jpg
END:VEVENT
BEGIN:VEVENT
DTSTART;TZID=UTC:20260114T180000
DTEND;TZID=UTC:20260114T190000
DTSTAMP:20260421T011704
CREATED:20260113T170833Z
LAST-MODIFIED:20260113T170835Z
UID:10051097-1768413600-1768417200@myrtlelearning.com
SUMMARY:29GE Myrtle 1
DESCRIPTION:29GE Myrtle 1 \nThese students are preparing for their examinations in 2029 \nSelect the button below to join the lesson online
URL:https://myrtlelearning.com/event/29ge-myrtle-1-2/2026-01-14/
LOCATION:Online Session\, 25 Pattens Gardens\, Rochester\, Other\, ME1 2QP\, United Kingdom
CATEGORIES:29GE Myrtle 1
ATTACH;FMTTYPE=image/jpeg:https://myrtlelearning.com/wp-content/uploads/2023/08/myrtle-icon-whitejpg.jpg
END:VEVENT
BEGIN:VEVENT
DTSTART;TZID=UTC:20260121T180000
DTEND;TZID=UTC:20260121T190000
DTSTAMP:20260421T011705
CREATED:20260113T170833Z
LAST-MODIFIED:20260113T170835Z
UID:10091255-1769018400-1769022000@myrtlelearning.com
SUMMARY:29GE Myrtle 1
DESCRIPTION:29GE Myrtle 1 \nThese students are preparing for their examinations in 2029 \nSelect the button below to join the lesson online
URL:https://myrtlelearning.com/event/29ge-myrtle-1-2/2026-01-21/
LOCATION:Online Session\, 25 Pattens Gardens\, Rochester\, Other\, ME1 2QP\, United Kingdom
CATEGORIES:29GE Myrtle 1
ATTACH;FMTTYPE=image/jpeg:https://myrtlelearning.com/wp-content/uploads/2023/08/myrtle-icon-whitejpg.jpg
END:VEVENT
BEGIN:VEVENT
DTSTART;TZID=UTC:20260128T180000
DTEND;TZID=UTC:20260128T190000
DTSTAMP:20260421T011705
CREATED:20260113T170833Z
LAST-MODIFIED:20260113T170835Z
UID:10091256-1769623200-1769626800@myrtlelearning.com
SUMMARY:29GE Myrtle 1
DESCRIPTION:29GE Myrtle 1 \nThese students are preparing for their examinations in 2029 \nSelect the button below to join the lesson online
URL:https://myrtlelearning.com/event/29ge-myrtle-1-2/2026-01-28/
LOCATION:Online Session\, 25 Pattens Gardens\, Rochester\, Other\, ME1 2QP\, United Kingdom
CATEGORIES:29GE Myrtle 1
ATTACH;FMTTYPE=image/jpeg:https://myrtlelearning.com/wp-content/uploads/2023/08/myrtle-icon-whitejpg.jpg
END:VEVENT
END:VCALENDAR