BEGIN:VCALENDAR
VERSION:2.0
PRODID:-//Myrtle Learning - ECPv6.15.3//NONSGML v1.0//EN
CALSCALE:GREGORIAN
METHOD:PUBLISH
X-ORIGINAL-URL:https://myrtlelearning.com
X-WR-CALDESC:Events for Myrtle Learning
REFRESH-INTERVAL;VALUE=DURATION:PT1H
X-Robots-Tag:noindex
X-PUBLISHED-TTL:PT1H
BEGIN:VTIMEZONE
TZID:UTC
BEGIN:STANDARD
TZOFFSETFROM:+0000
TZOFFSETTO:+0000
TZNAME:UTC
DTSTART:20260101T000000
END:STANDARD
END:VTIMEZONE
BEGIN:VEVENT
DTSTART;TZID=UTC:20260303T170000
DTEND;TZID=UTC:20260303T180000
DTSTAMP:20260420T222225
CREATED:20251014T160458Z
LAST-MODIFIED:20260126T113823Z
UID:10093377-1772557200-1772560800@myrtlelearning.com
SUMMARY:29GM Myrtle 1
DESCRIPTION:29GM Myrtle 1 \nThese group is made of students preparing for their GCSE Mathematics exams in 2029 \nSelect the button below to join the lesson online
URL:https://myrtlelearning.com/event/29gm-myrtle-1-2-2-2-2/2026-03-03/
LOCATION:Myrtle Learning Centre\, Pattens Gardens\, Rochester\, Kent\, ME1 2QP\, United Kingdom
CATEGORIES:29GM Myrtle 1
ATTACH;FMTTYPE=image/jpeg:https://myrtlelearning.com/wp-content/uploads/2023/08/myrtle-icon-whitejpg.jpg
END:VEVENT
BEGIN:VEVENT
DTSTART;TZID=UTC:20260310T170000
DTEND;TZID=UTC:20260310T180000
DTSTAMP:20260420T222225
CREATED:20251014T160458Z
LAST-MODIFIED:20260126T113823Z
UID:10093378-1773162000-1773165600@myrtlelearning.com
SUMMARY:29GM Myrtle 1
DESCRIPTION:29GM Myrtle 1 \nThese group is made of students preparing for their GCSE Mathematics exams in 2029 \nSelect the button below to join the lesson online
URL:https://myrtlelearning.com/event/29gm-myrtle-1-2-2-2-2/2026-03-10/
LOCATION:Myrtle Learning Centre\, Pattens Gardens\, Rochester\, Kent\, ME1 2QP\, United Kingdom
CATEGORIES:29GM Myrtle 1
ATTACH;FMTTYPE=image/jpeg:https://myrtlelearning.com/wp-content/uploads/2023/08/myrtle-icon-whitejpg.jpg
END:VEVENT
BEGIN:VEVENT
DTSTART;TZID=UTC:20260317T170000
DTEND;TZID=UTC:20260317T180000
DTSTAMP:20260420T222225
CREATED:20251014T160458Z
LAST-MODIFIED:20260126T113823Z
UID:10093379-1773766800-1773770400@myrtlelearning.com
SUMMARY:29GM Myrtle 1
DESCRIPTION:29GM Myrtle 1 \nThese group is made of students preparing for their GCSE Mathematics exams in 2029 \nSelect the button below to join the lesson online
URL:https://myrtlelearning.com/event/29gm-myrtle-1-2-2-2-2/2026-03-17/
LOCATION:Myrtle Learning Centre\, Pattens Gardens\, Rochester\, Kent\, ME1 2QP\, United Kingdom
CATEGORIES:29GM Myrtle 1
ATTACH;FMTTYPE=image/jpeg:https://myrtlelearning.com/wp-content/uploads/2023/08/myrtle-icon-whitejpg.jpg
END:VEVENT
BEGIN:VEVENT
DTSTART;TZID=UTC:20260324T170000
DTEND;TZID=UTC:20260324T180000
DTSTAMP:20260420T222225
CREATED:20251014T160458Z
LAST-MODIFIED:20260126T113823Z
UID:10093380-1774371600-1774375200@myrtlelearning.com
SUMMARY:29GM Myrtle 1
DESCRIPTION:29GM Myrtle 1 \nThese group is made of students preparing for their GCSE Mathematics exams in 2029 \nSelect the button below to join the lesson online
URL:https://myrtlelearning.com/event/29gm-myrtle-1-2-2-2-2/2026-03-24/
LOCATION:Myrtle Learning Centre\, Pattens Gardens\, Rochester\, Kent\, ME1 2QP\, United Kingdom
CATEGORIES:29GM Myrtle 1
ATTACH;FMTTYPE=image/jpeg:https://myrtlelearning.com/wp-content/uploads/2023/08/myrtle-icon-whitejpg.jpg
END:VEVENT
BEGIN:VEVENT
DTSTART;TZID=UTC:20260331T170000
DTEND;TZID=UTC:20260331T180000
DTSTAMP:20260420T222225
CREATED:20251014T160458Z
LAST-MODIFIED:20260126T113823Z
UID:10093381-1774976400-1774980000@myrtlelearning.com
SUMMARY:29GM Myrtle 1
DESCRIPTION:29GM Myrtle 1 \nThese group is made of students preparing for their GCSE Mathematics exams in 2029 \nSelect the button below to join the lesson online
URL:https://myrtlelearning.com/event/29gm-myrtle-1-2-2-2-2/2026-03-31/
LOCATION:Myrtle Learning Centre\, Pattens Gardens\, Rochester\, Kent\, ME1 2QP\, United Kingdom
CATEGORIES:29GM Myrtle 1
ATTACH;FMTTYPE=image/jpeg:https://myrtlelearning.com/wp-content/uploads/2023/08/myrtle-icon-whitejpg.jpg
END:VEVENT
END:VCALENDAR