BEGIN:VCALENDAR
VERSION:2.0
PRODID:-//Myrtle Learning - ECPv6.15.3//NONSGML v1.0//EN
CALSCALE:GREGORIAN
METHOD:PUBLISH
X-WR-CALNAME:Myrtle Learning
X-ORIGINAL-URL:https://myrtlelearning.com
X-WR-CALDESC:Events for Myrtle Learning
REFRESH-INTERVAL;VALUE=DURATION:PT1H
X-Robots-Tag:noindex
X-PUBLISHED-TTL:PT1H
BEGIN:VTIMEZONE
TZID:UTC
BEGIN:STANDARD
TZOFFSETFROM:+0000
TZOFFSETTO:+0000
TZNAME:UTC
DTSTART:20280101T000000
END:STANDARD
END:VTIMEZONE
BEGIN:VEVENT
DTSTART;TZID=UTC:20280201T170000
DTEND;TZID=UTC:20280201T180000
DTSTAMP:20260422T104724
CREATED:20251014T160458Z
LAST-MODIFIED:20260126T113823Z
UID:10093477-1833037200-1833040800@myrtlelearning.com
SUMMARY:29GM Myrtle 1
DESCRIPTION:29GM Myrtle 1 \nThese group is made of students preparing for their GCSE Mathematics exams in 2029 \nSelect the button below to join the lesson online
URL:https://myrtlelearning.com/event/29gm-myrtle-1-2-2-2-2/2028-02-01/
LOCATION:Myrtle Learning Centre\, Pattens Gardens\, Rochester\, Kent\, ME1 2QP\, United Kingdom
CATEGORIES:29GM Myrtle 1
ATTACH;FMTTYPE=image/jpeg:https://myrtlelearning.com/wp-content/uploads/2023/08/myrtle-icon-whitejpg.jpg
END:VEVENT
BEGIN:VEVENT
DTSTART;TZID=UTC:20280208T170000
DTEND;TZID=UTC:20280208T180000
DTSTAMP:20260422T104724
CREATED:20251014T160458Z
LAST-MODIFIED:20260126T113823Z
UID:10093478-1833642000-1833645600@myrtlelearning.com
SUMMARY:29GM Myrtle 1
DESCRIPTION:29GM Myrtle 1 \nThese group is made of students preparing for their GCSE Mathematics exams in 2029 \nSelect the button below to join the lesson online
URL:https://myrtlelearning.com/event/29gm-myrtle-1-2-2-2-2/2028-02-08/
LOCATION:Myrtle Learning Centre\, Pattens Gardens\, Rochester\, Kent\, ME1 2QP\, United Kingdom
CATEGORIES:29GM Myrtle 1
ATTACH;FMTTYPE=image/jpeg:https://myrtlelearning.com/wp-content/uploads/2023/08/myrtle-icon-whitejpg.jpg
END:VEVENT
BEGIN:VEVENT
DTSTART;TZID=UTC:20280215T170000
DTEND;TZID=UTC:20280215T180000
DTSTAMP:20260422T104724
CREATED:20251014T160458Z
LAST-MODIFIED:20260126T113823Z
UID:10093479-1834246800-1834250400@myrtlelearning.com
SUMMARY:29GM Myrtle 1
DESCRIPTION:29GM Myrtle 1 \nThese group is made of students preparing for their GCSE Mathematics exams in 2029 \nSelect the button below to join the lesson online
URL:https://myrtlelearning.com/event/29gm-myrtle-1-2-2-2-2/2028-02-15/
LOCATION:Myrtle Learning Centre\, Pattens Gardens\, Rochester\, Kent\, ME1 2QP\, United Kingdom
CATEGORIES:29GM Myrtle 1
ATTACH;FMTTYPE=image/jpeg:https://myrtlelearning.com/wp-content/uploads/2023/08/myrtle-icon-whitejpg.jpg
END:VEVENT
BEGIN:VEVENT
DTSTART;TZID=UTC:20280222T170000
DTEND;TZID=UTC:20280222T180000
DTSTAMP:20260422T104724
CREATED:20251014T160458Z
LAST-MODIFIED:20260126T113823Z
UID:10093480-1834851600-1834855200@myrtlelearning.com
SUMMARY:29GM Myrtle 1
DESCRIPTION:29GM Myrtle 1 \nThese group is made of students preparing for their GCSE Mathematics exams in 2029 \nSelect the button below to join the lesson online
URL:https://myrtlelearning.com/event/29gm-myrtle-1-2-2-2-2/2028-02-22/
LOCATION:Myrtle Learning Centre\, Pattens Gardens\, Rochester\, Kent\, ME1 2QP\, United Kingdom
CATEGORIES:29GM Myrtle 1
ATTACH;FMTTYPE=image/jpeg:https://myrtlelearning.com/wp-content/uploads/2023/08/myrtle-icon-whitejpg.jpg
END:VEVENT
BEGIN:VEVENT
DTSTART;TZID=UTC:20280229T170000
DTEND;TZID=UTC:20280229T180000
DTSTAMP:20260422T104724
CREATED:20251014T160458Z
LAST-MODIFIED:20260126T113823Z
UID:10093481-1835456400-1835460000@myrtlelearning.com
SUMMARY:29GM Myrtle 1
DESCRIPTION:29GM Myrtle 1 \nThese group is made of students preparing for their GCSE Mathematics exams in 2029 \nSelect the button below to join the lesson online
URL:https://myrtlelearning.com/event/29gm-myrtle-1-2-2-2-2/2028-02-29/
LOCATION:Myrtle Learning Centre\, Pattens Gardens\, Rochester\, Kent\, ME1 2QP\, United Kingdom
CATEGORIES:29GM Myrtle 1
ATTACH;FMTTYPE=image/jpeg:https://myrtlelearning.com/wp-content/uploads/2023/08/myrtle-icon-whitejpg.jpg
END:VEVENT
END:VCALENDAR