BEGIN:VCALENDAR
VERSION:2.0
PRODID:-//Myrtle Learning - ECPv6.15.3//NONSGML v1.0//EN
CALSCALE:GREGORIAN
METHOD:PUBLISH
X-WR-CALNAME:Myrtle Learning
X-ORIGINAL-URL:https://myrtlelearning.com
X-WR-CALDESC:Events for Myrtle Learning
REFRESH-INTERVAL;VALUE=DURATION:PT1H
X-Robots-Tag:noindex
X-PUBLISHED-TTL:PT1H
BEGIN:VTIMEZONE
TZID:UTC
BEGIN:STANDARD
TZOFFSETFROM:+0000
TZOFFSETTO:+0000
TZNAME:UTC
DTSTART:20280101T000000
END:STANDARD
END:VTIMEZONE
BEGIN:VEVENT
DTSTART;TZID=UTC:20280606T170000
DTEND;TZID=UTC:20280606T180000
DTSTAMP:20260422T181329
CREATED:20251014T160458Z
LAST-MODIFIED:20260126T113823Z
UID:10093495-1843923600-1843927200@myrtlelearning.com
SUMMARY:29GM Myrtle 1
DESCRIPTION:29GM Myrtle 1 \nThese group is made of students preparing for their GCSE Mathematics exams in 2029 \nSelect the button below to join the lesson online
URL:https://myrtlelearning.com/event/29gm-myrtle-1-2-2-2-2/2028-06-06/
LOCATION:Myrtle Learning Centre\, Pattens Gardens\, Rochester\, Kent\, ME1 2QP\, United Kingdom
CATEGORIES:29GM Myrtle 1
ATTACH;FMTTYPE=image/jpeg:https://myrtlelearning.com/wp-content/uploads/2023/08/myrtle-icon-whitejpg.jpg
END:VEVENT
BEGIN:VEVENT
DTSTART;TZID=UTC:20280613T170000
DTEND;TZID=UTC:20280613T180000
DTSTAMP:20260422T181329
CREATED:20251014T160458Z
LAST-MODIFIED:20260126T113823Z
UID:10093496-1844528400-1844532000@myrtlelearning.com
SUMMARY:29GM Myrtle 1
DESCRIPTION:29GM Myrtle 1 \nThese group is made of students preparing for their GCSE Mathematics exams in 2029 \nSelect the button below to join the lesson online
URL:https://myrtlelearning.com/event/29gm-myrtle-1-2-2-2-2/2028-06-13/
LOCATION:Myrtle Learning Centre\, Pattens Gardens\, Rochester\, Kent\, ME1 2QP\, United Kingdom
CATEGORIES:29GM Myrtle 1
ATTACH;FMTTYPE=image/jpeg:https://myrtlelearning.com/wp-content/uploads/2023/08/myrtle-icon-whitejpg.jpg
END:VEVENT
BEGIN:VEVENT
DTSTART;TZID=UTC:20280620T170000
DTEND;TZID=UTC:20280620T180000
DTSTAMP:20260422T181329
CREATED:20251014T160458Z
LAST-MODIFIED:20260126T113823Z
UID:10093497-1845133200-1845136800@myrtlelearning.com
SUMMARY:29GM Myrtle 1
DESCRIPTION:29GM Myrtle 1 \nThese group is made of students preparing for their GCSE Mathematics exams in 2029 \nSelect the button below to join the lesson online
URL:https://myrtlelearning.com/event/29gm-myrtle-1-2-2-2-2/2028-06-20/
LOCATION:Myrtle Learning Centre\, Pattens Gardens\, Rochester\, Kent\, ME1 2QP\, United Kingdom
CATEGORIES:29GM Myrtle 1
ATTACH;FMTTYPE=image/jpeg:https://myrtlelearning.com/wp-content/uploads/2023/08/myrtle-icon-whitejpg.jpg
END:VEVENT
BEGIN:VEVENT
DTSTART;TZID=UTC:20280627T170000
DTEND;TZID=UTC:20280627T180000
DTSTAMP:20260422T181329
CREATED:20251014T160458Z
LAST-MODIFIED:20260126T113823Z
UID:10093498-1845738000-1845741600@myrtlelearning.com
SUMMARY:29GM Myrtle 1
DESCRIPTION:29GM Myrtle 1 \nThese group is made of students preparing for their GCSE Mathematics exams in 2029 \nSelect the button below to join the lesson online
URL:https://myrtlelearning.com/event/29gm-myrtle-1-2-2-2-2/2028-06-27/
LOCATION:Myrtle Learning Centre\, Pattens Gardens\, Rochester\, Kent\, ME1 2QP\, United Kingdom
CATEGORIES:29GM Myrtle 1
ATTACH;FMTTYPE=image/jpeg:https://myrtlelearning.com/wp-content/uploads/2023/08/myrtle-icon-whitejpg.jpg
END:VEVENT
END:VCALENDAR