BEGIN:VCALENDAR
VERSION:2.0
PRODID:-//Myrtle Learning - ECPv6.15.3//NONSGML v1.0//EN
CALSCALE:GREGORIAN
METHOD:PUBLISH
X-ORIGINAL-URL:https://myrtlelearning.com
X-WR-CALDESC:Events for Myrtle Learning
REFRESH-INTERVAL;VALUE=DURATION:PT1H
X-Robots-Tag:noindex
X-PUBLISHED-TTL:PT1H
BEGIN:VTIMEZONE
TZID:UTC
BEGIN:STANDARD
TZOFFSETFROM:+0000
TZOFFSETTO:+0000
TZNAME:UTC
DTSTART:20290101T000000
END:STANDARD
END:VTIMEZONE
BEGIN:VEVENT
DTSTART;TZID=UTC:20290102T170000
DTEND;TZID=UTC:20290102T180000
DTSTAMP:20260423T031340
CREATED:20251014T160458Z
LAST-MODIFIED:20260126T113823Z
UID:10093525-1862067600-1862071200@myrtlelearning.com
SUMMARY:29GM Myrtle 1
DESCRIPTION:29GM Myrtle 1 \nThese group is made of students preparing for their GCSE Mathematics exams in 2029 \nSelect the button below to join the lesson online
URL:https://myrtlelearning.com/event/29gm-myrtle-1-2-2-2-2/2029-01-02/
LOCATION:Myrtle Learning Centre\, Pattens Gardens\, Rochester\, Kent\, ME1 2QP\, United Kingdom
CATEGORIES:29GM Myrtle 1
ATTACH;FMTTYPE=image/jpeg:https://myrtlelearning.com/wp-content/uploads/2023/08/myrtle-icon-whitejpg.jpg
END:VEVENT
BEGIN:VEVENT
DTSTART;TZID=UTC:20290109T170000
DTEND;TZID=UTC:20290109T180000
DTSTAMP:20260423T031340
CREATED:20251014T160458Z
LAST-MODIFIED:20260126T113823Z
UID:10093526-1862672400-1862676000@myrtlelearning.com
SUMMARY:29GM Myrtle 1
DESCRIPTION:29GM Myrtle 1 \nThese group is made of students preparing for their GCSE Mathematics exams in 2029 \nSelect the button below to join the lesson online
URL:https://myrtlelearning.com/event/29gm-myrtle-1-2-2-2-2/2029-01-09/
LOCATION:Myrtle Learning Centre\, Pattens Gardens\, Rochester\, Kent\, ME1 2QP\, United Kingdom
CATEGORIES:29GM Myrtle 1
ATTACH;FMTTYPE=image/jpeg:https://myrtlelearning.com/wp-content/uploads/2023/08/myrtle-icon-whitejpg.jpg
END:VEVENT
BEGIN:VEVENT
DTSTART;TZID=UTC:20290116T170000
DTEND;TZID=UTC:20290116T180000
DTSTAMP:20260423T031340
CREATED:20251014T160458Z
LAST-MODIFIED:20260126T113823Z
UID:10093527-1863277200-1863280800@myrtlelearning.com
SUMMARY:29GM Myrtle 1
DESCRIPTION:29GM Myrtle 1 \nThese group is made of students preparing for their GCSE Mathematics exams in 2029 \nSelect the button below to join the lesson online
URL:https://myrtlelearning.com/event/29gm-myrtle-1-2-2-2-2/2029-01-16/
LOCATION:Myrtle Learning Centre\, Pattens Gardens\, Rochester\, Kent\, ME1 2QP\, United Kingdom
CATEGORIES:29GM Myrtle 1
ATTACH;FMTTYPE=image/jpeg:https://myrtlelearning.com/wp-content/uploads/2023/08/myrtle-icon-whitejpg.jpg
END:VEVENT
BEGIN:VEVENT
DTSTART;TZID=UTC:20290123T170000
DTEND;TZID=UTC:20290123T180000
DTSTAMP:20260423T031340
CREATED:20251014T160458Z
LAST-MODIFIED:20260126T113823Z
UID:10093528-1863882000-1863885600@myrtlelearning.com
SUMMARY:29GM Myrtle 1
DESCRIPTION:29GM Myrtle 1 \nThese group is made of students preparing for their GCSE Mathematics exams in 2029 \nSelect the button below to join the lesson online
URL:https://myrtlelearning.com/event/29gm-myrtle-1-2-2-2-2/2029-01-23/
LOCATION:Myrtle Learning Centre\, Pattens Gardens\, Rochester\, Kent\, ME1 2QP\, United Kingdom
CATEGORIES:29GM Myrtle 1
ATTACH;FMTTYPE=image/jpeg:https://myrtlelearning.com/wp-content/uploads/2023/08/myrtle-icon-whitejpg.jpg
END:VEVENT
BEGIN:VEVENT
DTSTART;TZID=UTC:20290130T170000
DTEND;TZID=UTC:20290130T180000
DTSTAMP:20260423T031340
CREATED:20251014T160458Z
LAST-MODIFIED:20260126T113823Z
UID:10093529-1864486800-1864490400@myrtlelearning.com
SUMMARY:29GM Myrtle 1
DESCRIPTION:29GM Myrtle 1 \nThese group is made of students preparing for their GCSE Mathematics exams in 2029 \nSelect the button below to join the lesson online
URL:https://myrtlelearning.com/event/29gm-myrtle-1-2-2-2-2/2029-01-30/
LOCATION:Myrtle Learning Centre\, Pattens Gardens\, Rochester\, Kent\, ME1 2QP\, United Kingdom
CATEGORIES:29GM Myrtle 1
ATTACH;FMTTYPE=image/jpeg:https://myrtlelearning.com/wp-content/uploads/2023/08/myrtle-icon-whitejpg.jpg
END:VEVENT
END:VCALENDAR