BEGIN:VCALENDAR
VERSION:2.0
PRODID:-//Myrtle Learning - ECPv6.15.3//NONSGML v1.0//EN
CALSCALE:GREGORIAN
METHOD:PUBLISH
X-ORIGINAL-URL:https://myrtlelearning.com
X-WR-CALDESC:Events for Myrtle Learning
REFRESH-INTERVAL;VALUE=DURATION:PT1H
X-Robots-Tag:noindex
X-PUBLISHED-TTL:PT1H
BEGIN:VTIMEZONE
TZID:UTC
BEGIN:STANDARD
TZOFFSETFROM:+0000
TZOFFSETTO:+0000
TZNAME:UTC
DTSTART:20250101T000000
END:STANDARD
END:VTIMEZONE
BEGIN:VEVENT
DTSTART;TZID=UTC:20251105T170000
DTEND;TZID=UTC:20251105T190000
DTSTAMP:20260421T063816
CREATED:20250407T130258Z
LAST-MODIFIED:20250407T130259Z
UID:10072560-1762362000-1762369200@myrtlelearning.com
SUMMARY:29GS Myrtle 1
DESCRIPTION:29GS Myrtle 1 \nThese group is made of students preparing for their 11plus exams in 2026 \nSelect the button below to join the lesson online
URL:https://myrtlelearning.com/event/29gs-myrtle-1-2/2025-11-05/
LOCATION:Myrtle Learning Centre\, Pattens Gardens\, Rochester\, Kent\, ME1 2QP\, United Kingdom
CATEGORIES:29GS Myrtle 1
ATTACH;FMTTYPE=image/jpeg:https://myrtlelearning.com/wp-content/uploads/2023/08/myrtle-icon-whitejpg.jpg
END:VEVENT
BEGIN:VEVENT
DTSTART;TZID=UTC:20251112T170000
DTEND;TZID=UTC:20251112T190000
DTSTAMP:20260421T063816
CREATED:20250407T130258Z
LAST-MODIFIED:20250407T130259Z
UID:10072561-1762966800-1762974000@myrtlelearning.com
SUMMARY:29GS Myrtle 1
DESCRIPTION:29GS Myrtle 1 \nThese group is made of students preparing for their 11plus exams in 2026 \nSelect the button below to join the lesson online
URL:https://myrtlelearning.com/event/29gs-myrtle-1-2/2025-11-12/
LOCATION:Myrtle Learning Centre\, Pattens Gardens\, Rochester\, Kent\, ME1 2QP\, United Kingdom
CATEGORIES:29GS Myrtle 1
ATTACH;FMTTYPE=image/jpeg:https://myrtlelearning.com/wp-content/uploads/2023/08/myrtle-icon-whitejpg.jpg
END:VEVENT
BEGIN:VEVENT
DTSTART;TZID=UTC:20251119T170000
DTEND;TZID=UTC:20251119T190000
DTSTAMP:20260421T063816
CREATED:20250407T130258Z
LAST-MODIFIED:20250407T130259Z
UID:10072562-1763571600-1763578800@myrtlelearning.com
SUMMARY:29GS Myrtle 1
DESCRIPTION:29GS Myrtle 1 \nThese group is made of students preparing for their 11plus exams in 2026 \nSelect the button below to join the lesson online
URL:https://myrtlelearning.com/event/29gs-myrtle-1-2/2025-11-19/
LOCATION:Myrtle Learning Centre\, Pattens Gardens\, Rochester\, Kent\, ME1 2QP\, United Kingdom
CATEGORIES:29GS Myrtle 1
ATTACH;FMTTYPE=image/jpeg:https://myrtlelearning.com/wp-content/uploads/2023/08/myrtle-icon-whitejpg.jpg
END:VEVENT
BEGIN:VEVENT
DTSTART;TZID=UTC:20251126T170000
DTEND;TZID=UTC:20251126T190000
DTSTAMP:20260421T063816
CREATED:20250407T130258Z
LAST-MODIFIED:20250407T130259Z
UID:10072563-1764176400-1764183600@myrtlelearning.com
SUMMARY:29GS Myrtle 1
DESCRIPTION:29GS Myrtle 1 \nThese group is made of students preparing for their 11plus exams in 2026 \nSelect the button below to join the lesson online
URL:https://myrtlelearning.com/event/29gs-myrtle-1-2/2025-11-26/
LOCATION:Myrtle Learning Centre\, Pattens Gardens\, Rochester\, Kent\, ME1 2QP\, United Kingdom
CATEGORIES:29GS Myrtle 1
ATTACH;FMTTYPE=image/jpeg:https://myrtlelearning.com/wp-content/uploads/2023/08/myrtle-icon-whitejpg.jpg
END:VEVENT
END:VCALENDAR