BEGIN:VCALENDAR
VERSION:2.0
PRODID:-//Myrtle Learning - ECPv6.15.3//NONSGML v1.0//EN
CALSCALE:GREGORIAN
METHOD:PUBLISH
X-ORIGINAL-URL:https://myrtlelearning.com
X-WR-CALDESC:Events for Myrtle Learning
REFRESH-INTERVAL;VALUE=DURATION:PT1H
X-Robots-Tag:noindex
X-PUBLISHED-TTL:PT1H
BEGIN:VTIMEZONE
TZID:UTC
BEGIN:STANDARD
TZOFFSETFROM:+0000
TZOFFSETTO:+0000
TZNAME:UTC
DTSTART:20280101T000000
END:STANDARD
END:VTIMEZONE
BEGIN:VEVENT
DTSTART;TZID=UTC:20280201T150000
DTEND;TZID=UTC:20280201T160000
DTSTAMP:20260422T223319
CREATED:20250307T110655Z
LAST-MODIFIED:20250307T110823Z
UID:10068443-1833030000-1833033600@myrtlelearning.com
SUMMARY:30EP Myrtle 1 Ma
DESCRIPTION:30EP Myrtle 1 Ma \nThese group is made of students preparing to improve their attainment in primary school \nSelect the button below to join the lesson online
URL:https://myrtlelearning.com/event/30ep-myrtle-1-ma-2/2028-02-01/
LOCATION:Online Session\, 25 Pattens Gardens\, Rochester\, Other\, ME1 2QP\, United Kingdom
CATEGORIES:11Plus Summer 22,30EP Myrtle 1 Ma
ATTACH;FMTTYPE=image/jpeg:https://myrtlelearning.com/wp-content/uploads/2023/08/myrtle-icon-whitejpg.jpg
END:VEVENT
BEGIN:VEVENT
DTSTART;TZID=UTC:20280208T150000
DTEND;TZID=UTC:20280208T160000
DTSTAMP:20260422T223319
CREATED:20250307T110655Z
LAST-MODIFIED:20250307T110823Z
UID:10068444-1833634800-1833638400@myrtlelearning.com
SUMMARY:30EP Myrtle 1 Ma
DESCRIPTION:30EP Myrtle 1 Ma \nThese group is made of students preparing to improve their attainment in primary school \nSelect the button below to join the lesson online
URL:https://myrtlelearning.com/event/30ep-myrtle-1-ma-2/2028-02-08/
LOCATION:Online Session\, 25 Pattens Gardens\, Rochester\, Other\, ME1 2QP\, United Kingdom
CATEGORIES:11Plus Summer 22,30EP Myrtle 1 Ma
ATTACH;FMTTYPE=image/jpeg:https://myrtlelearning.com/wp-content/uploads/2023/08/myrtle-icon-whitejpg.jpg
END:VEVENT
BEGIN:VEVENT
DTSTART;TZID=UTC:20280215T150000
DTEND;TZID=UTC:20280215T160000
DTSTAMP:20260422T223319
CREATED:20250307T110655Z
LAST-MODIFIED:20250307T110823Z
UID:10068445-1834239600-1834243200@myrtlelearning.com
SUMMARY:30EP Myrtle 1 Ma
DESCRIPTION:30EP Myrtle 1 Ma \nThese group is made of students preparing to improve their attainment in primary school \nSelect the button below to join the lesson online
URL:https://myrtlelearning.com/event/30ep-myrtle-1-ma-2/2028-02-15/
LOCATION:Online Session\, 25 Pattens Gardens\, Rochester\, Other\, ME1 2QP\, United Kingdom
CATEGORIES:11Plus Summer 22,30EP Myrtle 1 Ma
ATTACH;FMTTYPE=image/jpeg:https://myrtlelearning.com/wp-content/uploads/2023/08/myrtle-icon-whitejpg.jpg
END:VEVENT
BEGIN:VEVENT
DTSTART;TZID=UTC:20280222T150000
DTEND;TZID=UTC:20280222T160000
DTSTAMP:20260422T223319
CREATED:20250307T110655Z
LAST-MODIFIED:20250307T110823Z
UID:10068446-1834844400-1834848000@myrtlelearning.com
SUMMARY:30EP Myrtle 1 Ma
DESCRIPTION:30EP Myrtle 1 Ma \nThese group is made of students preparing to improve their attainment in primary school \nSelect the button below to join the lesson online
URL:https://myrtlelearning.com/event/30ep-myrtle-1-ma-2/2028-02-22/
LOCATION:Online Session\, 25 Pattens Gardens\, Rochester\, Other\, ME1 2QP\, United Kingdom
CATEGORIES:11Plus Summer 22,30EP Myrtle 1 Ma
ATTACH;FMTTYPE=image/jpeg:https://myrtlelearning.com/wp-content/uploads/2023/08/myrtle-icon-whitejpg.jpg
END:VEVENT
BEGIN:VEVENT
DTSTART;TZID=UTC:20280229T150000
DTEND;TZID=UTC:20280229T160000
DTSTAMP:20260422T223319
CREATED:20250307T110655Z
LAST-MODIFIED:20250307T110823Z
UID:10068447-1835449200-1835452800@myrtlelearning.com
SUMMARY:30EP Myrtle 1 Ma
DESCRIPTION:30EP Myrtle 1 Ma \nThese group is made of students preparing to improve their attainment in primary school \nSelect the button below to join the lesson online
URL:https://myrtlelearning.com/event/30ep-myrtle-1-ma-2/2028-02-29/
LOCATION:Online Session\, 25 Pattens Gardens\, Rochester\, Other\, ME1 2QP\, United Kingdom
CATEGORIES:11Plus Summer 22,30EP Myrtle 1 Ma
ATTACH;FMTTYPE=image/jpeg:https://myrtlelearning.com/wp-content/uploads/2023/08/myrtle-icon-whitejpg.jpg
END:VEVENT
END:VCALENDAR