BEGIN:VCALENDAR
VERSION:2.0
PRODID:-//Myrtle Learning - ECPv6.15.3//NONSGML v1.0//EN
CALSCALE:GREGORIAN
METHOD:PUBLISH
X-WR-CALNAME:Myrtle Learning
X-ORIGINAL-URL:https://myrtlelearning.com
X-WR-CALDESC:Events for Myrtle Learning
REFRESH-INTERVAL;VALUE=DURATION:PT1H
X-Robots-Tag:noindex
X-PUBLISHED-TTL:PT1H
BEGIN:VTIMEZONE
TZID:UTC
BEGIN:STANDARD
TZOFFSETFROM:+0000
TZOFFSETTO:+0000
TZNAME:UTC
DTSTART:20290101T000000
END:STANDARD
END:VTIMEZONE
BEGIN:VEVENT
DTSTART;TZID=UTC:20290102T150000
DTEND;TZID=UTC:20290102T160000
DTSTAMP:20260423T191717
CREATED:20250307T110655Z
LAST-MODIFIED:20250307T110823Z
UID:10068491-1862060400-1862064000@myrtlelearning.com
SUMMARY:30EP Myrtle 1 Ma
DESCRIPTION:30EP Myrtle 1 Ma \nThese group is made of students preparing to improve their attainment in primary school \nSelect the button below to join the lesson online
URL:https://myrtlelearning.com/event/30ep-myrtle-1-ma-2/2029-01-02/
LOCATION:Online Session\, 25 Pattens Gardens\, Rochester\, Other\, ME1 2QP\, United Kingdom
CATEGORIES:11Plus Summer 22,30EP Myrtle 1 Ma
ATTACH;FMTTYPE=image/jpeg:https://myrtlelearning.com/wp-content/uploads/2023/08/myrtle-icon-whitejpg.jpg
END:VEVENT
BEGIN:VEVENT
DTSTART;TZID=UTC:20290109T150000
DTEND;TZID=UTC:20290109T160000
DTSTAMP:20260423T191717
CREATED:20250307T110655Z
LAST-MODIFIED:20250307T110823Z
UID:10068492-1862665200-1862668800@myrtlelearning.com
SUMMARY:30EP Myrtle 1 Ma
DESCRIPTION:30EP Myrtle 1 Ma \nThese group is made of students preparing to improve their attainment in primary school \nSelect the button below to join the lesson online
URL:https://myrtlelearning.com/event/30ep-myrtle-1-ma-2/2029-01-09/
LOCATION:Online Session\, 25 Pattens Gardens\, Rochester\, Other\, ME1 2QP\, United Kingdom
CATEGORIES:11Plus Summer 22,30EP Myrtle 1 Ma
ATTACH;FMTTYPE=image/jpeg:https://myrtlelearning.com/wp-content/uploads/2023/08/myrtle-icon-whitejpg.jpg
END:VEVENT
BEGIN:VEVENT
DTSTART;TZID=UTC:20290116T150000
DTEND;TZID=UTC:20290116T160000
DTSTAMP:20260423T191717
CREATED:20250307T110655Z
LAST-MODIFIED:20250307T110823Z
UID:10068493-1863270000-1863273600@myrtlelearning.com
SUMMARY:30EP Myrtle 1 Ma
DESCRIPTION:30EP Myrtle 1 Ma \nThese group is made of students preparing to improve their attainment in primary school \nSelect the button below to join the lesson online
URL:https://myrtlelearning.com/event/30ep-myrtle-1-ma-2/2029-01-16/
LOCATION:Online Session\, 25 Pattens Gardens\, Rochester\, Other\, ME1 2QP\, United Kingdom
CATEGORIES:11Plus Summer 22,30EP Myrtle 1 Ma
ATTACH;FMTTYPE=image/jpeg:https://myrtlelearning.com/wp-content/uploads/2023/08/myrtle-icon-whitejpg.jpg
END:VEVENT
BEGIN:VEVENT
DTSTART;TZID=UTC:20290123T150000
DTEND;TZID=UTC:20290123T160000
DTSTAMP:20260423T191717
CREATED:20250307T110655Z
LAST-MODIFIED:20250307T110823Z
UID:10068494-1863874800-1863878400@myrtlelearning.com
SUMMARY:30EP Myrtle 1 Ma
DESCRIPTION:30EP Myrtle 1 Ma \nThese group is made of students preparing to improve their attainment in primary school \nSelect the button below to join the lesson online
URL:https://myrtlelearning.com/event/30ep-myrtle-1-ma-2/2029-01-23/
LOCATION:Online Session\, 25 Pattens Gardens\, Rochester\, Other\, ME1 2QP\, United Kingdom
CATEGORIES:11Plus Summer 22,30EP Myrtle 1 Ma
ATTACH;FMTTYPE=image/jpeg:https://myrtlelearning.com/wp-content/uploads/2023/08/myrtle-icon-whitejpg.jpg
END:VEVENT
BEGIN:VEVENT
DTSTART;TZID=UTC:20290130T150000
DTEND;TZID=UTC:20290130T160000
DTSTAMP:20260423T191717
CREATED:20250307T110655Z
LAST-MODIFIED:20250307T110823Z
UID:10068495-1864479600-1864483200@myrtlelearning.com
SUMMARY:30EP Myrtle 1 Ma
DESCRIPTION:30EP Myrtle 1 Ma \nThese group is made of students preparing to improve their attainment in primary school \nSelect the button below to join the lesson online
URL:https://myrtlelearning.com/event/30ep-myrtle-1-ma-2/2029-01-30/
LOCATION:Online Session\, 25 Pattens Gardens\, Rochester\, Other\, ME1 2QP\, United Kingdom
CATEGORIES:11Plus Summer 22,30EP Myrtle 1 Ma
ATTACH;FMTTYPE=image/jpeg:https://myrtlelearning.com/wp-content/uploads/2023/08/myrtle-icon-whitejpg.jpg
END:VEVENT
END:VCALENDAR