BEGIN:VCALENDAR
VERSION:2.0
PRODID:-//Myrtle Learning - ECPv6.15.3//NONSGML v1.0//EN
CALSCALE:GREGORIAN
METHOD:PUBLISH
X-WR-CALNAME:Myrtle Learning
X-ORIGINAL-URL:https://myrtlelearning.com
X-WR-CALDESC:Events for Myrtle Learning
REFRESH-INTERVAL;VALUE=DURATION:PT1H
X-Robots-Tag:noindex
X-PUBLISHED-TTL:PT1H
BEGIN:VTIMEZONE
TZID:UTC
BEGIN:STANDARD
TZOFFSETFROM:+0000
TZOFFSETTO:+0000
TZNAME:UTC
DTSTART:20290101T000000
END:STANDARD
END:VTIMEZONE
BEGIN:VEVENT
DTSTART;TZID=UTC:20291002T150000
DTEND;TZID=UTC:20291002T160000
DTSTAMP:20260424T055052
CREATED:20250307T110655Z
LAST-MODIFIED:20250307T110823Z
UID:10068530-1885647600-1885651200@myrtlelearning.com
SUMMARY:30EP Myrtle 1 Ma
DESCRIPTION:30EP Myrtle 1 Ma \nThese group is made of students preparing to improve their attainment in primary school \nSelect the button below to join the lesson online
URL:https://myrtlelearning.com/event/30ep-myrtle-1-ma-2/2029-10-02/
LOCATION:Online Session\, 25 Pattens Gardens\, Rochester\, Other\, ME1 2QP\, United Kingdom
CATEGORIES:11Plus Summer 22,30EP Myrtle 1 Ma
ATTACH;FMTTYPE=image/jpeg:https://myrtlelearning.com/wp-content/uploads/2023/08/myrtle-icon-whitejpg.jpg
END:VEVENT
BEGIN:VEVENT
DTSTART;TZID=UTC:20291009T150000
DTEND;TZID=UTC:20291009T160000
DTSTAMP:20260424T055052
CREATED:20250307T110655Z
LAST-MODIFIED:20250307T110823Z
UID:10068531-1886252400-1886256000@myrtlelearning.com
SUMMARY:30EP Myrtle 1 Ma
DESCRIPTION:30EP Myrtle 1 Ma \nThese group is made of students preparing to improve their attainment in primary school \nSelect the button below to join the lesson online
URL:https://myrtlelearning.com/event/30ep-myrtle-1-ma-2/2029-10-09/
LOCATION:Online Session\, 25 Pattens Gardens\, Rochester\, Other\, ME1 2QP\, United Kingdom
CATEGORIES:11Plus Summer 22,30EP Myrtle 1 Ma
ATTACH;FMTTYPE=image/jpeg:https://myrtlelearning.com/wp-content/uploads/2023/08/myrtle-icon-whitejpg.jpg
END:VEVENT
BEGIN:VEVENT
DTSTART;TZID=UTC:20291016T150000
DTEND;TZID=UTC:20291016T160000
DTSTAMP:20260424T055052
CREATED:20250307T110655Z
LAST-MODIFIED:20250307T110823Z
UID:10068532-1886857200-1886860800@myrtlelearning.com
SUMMARY:30EP Myrtle 1 Ma
DESCRIPTION:30EP Myrtle 1 Ma \nThese group is made of students preparing to improve their attainment in primary school \nSelect the button below to join the lesson online
URL:https://myrtlelearning.com/event/30ep-myrtle-1-ma-2/2029-10-16/
LOCATION:Online Session\, 25 Pattens Gardens\, Rochester\, Other\, ME1 2QP\, United Kingdom
CATEGORIES:11Plus Summer 22,30EP Myrtle 1 Ma
ATTACH;FMTTYPE=image/jpeg:https://myrtlelearning.com/wp-content/uploads/2023/08/myrtle-icon-whitejpg.jpg
END:VEVENT
BEGIN:VEVENT
DTSTART;TZID=UTC:20291023T150000
DTEND;TZID=UTC:20291023T160000
DTSTAMP:20260424T055052
CREATED:20250307T110655Z
LAST-MODIFIED:20250307T110823Z
UID:10068533-1887462000-1887465600@myrtlelearning.com
SUMMARY:30EP Myrtle 1 Ma
DESCRIPTION:30EP Myrtle 1 Ma \nThese group is made of students preparing to improve their attainment in primary school \nSelect the button below to join the lesson online
URL:https://myrtlelearning.com/event/30ep-myrtle-1-ma-2/2029-10-23/
LOCATION:Online Session\, 25 Pattens Gardens\, Rochester\, Other\, ME1 2QP\, United Kingdom
CATEGORIES:11Plus Summer 22,30EP Myrtle 1 Ma
ATTACH;FMTTYPE=image/jpeg:https://myrtlelearning.com/wp-content/uploads/2023/08/myrtle-icon-whitejpg.jpg
END:VEVENT
BEGIN:VEVENT
DTSTART;TZID=UTC:20291030T150000
DTEND;TZID=UTC:20291030T160000
DTSTAMP:20260424T055052
CREATED:20250307T110655Z
LAST-MODIFIED:20250307T110823Z
UID:10068534-1888066800-1888070400@myrtlelearning.com
SUMMARY:30EP Myrtle 1 Ma
DESCRIPTION:30EP Myrtle 1 Ma \nThese group is made of students preparing to improve their attainment in primary school \nSelect the button below to join the lesson online
URL:https://myrtlelearning.com/event/30ep-myrtle-1-ma-2/2029-10-30/
LOCATION:Online Session\, 25 Pattens Gardens\, Rochester\, Other\, ME1 2QP\, United Kingdom
CATEGORIES:11Plus Summer 22,30EP Myrtle 1 Ma
ATTACH;FMTTYPE=image/jpeg:https://myrtlelearning.com/wp-content/uploads/2023/08/myrtle-icon-whitejpg.jpg
END:VEVENT
END:VCALENDAR