BEGIN:VCALENDAR
VERSION:2.0
PRODID:-//Myrtle Learning - ECPv6.15.3//NONSGML v1.0//EN
CALSCALE:GREGORIAN
METHOD:PUBLISH
X-ORIGINAL-URL:https://myrtlelearning.com
X-WR-CALDESC:Events for Myrtle Learning
REFRESH-INTERVAL;VALUE=DURATION:PT1H
X-Robots-Tag:noindex
X-PUBLISHED-TTL:PT1H
BEGIN:VTIMEZONE
TZID:UTC
BEGIN:STANDARD
TZOFFSETFROM:+0000
TZOFFSETTO:+0000
TZNAME:UTC
DTSTART:20260101T000000
END:STANDARD
END:VTIMEZONE
BEGIN:VEVENT
DTSTART;TZID=UTC:20260103T100000
DTEND;TZID=UTC:20260103T110000
DTSTAMP:20260421T065852
CREATED:20240921T090640Z
LAST-MODIFIED:20240921T090640Z
UID:10047414-1767434400-1767438000@myrtlelearning.com
SUMMARY:30GM Myrtle 1
DESCRIPTION:30GM Myrtle 1 \nThese group is made of students preparing for their 11plus exams in 2026 \nSelect the button below to join the lesson online
URL:https://myrtlelearning.com/event/30gm-myrtle-1/2026-01-03/
LOCATION:Myrtle Learning Centre\, Pattens Gardens\, Rochester\, Kent\, ME1 2QP\, United Kingdom
CATEGORIES:30GM Myrtle 1
ATTACH;FMTTYPE=image/jpeg:https://myrtlelearning.com/wp-content/uploads/2023/08/myrtle-icon-whitejpg.jpg
END:VEVENT
BEGIN:VEVENT
DTSTART;TZID=UTC:20260110T100000
DTEND;TZID=UTC:20260110T110000
DTSTAMP:20260421T065852
CREATED:20240921T090640Z
LAST-MODIFIED:20240921T090640Z
UID:10047415-1768039200-1768042800@myrtlelearning.com
SUMMARY:30GM Myrtle 1
DESCRIPTION:30GM Myrtle 1 \nThese group is made of students preparing for their 11plus exams in 2026 \nSelect the button below to join the lesson online
URL:https://myrtlelearning.com/event/30gm-myrtle-1/2026-01-10/
LOCATION:Myrtle Learning Centre\, Pattens Gardens\, Rochester\, Kent\, ME1 2QP\, United Kingdom
CATEGORIES:30GM Myrtle 1
ATTACH;FMTTYPE=image/jpeg:https://myrtlelearning.com/wp-content/uploads/2023/08/myrtle-icon-whitejpg.jpg
END:VEVENT
BEGIN:VEVENT
DTSTART;TZID=UTC:20260117T100000
DTEND;TZID=UTC:20260117T110000
DTSTAMP:20260421T065852
CREATED:20240921T090640Z
LAST-MODIFIED:20240921T090640Z
UID:10047416-1768644000-1768647600@myrtlelearning.com
SUMMARY:30GM Myrtle 1
DESCRIPTION:30GM Myrtle 1 \nThese group is made of students preparing for their 11plus exams in 2026 \nSelect the button below to join the lesson online
URL:https://myrtlelearning.com/event/30gm-myrtle-1/2026-01-17/
LOCATION:Myrtle Learning Centre\, Pattens Gardens\, Rochester\, Kent\, ME1 2QP\, United Kingdom
CATEGORIES:30GM Myrtle 1
ATTACH;FMTTYPE=image/jpeg:https://myrtlelearning.com/wp-content/uploads/2023/08/myrtle-icon-whitejpg.jpg
END:VEVENT
BEGIN:VEVENT
DTSTART;TZID=UTC:20260124T100000
DTEND;TZID=UTC:20260124T110000
DTSTAMP:20260421T065852
CREATED:20240921T090640Z
LAST-MODIFIED:20240921T090640Z
UID:10047417-1769248800-1769252400@myrtlelearning.com
SUMMARY:30GM Myrtle 1
DESCRIPTION:30GM Myrtle 1 \nThese group is made of students preparing for their 11plus exams in 2026 \nSelect the button below to join the lesson online
URL:https://myrtlelearning.com/event/30gm-myrtle-1/2026-01-24/
LOCATION:Myrtle Learning Centre\, Pattens Gardens\, Rochester\, Kent\, ME1 2QP\, United Kingdom
CATEGORIES:30GM Myrtle 1
ATTACH;FMTTYPE=image/jpeg:https://myrtlelearning.com/wp-content/uploads/2023/08/myrtle-icon-whitejpg.jpg
END:VEVENT
BEGIN:VEVENT
DTSTART;TZID=UTC:20260131T090000
DTEND;TZID=UTC:20260131T100000
DTSTAMP:20260421T065852
CREATED:20260126T185648Z
LAST-MODIFIED:20260207T104209Z
UID:10096394-1769850000-1769853600@myrtlelearning.com
SUMMARY:30GM Myrtle 1
DESCRIPTION:30GM/SC Myrtle 1  \nThese group is made of students preparing for their maths and science exams in 2030 \nSelect the button below to join the lesson online
URL:https://myrtlelearning.com/event/30gm-gs-myrtle-1/2026-01-31/
LOCATION:Online Session\, 25 Pattens Gardens\, Rochester\, Other\, ME1 2QP\, United Kingdom
CATEGORIES:30GM Myrtle 1
ATTACH;FMTTYPE=image/jpeg:https://myrtlelearning.com/wp-content/uploads/2023/08/myrtle-icon-whitejpg.jpg
ORGANIZER;CN="Abbie":MAILTO:barnesab@myrtlelearning.com
END:VEVENT
BEGIN:VEVENT
DTSTART;TZID=UTC:20260131T100000
DTEND;TZID=UTC:20260131T110000
DTSTAMP:20260421T065852
CREATED:20240921T090640Z
LAST-MODIFIED:20240921T090640Z
UID:10047418-1769853600-1769857200@myrtlelearning.com
SUMMARY:30GM Myrtle 1
DESCRIPTION:30GM Myrtle 1 \nThese group is made of students preparing for their 11plus exams in 2026 \nSelect the button below to join the lesson online
URL:https://myrtlelearning.com/event/30gm-myrtle-1/2026-01-31/
LOCATION:Myrtle Learning Centre\, Pattens Gardens\, Rochester\, Kent\, ME1 2QP\, United Kingdom
CATEGORIES:30GM Myrtle 1
ATTACH;FMTTYPE=image/jpeg:https://myrtlelearning.com/wp-content/uploads/2023/08/myrtle-icon-whitejpg.jpg
END:VEVENT
END:VCALENDAR