BEGIN:VCALENDAR
VERSION:2.0
PRODID:-//Myrtle Learning - ECPv6.15.3//NONSGML v1.0//EN
CALSCALE:GREGORIAN
METHOD:PUBLISH
X-ORIGINAL-URL:https://myrtlelearning.com
X-WR-CALDESC:Events for Myrtle Learning
REFRESH-INTERVAL;VALUE=DURATION:PT1H
X-Robots-Tag:noindex
X-PUBLISHED-TTL:PT1H
BEGIN:VTIMEZONE
TZID:UTC
BEGIN:STANDARD
TZOFFSETFROM:+0000
TZOFFSETTO:+0000
TZNAME:UTC
DTSTART:20280101T000000
END:STANDARD
END:VTIMEZONE
BEGIN:VEVENT
DTSTART;TZID=UTC:20281202T090000
DTEND;TZID=UTC:20281202T100000
DTSTAMP:20260423T112420
CREATED:20260126T185648Z
LAST-MODIFIED:20260207T104209Z
UID:10096542-1859360400-1859364000@myrtlelearning.com
SUMMARY:30GM Myrtle 1
DESCRIPTION:30GM/SC Myrtle 1  \nThese group is made of students preparing for their maths and science exams in 2030 \nSelect the button below to join the lesson online
URL:https://myrtlelearning.com/event/30gm-gs-myrtle-1/2028-12-02/
LOCATION:Online Session\, 25 Pattens Gardens\, Rochester\, Other\, ME1 2QP\, United Kingdom
CATEGORIES:30GM Myrtle 1
ATTACH;FMTTYPE=image/jpeg:https://myrtlelearning.com/wp-content/uploads/2023/08/myrtle-icon-whitejpg.jpg
ORGANIZER;CN="Abbie":MAILTO:barnesab@myrtlelearning.com
END:VEVENT
BEGIN:VEVENT
DTSTART;TZID=UTC:20281202T100000
DTEND;TZID=UTC:20281202T110000
DTSTAMP:20260423T112420
CREATED:20240921T090640Z
LAST-MODIFIED:20240921T090640Z
UID:10047566-1859364000-1859367600@myrtlelearning.com
SUMMARY:30GM Myrtle 1
DESCRIPTION:30GM Myrtle 1 \nThese group is made of students preparing for their 11plus exams in 2026 \nSelect the button below to join the lesson online
URL:https://myrtlelearning.com/event/30gm-myrtle-1/2028-12-02/
LOCATION:Myrtle Learning Centre\, Pattens Gardens\, Rochester\, Kent\, ME1 2QP\, United Kingdom
CATEGORIES:30GM Myrtle 1
ATTACH;FMTTYPE=image/jpeg:https://myrtlelearning.com/wp-content/uploads/2023/08/myrtle-icon-whitejpg.jpg
END:VEVENT
BEGIN:VEVENT
DTSTART;TZID=UTC:20281209T090000
DTEND;TZID=UTC:20281209T100000
DTSTAMP:20260423T112420
CREATED:20260126T185648Z
LAST-MODIFIED:20260207T104209Z
UID:10096543-1859965200-1859968800@myrtlelearning.com
SUMMARY:30GM Myrtle 1
DESCRIPTION:30GM/SC Myrtle 1  \nThese group is made of students preparing for their maths and science exams in 2030 \nSelect the button below to join the lesson online
URL:https://myrtlelearning.com/event/30gm-gs-myrtle-1/2028-12-09/
LOCATION:Online Session\, 25 Pattens Gardens\, Rochester\, Other\, ME1 2QP\, United Kingdom
CATEGORIES:30GM Myrtle 1
ATTACH;FMTTYPE=image/jpeg:https://myrtlelearning.com/wp-content/uploads/2023/08/myrtle-icon-whitejpg.jpg
ORGANIZER;CN="Abbie":MAILTO:barnesab@myrtlelearning.com
END:VEVENT
BEGIN:VEVENT
DTSTART;TZID=UTC:20281209T100000
DTEND;TZID=UTC:20281209T110000
DTSTAMP:20260423T112420
CREATED:20240921T090640Z
LAST-MODIFIED:20240921T090640Z
UID:10047567-1859968800-1859972400@myrtlelearning.com
SUMMARY:30GM Myrtle 1
DESCRIPTION:30GM Myrtle 1 \nThese group is made of students preparing for their 11plus exams in 2026 \nSelect the button below to join the lesson online
URL:https://myrtlelearning.com/event/30gm-myrtle-1/2028-12-09/
LOCATION:Myrtle Learning Centre\, Pattens Gardens\, Rochester\, Kent\, ME1 2QP\, United Kingdom
CATEGORIES:30GM Myrtle 1
ATTACH;FMTTYPE=image/jpeg:https://myrtlelearning.com/wp-content/uploads/2023/08/myrtle-icon-whitejpg.jpg
END:VEVENT
BEGIN:VEVENT
DTSTART;TZID=UTC:20281216T090000
DTEND;TZID=UTC:20281216T100000
DTSTAMP:20260423T112420
CREATED:20260126T185648Z
LAST-MODIFIED:20260207T104209Z
UID:10096544-1860570000-1860573600@myrtlelearning.com
SUMMARY:30GM Myrtle 1
DESCRIPTION:30GM/SC Myrtle 1  \nThese group is made of students preparing for their maths and science exams in 2030 \nSelect the button below to join the lesson online
URL:https://myrtlelearning.com/event/30gm-gs-myrtle-1/2028-12-16/
LOCATION:Online Session\, 25 Pattens Gardens\, Rochester\, Other\, ME1 2QP\, United Kingdom
CATEGORIES:30GM Myrtle 1
ATTACH;FMTTYPE=image/jpeg:https://myrtlelearning.com/wp-content/uploads/2023/08/myrtle-icon-whitejpg.jpg
ORGANIZER;CN="Abbie":MAILTO:barnesab@myrtlelearning.com
END:VEVENT
BEGIN:VEVENT
DTSTART;TZID=UTC:20281216T100000
DTEND;TZID=UTC:20281216T110000
DTSTAMP:20260423T112420
CREATED:20240921T090640Z
LAST-MODIFIED:20240921T090640Z
UID:10047568-1860573600-1860577200@myrtlelearning.com
SUMMARY:30GM Myrtle 1
DESCRIPTION:30GM Myrtle 1 \nThese group is made of students preparing for their 11plus exams in 2026 \nSelect the button below to join the lesson online
URL:https://myrtlelearning.com/event/30gm-myrtle-1/2028-12-16/
LOCATION:Myrtle Learning Centre\, Pattens Gardens\, Rochester\, Kent\, ME1 2QP\, United Kingdom
CATEGORIES:30GM Myrtle 1
ATTACH;FMTTYPE=image/jpeg:https://myrtlelearning.com/wp-content/uploads/2023/08/myrtle-icon-whitejpg.jpg
END:VEVENT
BEGIN:VEVENT
DTSTART;TZID=UTC:20281223T090000
DTEND;TZID=UTC:20281223T100000
DTSTAMP:20260423T112420
CREATED:20260126T185648Z
LAST-MODIFIED:20260207T104209Z
UID:10096545-1861174800-1861178400@myrtlelearning.com
SUMMARY:30GM Myrtle 1
DESCRIPTION:30GM/SC Myrtle 1  \nThese group is made of students preparing for their maths and science exams in 2030 \nSelect the button below to join the lesson online
URL:https://myrtlelearning.com/event/30gm-gs-myrtle-1/2028-12-23/
LOCATION:Online Session\, 25 Pattens Gardens\, Rochester\, Other\, ME1 2QP\, United Kingdom
CATEGORIES:30GM Myrtle 1
ATTACH;FMTTYPE=image/jpeg:https://myrtlelearning.com/wp-content/uploads/2023/08/myrtle-icon-whitejpg.jpg
ORGANIZER;CN="Abbie":MAILTO:barnesab@myrtlelearning.com
END:VEVENT
BEGIN:VEVENT
DTSTART;TZID=UTC:20281223T100000
DTEND;TZID=UTC:20281223T110000
DTSTAMP:20260423T112420
CREATED:20240921T090640Z
LAST-MODIFIED:20240921T090640Z
UID:10047569-1861178400-1861182000@myrtlelearning.com
SUMMARY:30GM Myrtle 1
DESCRIPTION:30GM Myrtle 1 \nThese group is made of students preparing for their 11plus exams in 2026 \nSelect the button below to join the lesson online
URL:https://myrtlelearning.com/event/30gm-myrtle-1/2028-12-23/
LOCATION:Myrtle Learning Centre\, Pattens Gardens\, Rochester\, Kent\, ME1 2QP\, United Kingdom
CATEGORIES:30GM Myrtle 1
ATTACH;FMTTYPE=image/jpeg:https://myrtlelearning.com/wp-content/uploads/2023/08/myrtle-icon-whitejpg.jpg
END:VEVENT
BEGIN:VEVENT
DTSTART;TZID=UTC:20281230T090000
DTEND;TZID=UTC:20281230T100000
DTSTAMP:20260423T112420
CREATED:20260126T185648Z
LAST-MODIFIED:20260207T104209Z
UID:10096546-1861779600-1861783200@myrtlelearning.com
SUMMARY:30GM Myrtle 1
DESCRIPTION:30GM/SC Myrtle 1  \nThese group is made of students preparing for their maths and science exams in 2030 \nSelect the button below to join the lesson online
URL:https://myrtlelearning.com/event/30gm-gs-myrtle-1/2028-12-30/
LOCATION:Online Session\, 25 Pattens Gardens\, Rochester\, Other\, ME1 2QP\, United Kingdom
CATEGORIES:30GM Myrtle 1
ATTACH;FMTTYPE=image/jpeg:https://myrtlelearning.com/wp-content/uploads/2023/08/myrtle-icon-whitejpg.jpg
ORGANIZER;CN="Abbie":MAILTO:barnesab@myrtlelearning.com
END:VEVENT
BEGIN:VEVENT
DTSTART;TZID=UTC:20281230T100000
DTEND;TZID=UTC:20281230T110000
DTSTAMP:20260423T112420
CREATED:20240921T090640Z
LAST-MODIFIED:20240921T090640Z
UID:10047570-1861783200-1861786800@myrtlelearning.com
SUMMARY:30GM Myrtle 1
DESCRIPTION:30GM Myrtle 1 \nThese group is made of students preparing for their 11plus exams in 2026 \nSelect the button below to join the lesson online
URL:https://myrtlelearning.com/event/30gm-myrtle-1/2028-12-30/
LOCATION:Myrtle Learning Centre\, Pattens Gardens\, Rochester\, Kent\, ME1 2QP\, United Kingdom
CATEGORIES:30GM Myrtle 1
ATTACH;FMTTYPE=image/jpeg:https://myrtlelearning.com/wp-content/uploads/2023/08/myrtle-icon-whitejpg.jpg
END:VEVENT
END:VCALENDAR