BEGIN:VCALENDAR
VERSION:2.0
PRODID:-//Myrtle Learning - ECPv6.15.3//NONSGML v1.0//EN
CALSCALE:GREGORIAN
METHOD:PUBLISH
X-WR-CALNAME:Myrtle Learning
X-ORIGINAL-URL:https://myrtlelearning.com
X-WR-CALDESC:Events for Myrtle Learning
REFRESH-INTERVAL;VALUE=DURATION:PT1H
X-Robots-Tag:noindex
X-PUBLISHED-TTL:PT1H
BEGIN:VTIMEZONE
TZID:UTC
BEGIN:STANDARD
TZOFFSETFROM:+0000
TZOFFSETTO:+0000
TZNAME:UTC
DTSTART:20260101T000000
END:STANDARD
END:VTIMEZONE
BEGIN:VEVENT
DTSTART;TZID=UTC:20261205T100000
DTEND;TZID=UTC:20261205T110000
DTSTAMP:20260421T235102
CREATED:20260207T105820Z
LAST-MODIFIED:20260207T105820Z
UID:10097544-1796464800-1796468400@myrtlelearning.com
SUMMARY:30GS Myrtle 1
DESCRIPTION:30GS Myrtle 1  \nThese group is made of students preparing for their maths and science exams in 2030 \nSelect the button below to join the lesson online
URL:https://myrtlelearning.com/event/30gs-myrtle-1/2026-12-05/
CATEGORIES:30GS Myrtle 1
ATTACH;FMTTYPE=image/jpeg:https://myrtlelearning.com/wp-content/uploads/2023/08/myrtle-icon-whitejpg.jpg
END:VEVENT
BEGIN:VEVENT
DTSTART;TZID=UTC:20261212T100000
DTEND;TZID=UTC:20261212T110000
DTSTAMP:20260421T235102
CREATED:20260207T105820Z
LAST-MODIFIED:20260207T105820Z
UID:10097545-1797069600-1797073200@myrtlelearning.com
SUMMARY:30GS Myrtle 1
DESCRIPTION:30GS Myrtle 1  \nThese group is made of students preparing for their maths and science exams in 2030 \nSelect the button below to join the lesson online
URL:https://myrtlelearning.com/event/30gs-myrtle-1/2026-12-12/
CATEGORIES:30GS Myrtle 1
ATTACH;FMTTYPE=image/jpeg:https://myrtlelearning.com/wp-content/uploads/2023/08/myrtle-icon-whitejpg.jpg
END:VEVENT
BEGIN:VEVENT
DTSTART;TZID=UTC:20261219T100000
DTEND;TZID=UTC:20261219T110000
DTSTAMP:20260421T235102
CREATED:20260207T105820Z
LAST-MODIFIED:20260207T105820Z
UID:10097546-1797674400-1797678000@myrtlelearning.com
SUMMARY:30GS Myrtle 1
DESCRIPTION:30GS Myrtle 1  \nThese group is made of students preparing for their maths and science exams in 2030 \nSelect the button below to join the lesson online
URL:https://myrtlelearning.com/event/30gs-myrtle-1/2026-12-19/
CATEGORIES:30GS Myrtle 1
ATTACH;FMTTYPE=image/jpeg:https://myrtlelearning.com/wp-content/uploads/2023/08/myrtle-icon-whitejpg.jpg
END:VEVENT
BEGIN:VEVENT
DTSTART;TZID=UTC:20261226T100000
DTEND;TZID=UTC:20261226T110000
DTSTAMP:20260421T235102
CREATED:20260207T105820Z
LAST-MODIFIED:20260207T105820Z
UID:10097547-1798279200-1798282800@myrtlelearning.com
SUMMARY:30GS Myrtle 1
DESCRIPTION:30GS Myrtle 1  \nThese group is made of students preparing for their maths and science exams in 2030 \nSelect the button below to join the lesson online
URL:https://myrtlelearning.com/event/30gs-myrtle-1/2026-12-26/
CATEGORIES:30GS Myrtle 1
ATTACH;FMTTYPE=image/jpeg:https://myrtlelearning.com/wp-content/uploads/2023/08/myrtle-icon-whitejpg.jpg
END:VEVENT
END:VCALENDAR