BEGIN:VCALENDAR
VERSION:2.0
PRODID:-//Myrtle Learning - ECPv6.15.3//NONSGML v1.0//EN
CALSCALE:GREGORIAN
METHOD:PUBLISH
X-WR-CALNAME:Myrtle Learning
X-ORIGINAL-URL:https://myrtlelearning.com
X-WR-CALDESC:Events for Myrtle Learning
REFRESH-INTERVAL;VALUE=DURATION:PT1H
X-Robots-Tag:noindex
X-PUBLISHED-TTL:PT1H
BEGIN:VTIMEZONE
TZID:UTC
BEGIN:STANDARD
TZOFFSETFROM:+0000
TZOFFSETTO:+0000
TZNAME:UTC
DTSTART:20270101T000000
END:STANDARD
END:VTIMEZONE
BEGIN:VEVENT
DTSTART;TZID=UTC:20270306T100000
DTEND;TZID=UTC:20270306T110000
DTSTAMP:20260422T043753
CREATED:20260207T105820Z
LAST-MODIFIED:20260207T105820Z
UID:10097557-1804327200-1804330800@myrtlelearning.com
SUMMARY:30GS Myrtle 1
DESCRIPTION:30GS Myrtle 1  \nThese group is made of students preparing for their maths and science exams in 2030 \nSelect the button below to join the lesson online
URL:https://myrtlelearning.com/event/30gs-myrtle-1/2027-03-06/
CATEGORIES:30GS Myrtle 1
ATTACH;FMTTYPE=image/jpeg:https://myrtlelearning.com/wp-content/uploads/2023/08/myrtle-icon-whitejpg.jpg
END:VEVENT
BEGIN:VEVENT
DTSTART;TZID=UTC:20270313T100000
DTEND;TZID=UTC:20270313T110000
DTSTAMP:20260422T043753
CREATED:20260207T105820Z
LAST-MODIFIED:20260207T105820Z
UID:10097558-1804932000-1804935600@myrtlelearning.com
SUMMARY:30GS Myrtle 1
DESCRIPTION:30GS Myrtle 1  \nThese group is made of students preparing for their maths and science exams in 2030 \nSelect the button below to join the lesson online
URL:https://myrtlelearning.com/event/30gs-myrtle-1/2027-03-13/
CATEGORIES:30GS Myrtle 1
ATTACH;FMTTYPE=image/jpeg:https://myrtlelearning.com/wp-content/uploads/2023/08/myrtle-icon-whitejpg.jpg
END:VEVENT
BEGIN:VEVENT
DTSTART;TZID=UTC:20270320T100000
DTEND;TZID=UTC:20270320T110000
DTSTAMP:20260422T043753
CREATED:20260207T105820Z
LAST-MODIFIED:20260207T105820Z
UID:10097559-1805536800-1805540400@myrtlelearning.com
SUMMARY:30GS Myrtle 1
DESCRIPTION:30GS Myrtle 1  \nThese group is made of students preparing for their maths and science exams in 2030 \nSelect the button below to join the lesson online
URL:https://myrtlelearning.com/event/30gs-myrtle-1/2027-03-20/
CATEGORIES:30GS Myrtle 1
ATTACH;FMTTYPE=image/jpeg:https://myrtlelearning.com/wp-content/uploads/2023/08/myrtle-icon-whitejpg.jpg
END:VEVENT
BEGIN:VEVENT
DTSTART;TZID=UTC:20270327T100000
DTEND;TZID=UTC:20270327T110000
DTSTAMP:20260422T043753
CREATED:20260207T105820Z
LAST-MODIFIED:20260207T105820Z
UID:10097560-1806141600-1806145200@myrtlelearning.com
SUMMARY:30GS Myrtle 1
DESCRIPTION:30GS Myrtle 1  \nThese group is made of students preparing for their maths and science exams in 2030 \nSelect the button below to join the lesson online
URL:https://myrtlelearning.com/event/30gs-myrtle-1/2027-03-27/
CATEGORIES:30GS Myrtle 1
ATTACH;FMTTYPE=image/jpeg:https://myrtlelearning.com/wp-content/uploads/2023/08/myrtle-icon-whitejpg.jpg
END:VEVENT
END:VCALENDAR