BEGIN:VCALENDAR
VERSION:2.0
PRODID:-//Myrtle Learning - ECPv6.15.3//NONSGML v1.0//EN
CALSCALE:GREGORIAN
METHOD:PUBLISH
X-WR-CALNAME:Myrtle Learning
X-ORIGINAL-URL:https://myrtlelearning.com
X-WR-CALDESC:Events for Myrtle Learning
REFRESH-INTERVAL;VALUE=DURATION:PT1H
X-Robots-Tag:noindex
X-PUBLISHED-TTL:PT1H
BEGIN:VTIMEZONE
TZID:UTC
BEGIN:STANDARD
TZOFFSETFROM:+0000
TZOFFSETTO:+0000
TZNAME:UTC
DTSTART:20270101T000000
END:STANDARD
END:VTIMEZONE
BEGIN:VEVENT
DTSTART;TZID=UTC:20270501T100000
DTEND;TZID=UTC:20270501T110000
DTSTAMP:20260422T081334
CREATED:20260207T105820Z
LAST-MODIFIED:20260207T105820Z
UID:10097565-1809165600-1809169200@myrtlelearning.com
SUMMARY:30GS Myrtle 1
DESCRIPTION:30GS Myrtle 1  \nThese group is made of students preparing for their maths and science exams in 2030 \nSelect the button below to join the lesson online
URL:https://myrtlelearning.com/event/30gs-myrtle-1/2027-05-01/
CATEGORIES:30GS Myrtle 1
ATTACH;FMTTYPE=image/jpeg:https://myrtlelearning.com/wp-content/uploads/2023/08/myrtle-icon-whitejpg.jpg
END:VEVENT
BEGIN:VEVENT
DTSTART;TZID=UTC:20270508T100000
DTEND;TZID=UTC:20270508T110000
DTSTAMP:20260422T081334
CREATED:20260207T105820Z
LAST-MODIFIED:20260207T105820Z
UID:10097566-1809770400-1809774000@myrtlelearning.com
SUMMARY:30GS Myrtle 1
DESCRIPTION:30GS Myrtle 1  \nThese group is made of students preparing for their maths and science exams in 2030 \nSelect the button below to join the lesson online
URL:https://myrtlelearning.com/event/30gs-myrtle-1/2027-05-08/
CATEGORIES:30GS Myrtle 1
ATTACH;FMTTYPE=image/jpeg:https://myrtlelearning.com/wp-content/uploads/2023/08/myrtle-icon-whitejpg.jpg
END:VEVENT
BEGIN:VEVENT
DTSTART;TZID=UTC:20270515T100000
DTEND;TZID=UTC:20270515T110000
DTSTAMP:20260422T081334
CREATED:20260207T105820Z
LAST-MODIFIED:20260207T105820Z
UID:10097567-1810375200-1810378800@myrtlelearning.com
SUMMARY:30GS Myrtle 1
DESCRIPTION:30GS Myrtle 1  \nThese group is made of students preparing for their maths and science exams in 2030 \nSelect the button below to join the lesson online
URL:https://myrtlelearning.com/event/30gs-myrtle-1/2027-05-15/
CATEGORIES:30GS Myrtle 1
ATTACH;FMTTYPE=image/jpeg:https://myrtlelearning.com/wp-content/uploads/2023/08/myrtle-icon-whitejpg.jpg
END:VEVENT
BEGIN:VEVENT
DTSTART;TZID=UTC:20270522T100000
DTEND;TZID=UTC:20270522T110000
DTSTAMP:20260422T081334
CREATED:20260207T105820Z
LAST-MODIFIED:20260207T105820Z
UID:10097568-1810980000-1810983600@myrtlelearning.com
SUMMARY:30GS Myrtle 1
DESCRIPTION:30GS Myrtle 1  \nThese group is made of students preparing for their maths and science exams in 2030 \nSelect the button below to join the lesson online
URL:https://myrtlelearning.com/event/30gs-myrtle-1/2027-05-22/
CATEGORIES:30GS Myrtle 1
ATTACH;FMTTYPE=image/jpeg:https://myrtlelearning.com/wp-content/uploads/2023/08/myrtle-icon-whitejpg.jpg
END:VEVENT
BEGIN:VEVENT
DTSTART;TZID=UTC:20270529T100000
DTEND;TZID=UTC:20270529T110000
DTSTAMP:20260422T081334
CREATED:20260207T105820Z
LAST-MODIFIED:20260207T105820Z
UID:10097569-1811584800-1811588400@myrtlelearning.com
SUMMARY:30GS Myrtle 1
DESCRIPTION:30GS Myrtle 1  \nThese group is made of students preparing for their maths and science exams in 2030 \nSelect the button below to join the lesson online
URL:https://myrtlelearning.com/event/30gs-myrtle-1/2027-05-29/
CATEGORIES:30GS Myrtle 1
ATTACH;FMTTYPE=image/jpeg:https://myrtlelearning.com/wp-content/uploads/2023/08/myrtle-icon-whitejpg.jpg
END:VEVENT
END:VCALENDAR