BEGIN:VCALENDAR
VERSION:2.0
PRODID:-//Myrtle Learning - ECPv6.15.3//NONSGML v1.0//EN
CALSCALE:GREGORIAN
METHOD:PUBLISH
X-WR-CALNAME:Myrtle Learning
X-ORIGINAL-URL:https://myrtlelearning.com
X-WR-CALDESC:Events for Myrtle Learning
REFRESH-INTERVAL;VALUE=DURATION:PT1H
X-Robots-Tag:noindex
X-PUBLISHED-TTL:PT1H
BEGIN:VTIMEZONE
TZID:UTC
BEGIN:STANDARD
TZOFFSETFROM:+0000
TZOFFSETTO:+0000
TZNAME:UTC
DTSTART:20290101T000000
END:STANDARD
END:VTIMEZONE
BEGIN:VEVENT
DTSTART;TZID=UTC:20290505T100000
DTEND;TZID=UTC:20290505T110000
DTSTAMP:20260423T182500
CREATED:20260207T105820Z
LAST-MODIFIED:20260207T105820Z
UID:10097670-1872669600-1872673200@myrtlelearning.com
SUMMARY:30GS Myrtle 1
DESCRIPTION:30GS Myrtle 1  \nThese group is made of students preparing for their maths and science exams in 2030 \nSelect the button below to join the lesson online
URL:https://myrtlelearning.com/event/30gs-myrtle-1/2029-05-05/
CATEGORIES:30GS Myrtle 1
ATTACH;FMTTYPE=image/jpeg:https://myrtlelearning.com/wp-content/uploads/2023/08/myrtle-icon-whitejpg.jpg
END:VEVENT
BEGIN:VEVENT
DTSTART;TZID=UTC:20290512T100000
DTEND;TZID=UTC:20290512T110000
DTSTAMP:20260423T182500
CREATED:20260207T105820Z
LAST-MODIFIED:20260207T105820Z
UID:10097671-1873274400-1873278000@myrtlelearning.com
SUMMARY:30GS Myrtle 1
DESCRIPTION:30GS Myrtle 1  \nThese group is made of students preparing for their maths and science exams in 2030 \nSelect the button below to join the lesson online
URL:https://myrtlelearning.com/event/30gs-myrtle-1/2029-05-12/
CATEGORIES:30GS Myrtle 1
ATTACH;FMTTYPE=image/jpeg:https://myrtlelearning.com/wp-content/uploads/2023/08/myrtle-icon-whitejpg.jpg
END:VEVENT
BEGIN:VEVENT
DTSTART;TZID=UTC:20290519T100000
DTEND;TZID=UTC:20290519T110000
DTSTAMP:20260423T182500
CREATED:20260207T105820Z
LAST-MODIFIED:20260207T105820Z
UID:10097672-1873879200-1873882800@myrtlelearning.com
SUMMARY:30GS Myrtle 1
DESCRIPTION:30GS Myrtle 1  \nThese group is made of students preparing for their maths and science exams in 2030 \nSelect the button below to join the lesson online
URL:https://myrtlelearning.com/event/30gs-myrtle-1/2029-05-19/
CATEGORIES:30GS Myrtle 1
ATTACH;FMTTYPE=image/jpeg:https://myrtlelearning.com/wp-content/uploads/2023/08/myrtle-icon-whitejpg.jpg
END:VEVENT
BEGIN:VEVENT
DTSTART;TZID=UTC:20290526T100000
DTEND;TZID=UTC:20290526T110000
DTSTAMP:20260423T182500
CREATED:20260207T105820Z
LAST-MODIFIED:20260207T105820Z
UID:10097673-1874484000-1874487600@myrtlelearning.com
SUMMARY:30GS Myrtle 1
DESCRIPTION:30GS Myrtle 1  \nThese group is made of students preparing for their maths and science exams in 2030 \nSelect the button below to join the lesson online
URL:https://myrtlelearning.com/event/30gs-myrtle-1/2029-05-26/
CATEGORIES:30GS Myrtle 1
ATTACH;FMTTYPE=image/jpeg:https://myrtlelearning.com/wp-content/uploads/2023/08/myrtle-icon-whitejpg.jpg
END:VEVENT
END:VCALENDAR