BEGIN:VCALENDAR
VERSION:2.0
PRODID:-//Myrtle Learning - ECPv6.15.3//NONSGML v1.0//EN
CALSCALE:GREGORIAN
METHOD:PUBLISH
X-WR-CALNAME:Myrtle Learning
X-ORIGINAL-URL:https://myrtlelearning.com
X-WR-CALDESC:Events for Myrtle Learning
REFRESH-INTERVAL;VALUE=DURATION:PT1H
X-Robots-Tag:noindex
X-PUBLISHED-TTL:PT1H
BEGIN:VTIMEZONE
TZID:UTC
BEGIN:STANDARD
TZOFFSETFROM:+0000
TZOFFSETTO:+0000
TZNAME:UTC
DTSTART:20290101T000000
END:STANDARD
END:VTIMEZONE
BEGIN:VEVENT
DTSTART;TZID=UTC:20290901T100000
DTEND;TZID=UTC:20290901T110000
DTSTAMP:20260423T215339
CREATED:20260207T105820Z
LAST-MODIFIED:20260207T105820Z
UID:10097687-1882951200-1882954800@myrtlelearning.com
SUMMARY:30GS Myrtle 1
DESCRIPTION:30GS Myrtle 1  \nThese group is made of students preparing for their maths and science exams in 2030 \nSelect the button below to join the lesson online
URL:https://myrtlelearning.com/event/30gs-myrtle-1/2029-09-01/
CATEGORIES:30GS Myrtle 1
ATTACH;FMTTYPE=image/jpeg:https://myrtlelearning.com/wp-content/uploads/2023/08/myrtle-icon-whitejpg.jpg
END:VEVENT
BEGIN:VEVENT
DTSTART;TZID=UTC:20290908T100000
DTEND;TZID=UTC:20290908T110000
DTSTAMP:20260423T215339
CREATED:20260207T105820Z
LAST-MODIFIED:20260207T105820Z
UID:10097688-1883556000-1883559600@myrtlelearning.com
SUMMARY:30GS Myrtle 1
DESCRIPTION:30GS Myrtle 1  \nThese group is made of students preparing for their maths and science exams in 2030 \nSelect the button below to join the lesson online
URL:https://myrtlelearning.com/event/30gs-myrtle-1/2029-09-08/
CATEGORIES:30GS Myrtle 1
ATTACH;FMTTYPE=image/jpeg:https://myrtlelearning.com/wp-content/uploads/2023/08/myrtle-icon-whitejpg.jpg
END:VEVENT
BEGIN:VEVENT
DTSTART;TZID=UTC:20290915T100000
DTEND;TZID=UTC:20290915T110000
DTSTAMP:20260423T215339
CREATED:20260207T105820Z
LAST-MODIFIED:20260207T105820Z
UID:10097689-1884160800-1884164400@myrtlelearning.com
SUMMARY:30GS Myrtle 1
DESCRIPTION:30GS Myrtle 1  \nThese group is made of students preparing for their maths and science exams in 2030 \nSelect the button below to join the lesson online
URL:https://myrtlelearning.com/event/30gs-myrtle-1/2029-09-15/
CATEGORIES:30GS Myrtle 1
ATTACH;FMTTYPE=image/jpeg:https://myrtlelearning.com/wp-content/uploads/2023/08/myrtle-icon-whitejpg.jpg
END:VEVENT
BEGIN:VEVENT
DTSTART;TZID=UTC:20290922T100000
DTEND;TZID=UTC:20290922T110000
DTSTAMP:20260423T215339
CREATED:20260207T105820Z
LAST-MODIFIED:20260207T105820Z
UID:10097690-1884765600-1884769200@myrtlelearning.com
SUMMARY:30GS Myrtle 1
DESCRIPTION:30GS Myrtle 1  \nThese group is made of students preparing for their maths and science exams in 2030 \nSelect the button below to join the lesson online
URL:https://myrtlelearning.com/event/30gs-myrtle-1/2029-09-22/
CATEGORIES:30GS Myrtle 1
ATTACH;FMTTYPE=image/jpeg:https://myrtlelearning.com/wp-content/uploads/2023/08/myrtle-icon-whitejpg.jpg
END:VEVENT
BEGIN:VEVENT
DTSTART;TZID=UTC:20290929T100000
DTEND;TZID=UTC:20290929T110000
DTSTAMP:20260423T215339
CREATED:20260207T105820Z
LAST-MODIFIED:20260207T105820Z
UID:10097691-1885370400-1885374000@myrtlelearning.com
SUMMARY:30GS Myrtle 1
DESCRIPTION:30GS Myrtle 1  \nThese group is made of students preparing for their maths and science exams in 2030 \nSelect the button below to join the lesson online
URL:https://myrtlelearning.com/event/30gs-myrtle-1/2029-09-29/
CATEGORIES:30GS Myrtle 1
ATTACH;FMTTYPE=image/jpeg:https://myrtlelearning.com/wp-content/uploads/2023/08/myrtle-icon-whitejpg.jpg
END:VEVENT
END:VCALENDAR