BEGIN:VCALENDAR
VERSION:2.0
PRODID:-//Myrtle Learning - ECPv6.15.3//NONSGML v1.0//EN
CALSCALE:GREGORIAN
METHOD:PUBLISH
X-ORIGINAL-URL:https://myrtlelearning.com
X-WR-CALDESC:Events for Myrtle Learning
REFRESH-INTERVAL;VALUE=DURATION:PT1H
X-Robots-Tag:noindex
X-PUBLISHED-TTL:PT1H
BEGIN:VTIMEZONE
TZID:UTC
BEGIN:STANDARD
TZOFFSETFROM:+0000
TZOFFSETTO:+0000
TZNAME:UTC
DTSTART:20230101T000000
END:STANDARD
END:VTIMEZONE
BEGIN:VEVENT
DTSTART;TZID=UTC:20230207T183000
DTEND;TZID=UTC:20230207T190000
DTSTAMP:20260424T150014
CREATED:20230110T215417Z
LAST-MODIFIED:20230119T104430Z
UID:10010605-1675794600-1675796400@myrtlelearning.com
SUMMARY:Myrtle Reading Club-Willow 1
DESCRIPTION:Myrtle Reading Club \nA variety of books are read in these sessions \n(We will be updating this page with the list of books soon!) \nSelect the button below to join the lesson online
URL:https://myrtlelearning.com/event/myrtle-reading-club-willow-1/2023-02-07/
LOCATION:Myrtle Learning Centre\, Pattens Gardens\, Rochester\, Kent\, ME1 2QP\, United Kingdom
CATEGORIES:Myrtle Learning Reading - Willow 1
ATTACH;FMTTYPE=image/jpeg:https://myrtlelearning.com/wp-content/uploads/2022/12/WhatsApp-Image-2022-12-30-at-20.46.08-6.jpeg
END:VEVENT
BEGIN:VEVENT
DTSTART;TZID=UTC:20230214T183000
DTEND;TZID=UTC:20230214T190000
DTSTAMP:20260424T150014
CREATED:20230110T215417Z
LAST-MODIFIED:20230119T104430Z
UID:10010606-1676399400-1676401200@myrtlelearning.com
SUMMARY:Myrtle Reading Club-Willow 1
DESCRIPTION:Myrtle Reading Club \nA variety of books are read in these sessions \n(We will be updating this page with the list of books soon!) \nSelect the button below to join the lesson online
URL:https://myrtlelearning.com/event/myrtle-reading-club-willow-1/2023-02-14/
LOCATION:Myrtle Learning Centre\, Pattens Gardens\, Rochester\, Kent\, ME1 2QP\, United Kingdom
CATEGORIES:Myrtle Learning Reading - Willow 1
ATTACH;FMTTYPE=image/jpeg:https://myrtlelearning.com/wp-content/uploads/2022/12/WhatsApp-Image-2022-12-30-at-20.46.08-6.jpeg
END:VEVENT
BEGIN:VEVENT
DTSTART;TZID=UTC:20230221T183000
DTEND;TZID=UTC:20230221T190000
DTSTAMP:20260424T150014
CREATED:20230110T215417Z
LAST-MODIFIED:20230119T104430Z
UID:10010607-1677004200-1677006000@myrtlelearning.com
SUMMARY:Myrtle Reading Club-Willow 1
DESCRIPTION:Myrtle Reading Club \nA variety of books are read in these sessions \n(We will be updating this page with the list of books soon!) \nSelect the button below to join the lesson online
URL:https://myrtlelearning.com/event/myrtle-reading-club-willow-1/2023-02-21/
LOCATION:Myrtle Learning Centre\, Pattens Gardens\, Rochester\, Kent\, ME1 2QP\, United Kingdom
CATEGORIES:Myrtle Learning Reading - Willow 1
ATTACH;FMTTYPE=image/jpeg:https://myrtlelearning.com/wp-content/uploads/2022/12/WhatsApp-Image-2022-12-30-at-20.46.08-6.jpeg
END:VEVENT
BEGIN:VEVENT
DTSTART;TZID=UTC:20230228T183000
DTEND;TZID=UTC:20230228T190000
DTSTAMP:20260424T150014
CREATED:20230110T215417Z
LAST-MODIFIED:20230119T104430Z
UID:10010608-1677609000-1677610800@myrtlelearning.com
SUMMARY:Myrtle Reading Club-Willow 1
DESCRIPTION:Myrtle Reading Club \nA variety of books are read in these sessions \n(We will be updating this page with the list of books soon!) \nSelect the button below to join the lesson online
URL:https://myrtlelearning.com/event/myrtle-reading-club-willow-1/2023-02-28/
LOCATION:Myrtle Learning Centre\, Pattens Gardens\, Rochester\, Kent\, ME1 2QP\, United Kingdom
CATEGORIES:Myrtle Learning Reading - Willow 1
ATTACH;FMTTYPE=image/jpeg:https://myrtlelearning.com/wp-content/uploads/2022/12/WhatsApp-Image-2022-12-30-at-20.46.08-6.jpeg
END:VEVENT
END:VCALENDAR