BEGIN:VCALENDAR
VERSION:2.0
PRODID:-//Myrtle Learning - ECPv6.15.3//NONSGML v1.0//EN
CALSCALE:GREGORIAN
METHOD:PUBLISH
X-ORIGINAL-URL:https://myrtlelearning.com
X-WR-CALDESC:Events for Myrtle Learning
REFRESH-INTERVAL;VALUE=DURATION:PT1H
X-Robots-Tag:noindex
X-PUBLISHED-TTL:PT1H
BEGIN:VTIMEZONE
TZID:UTC
BEGIN:STANDARD
TZOFFSETFROM:+0000
TZOFFSETTO:+0000
TZNAME:UTC
DTSTART:20260101T000000
END:STANDARD
END:VTIMEZONE
BEGIN:VEVENT
DTSTART;TZID=UTC:20260421T190000
DTEND;TZID=UTC:20260421T193000
DTSTAMP:20260420T213513
CREATED:20230110T225919Z
LAST-MODIFIED:20230119T104143Z
UID:10011816-1776798000-1776799800@myrtlelearning.com
SUMMARY:Myrtle Learning Reading - Willow 2
DESCRIPTION:Myrtle Learning Reading \nA variety of books are read in these sessions \n(We will be updating it with the list of books!) \nSelect the button below to join the lesson online
URL:https://myrtlelearning.com/event/myrtle-learning-reading-willow-2/2026-04-21/
LOCATION:Myrtle Learning Centre\, Pattens Gardens\, Rochester\, Kent\, ME1 2QP\, United Kingdom
CATEGORIES:Myrtle Learning Reading - Willow 2
ATTACH;FMTTYPE=image/jpeg:https://myrtlelearning.com/wp-content/uploads/2022/12/WhatsApp-Image-2022-12-30-at-20.46.08-6.jpeg
END:VEVENT
BEGIN:VEVENT
DTSTART;TZID=UTC:20260428T190000
DTEND;TZID=UTC:20260428T193000
DTSTAMP:20260420T213513
CREATED:20230110T225919Z
LAST-MODIFIED:20230119T104143Z
UID:10011817-1777402800-1777404600@myrtlelearning.com
SUMMARY:Myrtle Learning Reading - Willow 2
DESCRIPTION:Myrtle Learning Reading \nA variety of books are read in these sessions \n(We will be updating it with the list of books!) \nSelect the button below to join the lesson online
URL:https://myrtlelearning.com/event/myrtle-learning-reading-willow-2/2026-04-28/
LOCATION:Myrtle Learning Centre\, Pattens Gardens\, Rochester\, Kent\, ME1 2QP\, United Kingdom
CATEGORIES:Myrtle Learning Reading - Willow 2
ATTACH;FMTTYPE=image/jpeg:https://myrtlelearning.com/wp-content/uploads/2022/12/WhatsApp-Image-2022-12-30-at-20.46.08-6.jpeg
END:VEVENT
END:VCALENDAR