BEGIN:VCALENDAR
VERSION:2.0
PRODID:-//Myrtle Learning - ECPv6.15.3//NONSGML v1.0//EN
CALSCALE:GREGORIAN
METHOD:PUBLISH
X-WR-CALNAME:Myrtle Learning
X-ORIGINAL-URL:https://myrtlelearning.com
X-WR-CALDESC:Events for Myrtle Learning
REFRESH-INTERVAL;VALUE=DURATION:PT1H
X-Robots-Tag:noindex
X-PUBLISHED-TTL:PT1H
BEGIN:VTIMEZONE
TZID:UTC
BEGIN:STANDARD
TZOFFSETFROM:+0000
TZOFFSETTO:+0000
TZNAME:UTC
DTSTART:20260101T000000
END:STANDARD
END:VTIMEZONE
BEGIN:VEVENT
DTSTART;TZID=UTC:20261103T180000
DTEND;TZID=UTC:20261103T183000
DTSTAMP:20260421T090218
CREATED:20230110T223757Z
LAST-MODIFIED:20231106T132837Z
UID:10011322-1793728800-1793730600@myrtlelearning.com
SUMMARY:Myrtle Reading Club-Willow 3
DESCRIPTION:Myrtle Reading Club \nA variety of books are read in these sessions \n(We will be updating this page with the list of books soon!) \nSelect the button below to join the lesson online
URL:https://myrtlelearning.com/event/myrtle-reading-club-willow-3/2026-11-03/
LOCATION:Myrtle Learning Centre\, Pattens Gardens\, Rochester\, Kent\, ME1 2QP\, United Kingdom
CATEGORIES:Myrtle Learning Reading - Willow 3
ATTACH;FMTTYPE=image/jpeg:https://myrtlelearning.com/wp-content/uploads/2023/08/myrtle-icon-whitejpg.jpg
END:VEVENT
BEGIN:VEVENT
DTSTART;TZID=UTC:20261110T180000
DTEND;TZID=UTC:20261110T183000
DTSTAMP:20260421T090218
CREATED:20230110T223757Z
LAST-MODIFIED:20231106T132837Z
UID:10011323-1794333600-1794335400@myrtlelearning.com
SUMMARY:Myrtle Reading Club-Willow 3
DESCRIPTION:Myrtle Reading Club \nA variety of books are read in these sessions \n(We will be updating this page with the list of books soon!) \nSelect the button below to join the lesson online
URL:https://myrtlelearning.com/event/myrtle-reading-club-willow-3/2026-11-10/
LOCATION:Myrtle Learning Centre\, Pattens Gardens\, Rochester\, Kent\, ME1 2QP\, United Kingdom
CATEGORIES:Myrtle Learning Reading - Willow 3
ATTACH;FMTTYPE=image/jpeg:https://myrtlelearning.com/wp-content/uploads/2023/08/myrtle-icon-whitejpg.jpg
END:VEVENT
BEGIN:VEVENT
DTSTART;TZID=UTC:20261117T180000
DTEND;TZID=UTC:20261117T183000
DTSTAMP:20260421T090218
CREATED:20230110T223757Z
LAST-MODIFIED:20231106T132837Z
UID:10011324-1794938400-1794940200@myrtlelearning.com
SUMMARY:Myrtle Reading Club-Willow 3
DESCRIPTION:Myrtle Reading Club \nA variety of books are read in these sessions \n(We will be updating this page with the list of books soon!) \nSelect the button below to join the lesson online
URL:https://myrtlelearning.com/event/myrtle-reading-club-willow-3/2026-11-17/
LOCATION:Myrtle Learning Centre\, Pattens Gardens\, Rochester\, Kent\, ME1 2QP\, United Kingdom
CATEGORIES:Myrtle Learning Reading - Willow 3
ATTACH;FMTTYPE=image/jpeg:https://myrtlelearning.com/wp-content/uploads/2023/08/myrtle-icon-whitejpg.jpg
END:VEVENT
BEGIN:VEVENT
DTSTART;TZID=UTC:20261124T180000
DTEND;TZID=UTC:20261124T183000
DTSTAMP:20260421T090219
CREATED:20230110T223757Z
LAST-MODIFIED:20231106T132837Z
UID:10011325-1795543200-1795545000@myrtlelearning.com
SUMMARY:Myrtle Reading Club-Willow 3
DESCRIPTION:Myrtle Reading Club \nA variety of books are read in these sessions \n(We will be updating this page with the list of books soon!) \nSelect the button below to join the lesson online
URL:https://myrtlelearning.com/event/myrtle-reading-club-willow-3/2026-11-24/
LOCATION:Myrtle Learning Centre\, Pattens Gardens\, Rochester\, Kent\, ME1 2QP\, United Kingdom
CATEGORIES:Myrtle Learning Reading - Willow 3
ATTACH;FMTTYPE=image/jpeg:https://myrtlelearning.com/wp-content/uploads/2023/08/myrtle-icon-whitejpg.jpg
END:VEVENT
END:VCALENDAR