BEGIN:VCALENDAR
VERSION:2.0
PRODID:-//Myrtle Learning - ECPv6.15.3//NONSGML v1.0//EN
CALSCALE:GREGORIAN
METHOD:PUBLISH
X-WR-CALNAME:Myrtle Learning
X-ORIGINAL-URL:https://myrtlelearning.com
X-WR-CALDESC:Events for Myrtle Learning
REFRESH-INTERVAL;VALUE=DURATION:PT1H
X-Robots-Tag:noindex
X-PUBLISHED-TTL:PT1H
BEGIN:VTIMEZONE
TZID:UTC
BEGIN:STANDARD
TZOFFSETFROM:+0000
TZOFFSETTO:+0000
TZNAME:UTC
DTSTART:20260101T000000
END:STANDARD
END:VTIMEZONE
BEGIN:VEVENT
DTSTART;TZID=UTC:20260801T140000
DTEND;TZID=UTC:20260801T160000
DTSTAMP:20260421T064514
CREATED:20260207T122305Z
LAST-MODIFIED:20260207T122305Z
UID:10097787-1785592800-1785600000@myrtlelearning.com
SUMMARY:27ALM Myrtle 1
DESCRIPTION:27ALM Myrtle 1 \nThis lesson covers Year 12 mathematics on Saturday. \nSelect the button below to join the lesson online
URL:https://myrtlelearning.com/event/27alm-myrtle-1/2026-08-01/
LOCATION:Online Session\, 25 Pattens Gardens\, Rochester\, Other\, ME1 2QP\, United Kingdom
CATEGORIES:27ALM Myrtle 1
ATTACH;FMTTYPE=image/jpeg:https://myrtlelearning.com/wp-content/uploads/2023/08/myrtle-icon-whitejpg.jpg
ORGANIZER;CN="Abbie":MAILTO:barnesab@myrtlelearning.com
END:VEVENT
BEGIN:VEVENT
DTSTART;TZID=UTC:20260808T140000
DTEND;TZID=UTC:20260808T160000
DTSTAMP:20260421T064514
CREATED:20260207T122305Z
LAST-MODIFIED:20260207T122305Z
UID:10097788-1786197600-1786204800@myrtlelearning.com
SUMMARY:27ALM Myrtle 1
DESCRIPTION:27ALM Myrtle 1 \nThis lesson covers Year 12 mathematics on Saturday. \nSelect the button below to join the lesson online
URL:https://myrtlelearning.com/event/27alm-myrtle-1/2026-08-08/
LOCATION:Online Session\, 25 Pattens Gardens\, Rochester\, Other\, ME1 2QP\, United Kingdom
CATEGORIES:27ALM Myrtle 1
ATTACH;FMTTYPE=image/jpeg:https://myrtlelearning.com/wp-content/uploads/2023/08/myrtle-icon-whitejpg.jpg
ORGANIZER;CN="Abbie":MAILTO:barnesab@myrtlelearning.com
END:VEVENT
BEGIN:VEVENT
DTSTART;TZID=UTC:20260815T140000
DTEND;TZID=UTC:20260815T160000
DTSTAMP:20260421T064514
CREATED:20260207T122305Z
LAST-MODIFIED:20260207T122305Z
UID:10097789-1786802400-1786809600@myrtlelearning.com
SUMMARY:27ALM Myrtle 1
DESCRIPTION:27ALM Myrtle 1 \nThis lesson covers Year 12 mathematics on Saturday. \nSelect the button below to join the lesson online
URL:https://myrtlelearning.com/event/27alm-myrtle-1/2026-08-15/
LOCATION:Online Session\, 25 Pattens Gardens\, Rochester\, Other\, ME1 2QP\, United Kingdom
CATEGORIES:27ALM Myrtle 1
ATTACH;FMTTYPE=image/jpeg:https://myrtlelearning.com/wp-content/uploads/2023/08/myrtle-icon-whitejpg.jpg
ORGANIZER;CN="Abbie":MAILTO:barnesab@myrtlelearning.com
END:VEVENT
BEGIN:VEVENT
DTSTART;TZID=UTC:20260822T140000
DTEND;TZID=UTC:20260822T160000
DTSTAMP:20260421T064514
CREATED:20260207T122305Z
LAST-MODIFIED:20260207T122305Z
UID:10097790-1787407200-1787414400@myrtlelearning.com
SUMMARY:27ALM Myrtle 1
DESCRIPTION:27ALM Myrtle 1 \nThis lesson covers Year 12 mathematics on Saturday. \nSelect the button below to join the lesson online
URL:https://myrtlelearning.com/event/27alm-myrtle-1/2026-08-22/
LOCATION:Online Session\, 25 Pattens Gardens\, Rochester\, Other\, ME1 2QP\, United Kingdom
CATEGORIES:27ALM Myrtle 1
ATTACH;FMTTYPE=image/jpeg:https://myrtlelearning.com/wp-content/uploads/2023/08/myrtle-icon-whitejpg.jpg
ORGANIZER;CN="Abbie":MAILTO:barnesab@myrtlelearning.com
END:VEVENT
BEGIN:VEVENT
DTSTART;TZID=UTC:20260829T140000
DTEND;TZID=UTC:20260829T160000
DTSTAMP:20260421T064514
CREATED:20260207T122305Z
LAST-MODIFIED:20260207T122305Z
UID:10097791-1788012000-1788019200@myrtlelearning.com
SUMMARY:27ALM Myrtle 1
DESCRIPTION:27ALM Myrtle 1 \nThis lesson covers Year 12 mathematics on Saturday. \nSelect the button below to join the lesson online
URL:https://myrtlelearning.com/event/27alm-myrtle-1/2026-08-29/
LOCATION:Online Session\, 25 Pattens Gardens\, Rochester\, Other\, ME1 2QP\, United Kingdom
CATEGORIES:27ALM Myrtle 1
ATTACH;FMTTYPE=image/jpeg:https://myrtlelearning.com/wp-content/uploads/2023/08/myrtle-icon-whitejpg.jpg
ORGANIZER;CN="Abbie":MAILTO:barnesab@myrtlelearning.com
END:VEVENT
END:VCALENDAR