BEGIN:VCALENDAR
VERSION:2.0
PRODID:-//Myrtle Learning - ECPv6.15.3//NONSGML v1.0//EN
CALSCALE:GREGORIAN
METHOD:PUBLISH
X-WR-CALNAME:Myrtle Learning
X-ORIGINAL-URL:https://myrtlelearning.com
X-WR-CALDESC:Events for Myrtle Learning
REFRESH-INTERVAL;VALUE=DURATION:PT1H
X-Robots-Tag:noindex
X-PUBLISHED-TTL:PT1H
BEGIN:VTIMEZONE
TZID:UTC
BEGIN:STANDARD
TZOFFSETFROM:+0000
TZOFFSETTO:+0000
TZNAME:UTC
DTSTART:20270101T000000
END:STANDARD
END:VTIMEZONE
BEGIN:VEVENT
DTSTART;TZID=UTC:20270602T180000
DTEND;TZID=UTC:20270602T200000
DTSTAMP:20260421T191306
CREATED:20260126T115618Z
LAST-MODIFIED:20260126T115618Z
UID:10094224-1811959200-1811966400@myrtlelearning.com
SUMMARY:27GS Myrtle 2
DESCRIPTION:27GS Myrtle 2 \nThese group is made of students preparing for their science exams in 2027 \nSelect the button below to join the lesson online
URL:https://myrtlelearning.com/event/27gs-myrtle-2/2027-06-02/
LOCATION:Online Session\, 25 Pattens Gardens\, Rochester\, Other\, ME1 2QP\, United Kingdom
CATEGORIES:27GS Myrtle 2
ATTACH;FMTTYPE=image/jpeg:https://myrtlelearning.com/wp-content/uploads/2023/08/myrtle-icon-whitejpg.jpg
ORGANIZER;CN="Abbie":MAILTO:barnesab@myrtlelearning.com
END:VEVENT
BEGIN:VEVENT
DTSTART;TZID=UTC:20270609T180000
DTEND;TZID=UTC:20270609T200000
DTSTAMP:20260421T191306
CREATED:20260126T115618Z
LAST-MODIFIED:20260126T115618Z
UID:10094225-1812564000-1812571200@myrtlelearning.com
SUMMARY:27GS Myrtle 2
DESCRIPTION:27GS Myrtle 2 \nThese group is made of students preparing for their science exams in 2027 \nSelect the button below to join the lesson online
URL:https://myrtlelearning.com/event/27gs-myrtle-2/2027-06-09/
LOCATION:Online Session\, 25 Pattens Gardens\, Rochester\, Other\, ME1 2QP\, United Kingdom
CATEGORIES:27GS Myrtle 2
ATTACH;FMTTYPE=image/jpeg:https://myrtlelearning.com/wp-content/uploads/2023/08/myrtle-icon-whitejpg.jpg
ORGANIZER;CN="Abbie":MAILTO:barnesab@myrtlelearning.com
END:VEVENT
BEGIN:VEVENT
DTSTART;TZID=UTC:20270616T180000
DTEND;TZID=UTC:20270616T200000
DTSTAMP:20260421T191306
CREATED:20260126T115618Z
LAST-MODIFIED:20260126T115618Z
UID:10094226-1813168800-1813176000@myrtlelearning.com
SUMMARY:27GS Myrtle 2
DESCRIPTION:27GS Myrtle 2 \nThese group is made of students preparing for their science exams in 2027 \nSelect the button below to join the lesson online
URL:https://myrtlelearning.com/event/27gs-myrtle-2/2027-06-16/
LOCATION:Online Session\, 25 Pattens Gardens\, Rochester\, Other\, ME1 2QP\, United Kingdom
CATEGORIES:27GS Myrtle 2
ATTACH;FMTTYPE=image/jpeg:https://myrtlelearning.com/wp-content/uploads/2023/08/myrtle-icon-whitejpg.jpg
ORGANIZER;CN="Abbie":MAILTO:barnesab@myrtlelearning.com
END:VEVENT
BEGIN:VEVENT
DTSTART;TZID=UTC:20270623T180000
DTEND;TZID=UTC:20270623T200000
DTSTAMP:20260421T191306
CREATED:20260126T115618Z
LAST-MODIFIED:20260126T115618Z
UID:10094227-1813773600-1813780800@myrtlelearning.com
SUMMARY:27GS Myrtle 2
DESCRIPTION:27GS Myrtle 2 \nThese group is made of students preparing for their science exams in 2027 \nSelect the button below to join the lesson online
URL:https://myrtlelearning.com/event/27gs-myrtle-2/2027-06-23/
LOCATION:Online Session\, 25 Pattens Gardens\, Rochester\, Other\, ME1 2QP\, United Kingdom
CATEGORIES:27GS Myrtle 2
ATTACH;FMTTYPE=image/jpeg:https://myrtlelearning.com/wp-content/uploads/2023/08/myrtle-icon-whitejpg.jpg
ORGANIZER;CN="Abbie":MAILTO:barnesab@myrtlelearning.com
END:VEVENT
BEGIN:VEVENT
DTSTART;TZID=UTC:20270630T180000
DTEND;TZID=UTC:20270630T200000
DTSTAMP:20260421T191306
CREATED:20260126T115618Z
LAST-MODIFIED:20260126T115618Z
UID:10094228-1814378400-1814385600@myrtlelearning.com
SUMMARY:27GS Myrtle 2
DESCRIPTION:27GS Myrtle 2 \nThese group is made of students preparing for their science exams in 2027 \nSelect the button below to join the lesson online
URL:https://myrtlelearning.com/event/27gs-myrtle-2/2027-06-30/
LOCATION:Online Session\, 25 Pattens Gardens\, Rochester\, Other\, ME1 2QP\, United Kingdom
CATEGORIES:27GS Myrtle 2
ATTACH;FMTTYPE=image/jpeg:https://myrtlelearning.com/wp-content/uploads/2023/08/myrtle-icon-whitejpg.jpg
ORGANIZER;CN="Abbie":MAILTO:barnesab@myrtlelearning.com
END:VEVENT
END:VCALENDAR