BEGIN:VCALENDAR
VERSION:2.0
PRODID:-//Myrtle Learning - ECPv6.15.3//NONSGML v1.0//EN
CALSCALE:GREGORIAN
METHOD:PUBLISH
X-ORIGINAL-URL:https://myrtlelearning.com
X-WR-CALDESC:Events for Myrtle Learning
REFRESH-INTERVAL;VALUE=DURATION:PT1H
X-Robots-Tag:noindex
X-PUBLISHED-TTL:PT1H
BEGIN:VTIMEZONE
TZID:UTC
BEGIN:STANDARD
TZOFFSETFROM:+0000
TZOFFSETTO:+0000
TZNAME:UTC
DTSTART:20270101T000000
END:STANDARD
END:VTIMEZONE
BEGIN:VEVENT
DTSTART;TZID=UTC:20271103T180000
DTEND;TZID=UTC:20271103T200000
DTSTAMP:20260422T043801
CREATED:20260126T115618Z
LAST-MODIFIED:20260126T115618Z
UID:10094246-1825264800-1825272000@myrtlelearning.com
SUMMARY:27GS Myrtle 2
DESCRIPTION:27GS Myrtle 2 \nThese group is made of students preparing for their science exams in 2027 \nSelect the button below to join the lesson online
URL:https://myrtlelearning.com/event/27gs-myrtle-2/2027-11-03/
LOCATION:Online Session\, 25 Pattens Gardens\, Rochester\, Other\, ME1 2QP\, United Kingdom
CATEGORIES:27GS Myrtle 2
ATTACH;FMTTYPE=image/jpeg:https://myrtlelearning.com/wp-content/uploads/2023/08/myrtle-icon-whitejpg.jpg
ORGANIZER;CN="Abbie":MAILTO:barnesab@myrtlelearning.com
END:VEVENT
BEGIN:VEVENT
DTSTART;TZID=UTC:20271110T180000
DTEND;TZID=UTC:20271110T200000
DTSTAMP:20260422T043801
CREATED:20260126T115618Z
LAST-MODIFIED:20260126T115618Z
UID:10094247-1825869600-1825876800@myrtlelearning.com
SUMMARY:27GS Myrtle 2
DESCRIPTION:27GS Myrtle 2 \nThese group is made of students preparing for their science exams in 2027 \nSelect the button below to join the lesson online
URL:https://myrtlelearning.com/event/27gs-myrtle-2/2027-11-10/
LOCATION:Online Session\, 25 Pattens Gardens\, Rochester\, Other\, ME1 2QP\, United Kingdom
CATEGORIES:27GS Myrtle 2
ATTACH;FMTTYPE=image/jpeg:https://myrtlelearning.com/wp-content/uploads/2023/08/myrtle-icon-whitejpg.jpg
ORGANIZER;CN="Abbie":MAILTO:barnesab@myrtlelearning.com
END:VEVENT
BEGIN:VEVENT
DTSTART;TZID=UTC:20271117T180000
DTEND;TZID=UTC:20271117T200000
DTSTAMP:20260422T043801
CREATED:20260126T115618Z
LAST-MODIFIED:20260126T115618Z
UID:10094248-1826474400-1826481600@myrtlelearning.com
SUMMARY:27GS Myrtle 2
DESCRIPTION:27GS Myrtle 2 \nThese group is made of students preparing for their science exams in 2027 \nSelect the button below to join the lesson online
URL:https://myrtlelearning.com/event/27gs-myrtle-2/2027-11-17/
LOCATION:Online Session\, 25 Pattens Gardens\, Rochester\, Other\, ME1 2QP\, United Kingdom
CATEGORIES:27GS Myrtle 2
ATTACH;FMTTYPE=image/jpeg:https://myrtlelearning.com/wp-content/uploads/2023/08/myrtle-icon-whitejpg.jpg
ORGANIZER;CN="Abbie":MAILTO:barnesab@myrtlelearning.com
END:VEVENT
BEGIN:VEVENT
DTSTART;TZID=UTC:20271124T180000
DTEND;TZID=UTC:20271124T200000
DTSTAMP:20260422T043801
CREATED:20260126T115618Z
LAST-MODIFIED:20260126T115618Z
UID:10094249-1827079200-1827086400@myrtlelearning.com
SUMMARY:27GS Myrtle 2
DESCRIPTION:27GS Myrtle 2 \nThese group is made of students preparing for their science exams in 2027 \nSelect the button below to join the lesson online
URL:https://myrtlelearning.com/event/27gs-myrtle-2/2027-11-24/
LOCATION:Online Session\, 25 Pattens Gardens\, Rochester\, Other\, ME1 2QP\, United Kingdom
CATEGORIES:27GS Myrtle 2
ATTACH;FMTTYPE=image/jpeg:https://myrtlelearning.com/wp-content/uploads/2023/08/myrtle-icon-whitejpg.jpg
ORGANIZER;CN="Abbie":MAILTO:barnesab@myrtlelearning.com
END:VEVENT
END:VCALENDAR