BEGIN:VCALENDAR
VERSION:2.0
PRODID:-//Myrtle Learning - ECPv6.15.3//NONSGML v1.0//EN
CALSCALE:GREGORIAN
METHOD:PUBLISH
X-WR-CALNAME:Myrtle Learning
X-ORIGINAL-URL:https://myrtlelearning.com
X-WR-CALDESC:Events for Myrtle Learning
REFRESH-INTERVAL;VALUE=DURATION:PT1H
X-Robots-Tag:noindex
X-PUBLISHED-TTL:PT1H
BEGIN:VTIMEZONE
TZID:UTC
BEGIN:STANDARD
TZOFFSETFROM:+0000
TZOFFSETTO:+0000
TZNAME:UTC
DTSTART:20290101T000000
END:STANDARD
END:VTIMEZONE
BEGIN:VEVENT
DTSTART;TZID=UTC:20290307T180000
DTEND;TZID=UTC:20290307T200000
DTSTAMP:20260422T234818
CREATED:20260126T115618Z
LAST-MODIFIED:20260126T115618Z
UID:10094316-1867600800-1867608000@myrtlelearning.com
SUMMARY:27GS Myrtle 2
DESCRIPTION:27GS Myrtle 2 \nThese group is made of students preparing for their science exams in 2027 \nSelect the button below to join the lesson online
URL:https://myrtlelearning.com/event/27gs-myrtle-2/2029-03-07/
LOCATION:Online Session\, 25 Pattens Gardens\, Rochester\, Other\, ME1 2QP\, United Kingdom
CATEGORIES:27GS Myrtle 2
ATTACH;FMTTYPE=image/jpeg:https://myrtlelearning.com/wp-content/uploads/2023/08/myrtle-icon-whitejpg.jpg
ORGANIZER;CN="Abbie":MAILTO:barnesab@myrtlelearning.com
END:VEVENT
BEGIN:VEVENT
DTSTART;TZID=UTC:20290314T180000
DTEND;TZID=UTC:20290314T200000
DTSTAMP:20260422T234818
CREATED:20260126T115618Z
LAST-MODIFIED:20260126T115618Z
UID:10094317-1868205600-1868212800@myrtlelearning.com
SUMMARY:27GS Myrtle 2
DESCRIPTION:27GS Myrtle 2 \nThese group is made of students preparing for their science exams in 2027 \nSelect the button below to join the lesson online
URL:https://myrtlelearning.com/event/27gs-myrtle-2/2029-03-14/
LOCATION:Online Session\, 25 Pattens Gardens\, Rochester\, Other\, ME1 2QP\, United Kingdom
CATEGORIES:27GS Myrtle 2
ATTACH;FMTTYPE=image/jpeg:https://myrtlelearning.com/wp-content/uploads/2023/08/myrtle-icon-whitejpg.jpg
ORGANIZER;CN="Abbie":MAILTO:barnesab@myrtlelearning.com
END:VEVENT
BEGIN:VEVENT
DTSTART;TZID=UTC:20290321T180000
DTEND;TZID=UTC:20290321T200000
DTSTAMP:20260422T234818
CREATED:20260126T115618Z
LAST-MODIFIED:20260126T115618Z
UID:10094318-1868810400-1868817600@myrtlelearning.com
SUMMARY:27GS Myrtle 2
DESCRIPTION:27GS Myrtle 2 \nThese group is made of students preparing for their science exams in 2027 \nSelect the button below to join the lesson online
URL:https://myrtlelearning.com/event/27gs-myrtle-2/2029-03-21/
LOCATION:Online Session\, 25 Pattens Gardens\, Rochester\, Other\, ME1 2QP\, United Kingdom
CATEGORIES:27GS Myrtle 2
ATTACH;FMTTYPE=image/jpeg:https://myrtlelearning.com/wp-content/uploads/2023/08/myrtle-icon-whitejpg.jpg
ORGANIZER;CN="Abbie":MAILTO:barnesab@myrtlelearning.com
END:VEVENT
BEGIN:VEVENT
DTSTART;TZID=UTC:20290328T180000
DTEND;TZID=UTC:20290328T200000
DTSTAMP:20260422T234818
CREATED:20260126T115618Z
LAST-MODIFIED:20260126T115618Z
UID:10094319-1869415200-1869422400@myrtlelearning.com
SUMMARY:27GS Myrtle 2
DESCRIPTION:27GS Myrtle 2 \nThese group is made of students preparing for their science exams in 2027 \nSelect the button below to join the lesson online
URL:https://myrtlelearning.com/event/27gs-myrtle-2/2029-03-28/
LOCATION:Online Session\, 25 Pattens Gardens\, Rochester\, Other\, ME1 2QP\, United Kingdom
CATEGORIES:27GS Myrtle 2
ATTACH;FMTTYPE=image/jpeg:https://myrtlelearning.com/wp-content/uploads/2023/08/myrtle-icon-whitejpg.jpg
ORGANIZER;CN="Abbie":MAILTO:barnesab@myrtlelearning.com
END:VEVENT
END:VCALENDAR