BEGIN:VCALENDAR
VERSION:2.0
PRODID:-//Myrtle Learning - ECPv6.15.3//NONSGML v1.0//EN
CALSCALE:GREGORIAN
METHOD:PUBLISH
X-WR-CALNAME:Myrtle Learning
X-ORIGINAL-URL:https://myrtlelearning.com
X-WR-CALDESC:Events for Myrtle Learning
REFRESH-INTERVAL;VALUE=DURATION:PT1H
X-Robots-Tag:noindex
X-PUBLISHED-TTL:PT1H
BEGIN:VTIMEZONE
TZID:UTC
BEGIN:STANDARD
TZOFFSETFROM:+0000
TZOFFSETTO:+0000
TZNAME:UTC
DTSTART:20290101T000000
END:STANDARD
END:VTIMEZONE
BEGIN:VEVENT
DTSTART;TZID=UTC:20290502T180000
DTEND;TZID=UTC:20290502T200000
DTSTAMP:20260423T030502
CREATED:20260126T115618Z
LAST-MODIFIED:20260126T115618Z
UID:10094324-1872439200-1872446400@myrtlelearning.com
SUMMARY:27GS Myrtle 2
DESCRIPTION:27GS Myrtle 2 \nThese group is made of students preparing for their science exams in 2027 \nSelect the button below to join the lesson online
URL:https://myrtlelearning.com/event/27gs-myrtle-2/2029-05-02/
LOCATION:Online Session\, 25 Pattens Gardens\, Rochester\, Other\, ME1 2QP\, United Kingdom
CATEGORIES:27GS Myrtle 2
ATTACH;FMTTYPE=image/jpeg:https://myrtlelearning.com/wp-content/uploads/2023/08/myrtle-icon-whitejpg.jpg
ORGANIZER;CN="Abbie":MAILTO:barnesab@myrtlelearning.com
END:VEVENT
BEGIN:VEVENT
DTSTART;TZID=UTC:20290509T180000
DTEND;TZID=UTC:20290509T200000
DTSTAMP:20260423T030502
CREATED:20260126T115618Z
LAST-MODIFIED:20260126T115618Z
UID:10094325-1873044000-1873051200@myrtlelearning.com
SUMMARY:27GS Myrtle 2
DESCRIPTION:27GS Myrtle 2 \nThese group is made of students preparing for their science exams in 2027 \nSelect the button below to join the lesson online
URL:https://myrtlelearning.com/event/27gs-myrtle-2/2029-05-09/
LOCATION:Online Session\, 25 Pattens Gardens\, Rochester\, Other\, ME1 2QP\, United Kingdom
CATEGORIES:27GS Myrtle 2
ATTACH;FMTTYPE=image/jpeg:https://myrtlelearning.com/wp-content/uploads/2023/08/myrtle-icon-whitejpg.jpg
ORGANIZER;CN="Abbie":MAILTO:barnesab@myrtlelearning.com
END:VEVENT
BEGIN:VEVENT
DTSTART;TZID=UTC:20290516T180000
DTEND;TZID=UTC:20290516T200000
DTSTAMP:20260423T030502
CREATED:20260126T115618Z
LAST-MODIFIED:20260126T115618Z
UID:10094326-1873648800-1873656000@myrtlelearning.com
SUMMARY:27GS Myrtle 2
DESCRIPTION:27GS Myrtle 2 \nThese group is made of students preparing for their science exams in 2027 \nSelect the button below to join the lesson online
URL:https://myrtlelearning.com/event/27gs-myrtle-2/2029-05-16/
LOCATION:Online Session\, 25 Pattens Gardens\, Rochester\, Other\, ME1 2QP\, United Kingdom
CATEGORIES:27GS Myrtle 2
ATTACH;FMTTYPE=image/jpeg:https://myrtlelearning.com/wp-content/uploads/2023/08/myrtle-icon-whitejpg.jpg
ORGANIZER;CN="Abbie":MAILTO:barnesab@myrtlelearning.com
END:VEVENT
BEGIN:VEVENT
DTSTART;TZID=UTC:20290523T180000
DTEND;TZID=UTC:20290523T200000
DTSTAMP:20260423T030502
CREATED:20260126T115618Z
LAST-MODIFIED:20260126T115618Z
UID:10094327-1874253600-1874260800@myrtlelearning.com
SUMMARY:27GS Myrtle 2
DESCRIPTION:27GS Myrtle 2 \nThese group is made of students preparing for their science exams in 2027 \nSelect the button below to join the lesson online
URL:https://myrtlelearning.com/event/27gs-myrtle-2/2029-05-23/
LOCATION:Online Session\, 25 Pattens Gardens\, Rochester\, Other\, ME1 2QP\, United Kingdom
CATEGORIES:27GS Myrtle 2
ATTACH;FMTTYPE=image/jpeg:https://myrtlelearning.com/wp-content/uploads/2023/08/myrtle-icon-whitejpg.jpg
ORGANIZER;CN="Abbie":MAILTO:barnesab@myrtlelearning.com
END:VEVENT
BEGIN:VEVENT
DTSTART;TZID=UTC:20290530T180000
DTEND;TZID=UTC:20290530T200000
DTSTAMP:20260423T030502
CREATED:20260126T115618Z
LAST-MODIFIED:20260126T115618Z
UID:10094328-1874858400-1874865600@myrtlelearning.com
SUMMARY:27GS Myrtle 2
DESCRIPTION:27GS Myrtle 2 \nThese group is made of students preparing for their science exams in 2027 \nSelect the button below to join the lesson online
URL:https://myrtlelearning.com/event/27gs-myrtle-2/2029-05-30/
LOCATION:Online Session\, 25 Pattens Gardens\, Rochester\, Other\, ME1 2QP\, United Kingdom
CATEGORIES:27GS Myrtle 2
ATTACH;FMTTYPE=image/jpeg:https://myrtlelearning.com/wp-content/uploads/2023/08/myrtle-icon-whitejpg.jpg
ORGANIZER;CN="Abbie":MAILTO:barnesab@myrtlelearning.com
END:VEVENT
END:VCALENDAR