BEGIN:VCALENDAR
VERSION:2.0
PRODID:-//Myrtle Learning - ECPv6.15.3//NONSGML v1.0//EN
CALSCALE:GREGORIAN
METHOD:PUBLISH
X-ORIGINAL-URL:https://myrtlelearning.com
X-WR-CALDESC:Events for Myrtle Learning
REFRESH-INTERVAL;VALUE=DURATION:PT1H
X-Robots-Tag:noindex
X-PUBLISHED-TTL:PT1H
BEGIN:VTIMEZONE
TZID:UTC
BEGIN:STANDARD
TZOFFSETFROM:+0000
TZOFFSETTO:+0000
TZNAME:UTC
DTSTART:20260101T000000
END:STANDARD
END:VTIMEZONE
BEGIN:VEVENT
DTSTART;TZID=UTC:20260302T183000
DTEND;TZID=UTC:20260302T193000
DTSTAMP:20260421T050452
CREATED:20260209T140300Z
LAST-MODIFIED:20260209T140300Z
UID:10098546-1772476200-1772479800@myrtlelearning.com
SUMMARY:27GS Myrtle 3
DESCRIPTION:27GS Myrtle 3 \nThis lesson covers KS4 science on Monday. \nSelect the button below to join the lesson online
URL:https://myrtlelearning.com/event/27gs-myrtle-3/2026-03-02/
LOCATION:Online Session\, 25 Pattens Gardens\, Rochester\, Other\, ME1 2QP\, United Kingdom
CATEGORIES:27GS Myrtle 3
ATTACH;FMTTYPE=image/jpeg:https://myrtlelearning.com/wp-content/uploads/2023/08/myrtle-icon-whitejpg.jpg
ORGANIZER;CN="Abbie":MAILTO:barnesab@myrtlelearning.com
END:VEVENT
BEGIN:VEVENT
DTSTART;TZID=UTC:20260309T183000
DTEND;TZID=UTC:20260309T193000
DTSTAMP:20260421T050452
CREATED:20260209T140300Z
LAST-MODIFIED:20260209T140300Z
UID:10098547-1773081000-1773084600@myrtlelearning.com
SUMMARY:27GS Myrtle 3
DESCRIPTION:27GS Myrtle 3 \nThis lesson covers KS4 science on Monday. \nSelect the button below to join the lesson online
URL:https://myrtlelearning.com/event/27gs-myrtle-3/2026-03-09/
LOCATION:Online Session\, 25 Pattens Gardens\, Rochester\, Other\, ME1 2QP\, United Kingdom
CATEGORIES:27GS Myrtle 3
ATTACH;FMTTYPE=image/jpeg:https://myrtlelearning.com/wp-content/uploads/2023/08/myrtle-icon-whitejpg.jpg
ORGANIZER;CN="Abbie":MAILTO:barnesab@myrtlelearning.com
END:VEVENT
BEGIN:VEVENT
DTSTART;TZID=UTC:20260316T183000
DTEND;TZID=UTC:20260316T193000
DTSTAMP:20260421T050452
CREATED:20260209T140300Z
LAST-MODIFIED:20260209T140300Z
UID:10098548-1773685800-1773689400@myrtlelearning.com
SUMMARY:27GS Myrtle 3
DESCRIPTION:27GS Myrtle 3 \nThis lesson covers KS4 science on Monday. \nSelect the button below to join the lesson online
URL:https://myrtlelearning.com/event/27gs-myrtle-3/2026-03-16/
LOCATION:Online Session\, 25 Pattens Gardens\, Rochester\, Other\, ME1 2QP\, United Kingdom
CATEGORIES:27GS Myrtle 3
ATTACH;FMTTYPE=image/jpeg:https://myrtlelearning.com/wp-content/uploads/2023/08/myrtle-icon-whitejpg.jpg
ORGANIZER;CN="Abbie":MAILTO:barnesab@myrtlelearning.com
END:VEVENT
BEGIN:VEVENT
DTSTART;TZID=UTC:20260323T183000
DTEND;TZID=UTC:20260323T193000
DTSTAMP:20260421T050452
CREATED:20260209T140300Z
LAST-MODIFIED:20260209T140300Z
UID:10098549-1774290600-1774294200@myrtlelearning.com
SUMMARY:27GS Myrtle 3
DESCRIPTION:27GS Myrtle 3 \nThis lesson covers KS4 science on Monday. \nSelect the button below to join the lesson online
URL:https://myrtlelearning.com/event/27gs-myrtle-3/2026-03-23/
LOCATION:Online Session\, 25 Pattens Gardens\, Rochester\, Other\, ME1 2QP\, United Kingdom
CATEGORIES:27GS Myrtle 3
ATTACH;FMTTYPE=image/jpeg:https://myrtlelearning.com/wp-content/uploads/2023/08/myrtle-icon-whitejpg.jpg
ORGANIZER;CN="Abbie":MAILTO:barnesab@myrtlelearning.com
END:VEVENT
BEGIN:VEVENT
DTSTART;TZID=UTC:20260330T183000
DTEND;TZID=UTC:20260330T193000
DTSTAMP:20260421T050452
CREATED:20260209T140300Z
LAST-MODIFIED:20260209T140300Z
UID:10098550-1774895400-1774899000@myrtlelearning.com
SUMMARY:27GS Myrtle 3
DESCRIPTION:27GS Myrtle 3 \nThis lesson covers KS4 science on Monday. \nSelect the button below to join the lesson online
URL:https://myrtlelearning.com/event/27gs-myrtle-3/2026-03-30/
LOCATION:Online Session\, 25 Pattens Gardens\, Rochester\, Other\, ME1 2QP\, United Kingdom
CATEGORIES:27GS Myrtle 3
ATTACH;FMTTYPE=image/jpeg:https://myrtlelearning.com/wp-content/uploads/2023/08/myrtle-icon-whitejpg.jpg
ORGANIZER;CN="Abbie":MAILTO:barnesab@myrtlelearning.com
END:VEVENT
END:VCALENDAR