BEGIN:VCALENDAR
VERSION:2.0
PRODID:-//Myrtle Learning - ECPv6.15.3//NONSGML v1.0//EN
CALSCALE:GREGORIAN
METHOD:PUBLISH
X-WR-CALNAME:Myrtle Learning
X-ORIGINAL-URL:https://myrtlelearning.com
X-WR-CALDESC:Events for Myrtle Learning
REFRESH-INTERVAL;VALUE=DURATION:PT1H
X-Robots-Tag:noindex
X-PUBLISHED-TTL:PT1H
BEGIN:VTIMEZONE
TZID:UTC
BEGIN:STANDARD
TZOFFSETFROM:+0000
TZOFFSETTO:+0000
TZNAME:UTC
DTSTART:20260101T000000
END:STANDARD
END:VTIMEZONE
BEGIN:VEVENT
DTSTART;TZID=UTC:20260704T140000
DTEND;TZID=UTC:20260704T160000
DTSTAMP:20260421T053230
CREATED:20260206T191148Z
LAST-MODIFIED:20260207T123227Z
UID:10098043-1783173600-1783180800@myrtlelearning.com
SUMMARY:28EP Myrtle 1 Ma/EVR
DESCRIPTION:28EP Myrtle 1 Ma/EVR  \nThis lesson covers Year 3 mathematics and english on Friday. \nSelect the button below to join the lesson online
URL:https://myrtlelearning.com/event/28ep-myrtle-1-ma-evr/2026-07-04/
LOCATION:Online Session\, 25 Pattens Gardens\, Rochester\, Other\, ME1 2QP\, United Kingdom
CATEGORIES:28EP Myrtle 1 Ma/EVR 
ATTACH;FMTTYPE=image/jpeg:https://myrtlelearning.com/wp-content/uploads/2023/08/myrtle-icon-whitejpg.jpg
ORGANIZER;CN="Abbie":MAILTO:barnesab@myrtlelearning.com
END:VEVENT
BEGIN:VEVENT
DTSTART;TZID=UTC:20260711T140000
DTEND;TZID=UTC:20260711T160000
DTSTAMP:20260421T053230
CREATED:20260206T191148Z
LAST-MODIFIED:20260207T123227Z
UID:10098044-1783778400-1783785600@myrtlelearning.com
SUMMARY:28EP Myrtle 1 Ma/EVR
DESCRIPTION:28EP Myrtle 1 Ma/EVR  \nThis lesson covers Year 3 mathematics and english on Friday. \nSelect the button below to join the lesson online
URL:https://myrtlelearning.com/event/28ep-myrtle-1-ma-evr/2026-07-11/
LOCATION:Online Session\, 25 Pattens Gardens\, Rochester\, Other\, ME1 2QP\, United Kingdom
CATEGORIES:28EP Myrtle 1 Ma/EVR 
ATTACH;FMTTYPE=image/jpeg:https://myrtlelearning.com/wp-content/uploads/2023/08/myrtle-icon-whitejpg.jpg
ORGANIZER;CN="Abbie":MAILTO:barnesab@myrtlelearning.com
END:VEVENT
BEGIN:VEVENT
DTSTART;TZID=UTC:20260718T140000
DTEND;TZID=UTC:20260718T160000
DTSTAMP:20260421T053230
CREATED:20260206T191148Z
LAST-MODIFIED:20260207T123227Z
UID:10098045-1784383200-1784390400@myrtlelearning.com
SUMMARY:28EP Myrtle 1 Ma/EVR
DESCRIPTION:28EP Myrtle 1 Ma/EVR  \nThis lesson covers Year 3 mathematics and english on Friday. \nSelect the button below to join the lesson online
URL:https://myrtlelearning.com/event/28ep-myrtle-1-ma-evr/2026-07-18/
LOCATION:Online Session\, 25 Pattens Gardens\, Rochester\, Other\, ME1 2QP\, United Kingdom
CATEGORIES:28EP Myrtle 1 Ma/EVR 
ATTACH;FMTTYPE=image/jpeg:https://myrtlelearning.com/wp-content/uploads/2023/08/myrtle-icon-whitejpg.jpg
ORGANIZER;CN="Abbie":MAILTO:barnesab@myrtlelearning.com
END:VEVENT
BEGIN:VEVENT
DTSTART;TZID=UTC:20260725T140000
DTEND;TZID=UTC:20260725T160000
DTSTAMP:20260421T053230
CREATED:20260206T191148Z
LAST-MODIFIED:20260207T123227Z
UID:10098046-1784988000-1784995200@myrtlelearning.com
SUMMARY:28EP Myrtle 1 Ma/EVR
DESCRIPTION:28EP Myrtle 1 Ma/EVR  \nThis lesson covers Year 3 mathematics and english on Friday. \nSelect the button below to join the lesson online
URL:https://myrtlelearning.com/event/28ep-myrtle-1-ma-evr/2026-07-25/
LOCATION:Online Session\, 25 Pattens Gardens\, Rochester\, Other\, ME1 2QP\, United Kingdom
CATEGORIES:28EP Myrtle 1 Ma/EVR 
ATTACH;FMTTYPE=image/jpeg:https://myrtlelearning.com/wp-content/uploads/2023/08/myrtle-icon-whitejpg.jpg
ORGANIZER;CN="Abbie":MAILTO:barnesab@myrtlelearning.com
END:VEVENT
END:VCALENDAR