BEGIN:VCALENDAR
VERSION:2.0
PRODID:-//Myrtle Learning - ECPv6.15.3//NONSGML v1.0//EN
CALSCALE:GREGORIAN
METHOD:PUBLISH
X-WR-CALNAME:Myrtle Learning
X-ORIGINAL-URL:https://myrtlelearning.com
X-WR-CALDESC:Events for Myrtle Learning
REFRESH-INTERVAL;VALUE=DURATION:PT1H
X-Robots-Tag:noindex
X-PUBLISHED-TTL:PT1H
BEGIN:VTIMEZONE
TZID:UTC
BEGIN:STANDARD
TZOFFSETFROM:+0000
TZOFFSETTO:+0000
TZNAME:UTC
DTSTART:20270101T000000
END:STANDARD
END:VTIMEZONE
BEGIN:VTIMEZONE
TZID:UTC
BEGIN:STANDARD
TZOFFSETFROM:+0000
TZOFFSETTO:+0000
TZNAME:UTC
DTSTART:20270101T000000
END:STANDARD
END:VTIMEZONE
BEGIN:VEVENT
DTSTART;TZID=UTC:20270928T110000
DTEND;TZID=UTC:20270928T120000
DTSTAMP:20260424T004032
CREATED:20260126T112432Z
LAST-MODIFIED:20260126T112432Z
UID:10092472-1822129200-1822132800@myrtlelearning.com
SUMMARY:26ALB Myrtle 1
DESCRIPTION:26ALB Myrtle 1 \nThese group is made of students preparing for their biology exams in 2026 \nSelect the button below to join the lesson online
URL:https://myrtlelearning.com/event/26alb-myrtle-1/2027-09-28/
LOCATION:Online Session\, 25 Pattens Gardens\, Rochester\, Other\, ME1 2QP\, United Kingdom
CATEGORIES:26ALB Myrtle 1
ATTACH;FMTTYPE=image/jpeg:https://myrtlelearning.com/wp-content/uploads/2023/08/myrtle-icon-whitejpg.jpg
ORGANIZER;CN="Abbie":MAILTO:barnesab@myrtlelearning.com
END:VEVENT
BEGIN:VEVENT
DTSTART;TZID=UTC:20270928T130000
DTEND;TZID=UTC:20270928T150000
DTSTAMP:20260424T004032
CREATED:20250909T120836Z
LAST-MODIFIED:20251014T101904Z
UID:10079783-1822136400-1822143600@myrtlelearning.com
SUMMARY:27GS Myrtle HE1
DESCRIPTION:27GS Myrtle HE1 \nThese group is made of students preparing for their Science exams in 2025/2026 \nSelect the button below to join the lesson online \n \n 
URL:https://myrtlelearning.com/event/25gs-myrtle-he1-2-2/2027-09-28/
LOCATION:Online Session\, 25 Pattens Gardens\, Rochester\, Other\, ME1 2QP\, United Kingdom
CATEGORIES:27GS Myrtle HE1
ATTACH;FMTTYPE=image/jpeg:https://myrtlelearning.com/wp-content/uploads/2023/08/myrtle-icon-whitejpg.jpg
ORGANIZER;CN="Abbie":MAILTO:barnesab@myrtlelearning.com
END:VEVENT
BEGIN:VEVENT
DTSTART;TZID=UTC:20270928T170000
DTEND;TZID=UTC:20270928T180000
DTSTAMP:20260424T004032
CREATED:20240620T154950Z
LAST-MODIFIED:20240620T160453Z
UID:10036825-1822150800-1822154400@myrtlelearning.com
SUMMARY:28GS Myrtle 2
DESCRIPTION:28GS Myrtle 2 \nThese group is made of students preparing for their Science exams in 2026 \nSelect the button below to join the lesson online
URL:https://myrtlelearning.com/event/28gs-myrtle-2-2/2027-09-28/
LOCATION:Abbie\, Myrtle Learning\, ME1 2QP\, United Kingdom
CATEGORIES:28GS Myrtle 2
ATTACH;FMTTYPE=image/jpeg:https://myrtlelearning.com/wp-content/uploads/2023/08/myrtle-icon-whitejpg.jpg
ORGANIZER;CN="Abbie":MAILTO:barnesab@myrtlelearning.com
END:VEVENT
BEGIN:VEVENT
DTSTART;TZID=UTC:20270928T190000
DTEND;TZID=UTC:20270928T200000
DTSTAMP:20260424T004032
CREATED:20260126T114436Z
LAST-MODIFIED:20260127T171626Z
UID:10093979-1822158000-1822161600@myrtlelearning.com
SUMMARY:26GEO Myrtle 1
DESCRIPTION:26GEO Myrtle 1 \nThis lesson covers GCSE Geography \nSelect the button below to join the lesson online \n \n 
URL:https://myrtlelearning.com/event/26geo-myrtle-1-2/2027-09-28/
LOCATION:Online Session\, 25 Pattens Gardens\, Rochester\, Other\, ME1 2QP\, United Kingdom
CATEGORIES:26GEO Myrtle 1
ATTACH;FMTTYPE=image/jpeg:https://myrtlelearning.com/wp-content/uploads/2023/08/myrtle-icon-whitejpg.jpg
ORGANIZER;CN="Abbie":MAILTO:barnesab@myrtlelearning.com
END:VEVENT
BEGIN:VEVENT
DTSTART;TZID=UTC:20270929T130000
DTEND;TZID=UTC:20270929T150000
DTSTAMP:20260424T004032
CREATED:20250909T120836Z
LAST-MODIFIED:20251014T101904Z
UID:10082972-1822222800-1822230000@myrtlelearning.com
SUMMARY:27GS Myrtle HE1
DESCRIPTION:27GS Myrtle HE1 \nThese group is made of students preparing for their Science exams in 2025/2026 \nSelect the button below to join the lesson online \n \n 
URL:https://myrtlelearning.com/event/25gs-myrtle-he1-2-2/2027-09-29/
LOCATION:Online Session\, 25 Pattens Gardens\, Rochester\, Other\, ME1 2QP\, United Kingdom
CATEGORIES:27GS Myrtle HE1
ATTACH;FMTTYPE=image/jpeg:https://myrtlelearning.com/wp-content/uploads/2023/08/myrtle-icon-whitejpg.jpg
ORGANIZER;CN="Abbie":MAILTO:barnesab@myrtlelearning.com
END:VEVENT
BEGIN:VEVENT
DTSTART;TZID=UTC:20270929T180000
DTEND;TZID=UTC:20270929T200000
DTSTAMP:20260424T004032
CREATED:20260126T115618Z
LAST-MODIFIED:20260126T115618Z
UID:10094241-1822240800-1822248000@myrtlelearning.com
SUMMARY:27GS Myrtle 2
DESCRIPTION:27GS Myrtle 2 \nThese group is made of students preparing for their science exams in 2027 \nSelect the button below to join the lesson online
URL:https://myrtlelearning.com/event/27gs-myrtle-2/2027-09-29/
LOCATION:Online Session\, 25 Pattens Gardens\, Rochester\, Other\, ME1 2QP\, United Kingdom
CATEGORIES:27GS Myrtle 2
ATTACH;FMTTYPE=image/jpeg:https://myrtlelearning.com/wp-content/uploads/2023/08/myrtle-icon-whitejpg.jpg
ORGANIZER;CN="Abbie":MAILTO:barnesab@myrtlelearning.com
END:VEVENT
BEGIN:VEVENT
DTSTART;TZID=UTC:20270930T130000
DTEND;TZID=UTC:20270930T150000
DTSTAMP:20260424T004032
CREATED:20250627T113227Z
LAST-MODIFIED:20250930T135121Z
UID:10081243-1822309200-1822316400@myrtlelearning.com
SUMMARY:27GE Myrtle HE1
DESCRIPTION:27GE Myrtle HE1 \nThese group is made of students preparing for their English exams in 2025/2026 \nSelect the button below to join the lesson online \n \n 
URL:https://myrtlelearning.com/event/25ge-myrtle-he1-2/2027-09-30/
LOCATION:Online Session\, 25 Pattens Gardens\, Rochester\, Other\, ME1 2QP\, United Kingdom
CATEGORIES:27GE Myrtle HE1
ATTACH;FMTTYPE=image/jpeg:https://myrtlelearning.com/wp-content/uploads/2023/08/myrtle-icon-whitejpg.jpg
ORGANIZER;CN="Abbie":MAILTO:barnesab@myrtlelearning.com
END:VEVENT
BEGIN:VEVENT
DTSTART;TZID=UTC:20270930T160000
DTEND;TZID=UTC:20270930T170000
DTSTAMP:20260424T004032
CREATED:20260121T190741Z
LAST-MODIFIED:20260126T182037Z
UID:10096046-1822320000-1822323600@myrtlelearning.com
SUMMARY:26GM Myrtle 2
DESCRIPTION:26GM Myrtle 2  \nThese group is made of students preparing for their Science exams in 2026 \nSelect the button below to join the lesson online
URL:https://myrtlelearning.com/event/26gm-myrtle-2/2027-09-30/
LOCATION:Online Session\, 25 Pattens Gardens\, Rochester\, Other\, ME1 2QP\, United Kingdom
CATEGORIES:26GM Myrtle 2
ATTACH;FMTTYPE=image/jpeg:https://myrtlelearning.com/wp-content/uploads/2023/08/myrtle-icon-whitejpg.jpg
ORGANIZER;CN="Abbie":MAILTO:barnesab@myrtlelearning.com
END:VEVENT
BEGIN:VEVENT
DTSTART;TZID=UTC:20270930T160000
DTEND;TZID=UTC:20270930T170000
DTSTAMP:20260424T004032
CREATED:20260402T162155Z
LAST-MODIFIED:20260420T145311Z
UID:10101302-1822320000-1822323600@myrtlelearning.com
SUMMARY:26GE Myrtle 3
DESCRIPTION:26GE Myrtle 3 \nThese group is made of students preparing for their GCSE English exams in 2026 \nSelect the button below to join the lesson online
URL:https://myrtlelearning.com/event/26ge-myrtle-3/2027-09-30/
LOCATION:Online Session\, 25 Pattens Gardens\, Rochester\, Other\, ME1 2QP\, United Kingdom
CATEGORIES:26GE Myrtle 3
ATTACH;FMTTYPE=image/jpeg:https://myrtlelearning.com/wp-content/uploads/2023/08/myrtle-icon-whitejpg.jpg
ORGANIZER;CN="Abbie":MAILTO:barnesab@myrtlelearning.com
END:VEVENT
BEGIN:VEVENT
DTSTART;TZID=UTC:20270930T170000
DTEND;TZID=UTC:20270930T190000
DTSTAMP:20260424T004032
CREATED:20250130T110636Z
LAST-MODIFIED:20250130T111046Z
UID:10062369-1822323600-1822330800@myrtlelearning.com
SUMMARY:24SEN Myrtle 1
DESCRIPTION:24SEN Myrtle 1 \nSelect the button below to join the lesson online \n \n 
URL:https://myrtlelearning.com/event/24sen-myrtle-1/2027-09-30/
LOCATION:Online Session\, 25 Pattens Gardens\, Rochester\, Other\, ME1 2QP\, United Kingdom
CATEGORIES:24SEN Myrtle 1
ATTACH;FMTTYPE=image/jpeg:https://myrtlelearning.com/wp-content/uploads/2023/08/myrtle-icon-whitejpg.jpg
ORGANIZER;CN="Abbie":MAILTO:barnesab@myrtlelearning.com
END:VEVENT
BEGIN:VEVENT
DTSTART;TZID=UTC:20270930T170000
DTEND;TZID=UTC:20270930T190000
DTSTAMP:20260424T004032
CREATED:20260416T160358Z
LAST-MODIFIED:20260416T160519Z
UID:10102543-1822323600-1822330800@myrtlelearning.com
SUMMARY:26GE Myrtle 4
DESCRIPTION:26GE Myrtle 4  \nThese group is made of students preparing for their GCSE exams in 2026 \nSelect the button below to join the lesson online
URL:https://myrtlelearning.com/event/26ge-myrtle-4-2/2027-09-30/
LOCATION:Online Session\, 25 Pattens Gardens\, Rochester\, Other\, ME1 2QP\, United Kingdom
CATEGORIES:26GE Myrtle 4
ATTACH;FMTTYPE=image/jpeg:https://myrtlelearning.com/wp-content/uploads/2023/08/myrtle-icon-whitejpg.jpg
ORGANIZER;CN="Abbie":MAILTO:barnesab@myrtlelearning.com
END:VEVENT
BEGIN:VEVENT
DTSTART;TZID=UTC:20270930T180000
DTEND;TZID=UTC:20270930T183000
DTSTAMP:20260424T004032
CREATED:20250409T165731Z
LAST-MODIFIED:20250410T092546Z
UID:10073572-1822327200-1822329000@myrtlelearning.com
SUMMARY:Myrtle Reads 1
DESCRIPTION:Myrtle Reads 1 \nThese group is made of students in the Reading Club \nSelect the button below to join the lesson online \n \n 
URL:https://myrtlelearning.com/event/myrtle-reads-1/2027-09-30/
LOCATION:Online Session\, 25 Pattens Gardens\, Rochester\, Other\, ME1 2QP\, United Kingdom
CATEGORIES:Myrtle Reads 1
ATTACH;FMTTYPE=image/jpeg:https://myrtlelearning.com/wp-content/uploads/2023/08/myrtle-icon-whitejpg.jpg
ORGANIZER;CN="Abbie":MAILTO:barnesab@myrtlelearning.com
END:VEVENT
BEGIN:VEVENT
DTSTART;TZID=UTC:20271001T110000
DTEND;TZID=UTC:20271001T120000
DTSTAMP:20260424T004032
CREATED:20260126T112432Z
LAST-MODIFIED:20260126T112432Z
UID:10092473-1822388400-1822392000@myrtlelearning.com
SUMMARY:26ALB Myrtle 1
DESCRIPTION:26ALB Myrtle 1 \nThese group is made of students preparing for their biology exams in 2026 \nSelect the button below to join the lesson online
URL:https://myrtlelearning.com/event/26alb-myrtle-1/2027-10-01/
LOCATION:Online Session\, 25 Pattens Gardens\, Rochester\, Other\, ME1 2QP\, United Kingdom
CATEGORIES:26ALB Myrtle 1
ATTACH;FMTTYPE=image/jpeg:https://myrtlelearning.com/wp-content/uploads/2023/08/myrtle-icon-whitejpg.jpg
ORGANIZER;CN="Abbie":MAILTO:barnesab@myrtlelearning.com
END:VEVENT
BEGIN:VEVENT
DTSTART;TZID=UTC:20271001T130000
DTEND;TZID=UTC:20271001T150000
DTSTAMP:20260424T004032
CREATED:20250627T113227Z
LAST-MODIFIED:20250930T135121Z
UID:10081244-1822395600-1822402800@myrtlelearning.com
SUMMARY:27GE Myrtle HE1
DESCRIPTION:27GE Myrtle HE1 \nThese group is made of students preparing for their English exams in 2025/2026 \nSelect the button below to join the lesson online \n \n 
URL:https://myrtlelearning.com/event/25ge-myrtle-he1-2/2027-10-01/
LOCATION:Online Session\, 25 Pattens Gardens\, Rochester\, Other\, ME1 2QP\, United Kingdom
CATEGORIES:27GE Myrtle HE1
ATTACH;FMTTYPE=image/jpeg:https://myrtlelearning.com/wp-content/uploads/2023/08/myrtle-icon-whitejpg.jpg
ORGANIZER;CN="Abbie":MAILTO:barnesab@myrtlelearning.com
END:VEVENT
BEGIN:VEVENT
DTSTART;TZID=UTC:20271001T160000
DTEND;TZID=UTC:20271001T170000
DTSTAMP:20260424T004032
CREATED:20251023T092841Z
LAST-MODIFIED:20251023T092841Z
UID:10084843-1822406400-1822410000@myrtlelearning.com
SUMMARY:26EP Myrtle 3 EVR
DESCRIPTION:This lesson covers 11Plus English each week \nSelect the button below to join the lesson online
URL:https://myrtlelearning.com/event/26ep-myrtle-3-evr/2027-10-01/
LOCATION:Online Session\, 25 Pattens Gardens\, Rochester\, Other\, ME1 2QP\, United Kingdom
CATEGORIES:26EP Myrtle 3 EVR
ATTACH;FMTTYPE=image/jpeg:https://myrtlelearning.com/wp-content/uploads/2023/08/myrtle-icon-whitejpg.jpg
ORGANIZER;CN="Abbie":MAILTO:barnesab@myrtlelearning.com
END:VEVENT
BEGIN:VEVENT
DTSTART;TZID=UTC:20271001T160000
DTEND;TZID=UTC:20271001T170000
DTSTAMP:20260424T004032
CREATED:20260121T190741Z
LAST-MODIFIED:20260126T182037Z
UID:10096047-1822406400-1822410000@myrtlelearning.com
SUMMARY:26GM Myrtle 2
DESCRIPTION:26GM Myrtle 2  \nThese group is made of students preparing for their Science exams in 2026 \nSelect the button below to join the lesson online
URL:https://myrtlelearning.com/event/26gm-myrtle-2/2027-10-01/
LOCATION:Online Session\, 25 Pattens Gardens\, Rochester\, Other\, ME1 2QP\, United Kingdom
CATEGORIES:26GM Myrtle 2
ATTACH;FMTTYPE=image/jpeg:https://myrtlelearning.com/wp-content/uploads/2023/08/myrtle-icon-whitejpg.jpg
ORGANIZER;CN="Abbie":MAILTO:barnesab@myrtlelearning.com
END:VEVENT
BEGIN:VEVENT
DTSTART;TZID=UTC:20271001T173000
DTEND;TZID=UTC:20271001T183000
DTSTAMP:20260424T004032
CREATED:20260126T120905Z
LAST-MODIFIED:20260126T120905Z
UID:10094767-1822411800-1822415400@myrtlelearning.com
SUMMARY:27GEC Myrtle 1
DESCRIPTION:27GEC Myrtle 1 \nThese group is made of students preparing for their economics exams in 2027 \nSelect the button below to join the lesson online
URL:https://myrtlelearning.com/event/27gec-myrtle-1/2027-10-01/
LOCATION:Online Session\, 25 Pattens Gardens\, Rochester\, Other\, ME1 2QP\, United Kingdom
CATEGORIES:27GEC Myrtle 1
ATTACH;FMTTYPE=image/jpeg:https://myrtlelearning.com/wp-content/uploads/2023/08/myrtle-icon-whitejpg.jpg
ORGANIZER;CN="Abbie":MAILTO:barnesab@myrtlelearning.com
END:VEVENT
BEGIN:VEVENT
DTSTART;TZID=UTC:20271001T180000
DTEND;TZID=UTC:20271001T190000
DTSTAMP:20260424T004032
CREATED:20260407T172651Z
LAST-MODIFIED:20260407T172651Z
UID:10100871-1822413600-1822417200@myrtlelearning.com
SUMMARY:28GE Myrtle 1
DESCRIPTION:28GE Myrtle 1 \nThis group are preparing for their GCSE exams in 2028. Their lessons cover English Key Stage 3 to GCSE
URL:https://myrtlelearning.com/event/28ge-myrtle-1/2027-10-01/
LOCATION:Online Session\, 25 Pattens Gardens\, Rochester\, Other\, ME1 2QP\, United Kingdom
CATEGORIES:28GE Myrtle 1
ATTACH;FMTTYPE=image/jpeg:https://myrtlelearning.com/wp-content/uploads/2023/08/myrtle-icon-whitejpg.jpg
ORGANIZER;CN="Abbie":MAILTO:barnesab@myrtlelearning.com
END:VEVENT
BEGIN:VEVENT
DTSTART;TZID=UTC:20271002T090000
DTEND;TZID=UTC:20271002T100000
DTSTAMP:20260424T004032
CREATED:20260126T121624Z
LAST-MODIFIED:20260126T121624Z
UID:10095571-1822467600-1822471200@myrtlelearning.com
SUMMARY:26IGE Myrtle 1
DESCRIPTION:26IGE Myrtle 1 \nThese group is made of students preparing for their english exams in 2026 \nSelect the button below to join the lesson online
URL:https://myrtlelearning.com/event/26ige-myrtle-1/2027-10-02/
LOCATION:Online Session\, 25 Pattens Gardens\, Rochester\, Other\, ME1 2QP\, United Kingdom
CATEGORIES:26IGE Myrtle 1
ATTACH;FMTTYPE=image/jpeg:https://myrtlelearning.com/wp-content/uploads/2023/08/myrtle-icon-whitejpg.jpg
ORGANIZER;CN="Abbie":MAILTO:barnesab@myrtlelearning.com
END:VEVENT
BEGIN:VEVENT
DTSTART;TZID=UTC:20271002T090000
DTEND;TZID=UTC:20271002T100000
DTSTAMP:20260424T004032
CREATED:20260126T185648Z
LAST-MODIFIED:20260207T104209Z
UID:10096481-1822467600-1822471200@myrtlelearning.com
SUMMARY:30GM Myrtle 1
DESCRIPTION:30GM/SC Myrtle 1  \nThese group is made of students preparing for their maths and science exams in 2030 \nSelect the button below to join the lesson online
URL:https://myrtlelearning.com/event/30gm-gs-myrtle-1/2027-10-02/
LOCATION:Online Session\, 25 Pattens Gardens\, Rochester\, Other\, ME1 2QP\, United Kingdom
CATEGORIES:30GM Myrtle 1
ATTACH;FMTTYPE=image/jpeg:https://myrtlelearning.com/wp-content/uploads/2023/08/myrtle-icon-whitejpg.jpg
ORGANIZER;CN="Abbie":MAILTO:barnesab@myrtlelearning.com
END:VEVENT
BEGIN:VEVENT
DTSTART;TZID=UTC:20271002T090000
DTEND;TZID=UTC:20271002T110000
DTSTAMP:20260424T004032
CREATED:20251121T120508Z
LAST-MODIFIED:20260206T192247Z
UID:10088255-1822467600-1822474800@myrtlelearning.com
SUMMARY:29EP Myrtle 1 Ma/Eng
DESCRIPTION:29EP Myrtle 1 Ma/Eng  \nThese students are preparing for their examinations in 2026 \nSelect the button below to join the lesson online
URL:https://myrtlelearning.com/event/29ep-myrtle-1-ma-eng/2027-10-02/
LOCATION:Myrtle Learning Centre\, Pattens Gardens\, Rochester\, Kent\, ME1 2QP\, United Kingdom
CATEGORIES:29EP Myrtle 1 Ma/Eng
ATTACH;FMTTYPE=image/jpeg:https://myrtlelearning.com/wp-content/uploads/2023/08/myrtle-icon-whitejpg.jpg
ORGANIZER;CN="Abbie":MAILTO:barnesab@myrtlelearning.com
END:VEVENT
BEGIN:VEVENT
DTSTART;TZID=UTC:20271002T100000
DTEND;TZID=UTC:20271002T130000
DTSTAMP:20260424T004032
CREATED:20251219T150820Z
LAST-MODIFIED:20251219T193237Z
UID:10089863-1822471200-1822482000@myrtlelearning.com
SUMMARY:26GS Myrtle 1 Exam Skills
DESCRIPTION:26GS Myrtle 1 Exam Skills  \nThis lesson covers GCSE Science Exam Skills. \nSelect the button below to join the lesson online \n \n 
URL:https://myrtlelearning.com/event/26gs-myrtle-1-exam-skills/2027-10-02/
LOCATION:Online Session\, 25 Pattens Gardens\, Rochester\, Other\, ME1 2QP\, United Kingdom
CATEGORIES:26GS Myrtle 1 Exam Skills
ATTACH;FMTTYPE=image/jpeg:https://myrtlelearning.com/wp-content/uploads/2023/08/myrtle-icon-whitejpg.jpg
ORGANIZER;CN="Abbie":MAILTO:barnesab@myrtlelearning.com
END:VEVENT
BEGIN:VEVENT
DTSTART;TZID=UTC:20271002T140000
DTEND;TZID=UTC:20271002T160000
DTSTAMP:20260424T004032
CREATED:20260206T191148Z
LAST-MODIFIED:20260207T123227Z
UID:10098108-1822485600-1822492800@myrtlelearning.com
SUMMARY:28EP Myrtle 1 Ma/EVR
DESCRIPTION:28EP Myrtle 1 Ma/EVR  \nThis lesson covers Year 3 mathematics and english on Friday. \nSelect the button below to join the lesson online
URL:https://myrtlelearning.com/event/28ep-myrtle-1-ma-evr/2027-10-02/
LOCATION:Online Session\, 25 Pattens Gardens\, Rochester\, Other\, ME1 2QP\, United Kingdom
CATEGORIES:28EP Myrtle 1 Ma/EVR 
ATTACH;FMTTYPE=image/jpeg:https://myrtlelearning.com/wp-content/uploads/2023/08/myrtle-icon-whitejpg.jpg
ORGANIZER;CN="Abbie":MAILTO:barnesab@myrtlelearning.com
END:VEVENT
BEGIN:VEVENT
DTSTART;TZID=UTC:20271002T140000
DTEND;TZID=UTC:20271002T160000
DTSTAMP:20260424T004032
CREATED:20260206T192032Z
LAST-MODIFIED:20260206T192050Z
UID:10097314-1822485600-1822492800@myrtlelearning.com
SUMMARY:29EP Myrtle 2 Ma/EVR
DESCRIPTION:29EP Myrtle 2 Ma/EVR \nThis lesson covers Year 2 mathematics and english on Friday and Saturday. \nSelect the button below to join the lesson online
URL:https://myrtlelearning.com/event/29ep-myrtle-2-ma-evr/2027-10-02/
LOCATION:Online Session\, 25 Pattens Gardens\, Rochester\, Other\, ME1 2QP\, United Kingdom
CATEGORIES:29EP Myrtle 2 Ma/EVR
ATTACH;FMTTYPE=image/jpeg:https://myrtlelearning.com/wp-content/uploads/2023/08/myrtle-icon-whitejpg.jpg
ORGANIZER;CN="Abbie":MAILTO:barnesab@myrtlelearning.com
END:VEVENT
BEGIN:VEVENT
DTSTART;TZID=UTC:20271002T140000
DTEND;TZID=UTC:20271002T160000
DTSTAMP:20260424T004032
CREATED:20260207T122305Z
LAST-MODIFIED:20260207T122305Z
UID:10097848-1822485600-1822492800@myrtlelearning.com
SUMMARY:27ALM Myrtle 1
DESCRIPTION:27ALM Myrtle 1 \nThis lesson covers Year 12 mathematics on Saturday. \nSelect the button below to join the lesson online
URL:https://myrtlelearning.com/event/27alm-myrtle-1/2027-10-02/
LOCATION:Online Session\, 25 Pattens Gardens\, Rochester\, Other\, ME1 2QP\, United Kingdom
CATEGORIES:27ALM Myrtle 1
ATTACH;FMTTYPE=image/jpeg:https://myrtlelearning.com/wp-content/uploads/2023/08/myrtle-icon-whitejpg.jpg
ORGANIZER;CN="Abbie":MAILTO:barnesab@myrtlelearning.com
END:VEVENT
BEGIN:VEVENT
DTSTART;TZID=UTC:20271002T160000
DTEND;TZID=UTC:20271002T170000
DTSTAMP:20260424T004032
CREATED:20260402T162155Z
LAST-MODIFIED:20260420T145311Z
UID:10101303-1822492800-1822496400@myrtlelearning.com
SUMMARY:26GE Myrtle 3
DESCRIPTION:26GE Myrtle 3 \nThese group is made of students preparing for their GCSE English exams in 2026 \nSelect the button below to join the lesson online
URL:https://myrtlelearning.com/event/26ge-myrtle-3/2027-10-02/
LOCATION:Online Session\, 25 Pattens Gardens\, Rochester\, Other\, ME1 2QP\, United Kingdom
CATEGORIES:26GE Myrtle 3
ATTACH;FMTTYPE=image/jpeg:https://myrtlelearning.com/wp-content/uploads/2023/08/myrtle-icon-whitejpg.jpg
ORGANIZER;CN="Abbie":MAILTO:barnesab@myrtlelearning.com
END:VEVENT
BEGIN:VEVENT
DTSTART;TZID=UTC:20271004T130000
DTEND;TZID=UTC:20271004T150000
DTSTAMP:20260424T004032
CREATED:20250909T120836Z
LAST-MODIFIED:20251014T101904Z
UID:10080849-1822654800-1822662000@myrtlelearning.com
SUMMARY:27GS Myrtle HE1
DESCRIPTION:27GS Myrtle HE1 \nThese group is made of students preparing for their Science exams in 2025/2026 \nSelect the button below to join the lesson online \n \n 
URL:https://myrtlelearning.com/event/25gs-myrtle-he1-2-2/2027-10-04/
LOCATION:Online Session\, 25 Pattens Gardens\, Rochester\, Other\, ME1 2QP\, United Kingdom
CATEGORIES:27GS Myrtle HE1
ATTACH;FMTTYPE=image/jpeg:https://myrtlelearning.com/wp-content/uploads/2023/08/myrtle-icon-whitejpg.jpg
ORGANIZER;CN="Abbie":MAILTO:barnesab@myrtlelearning.com
END:VEVENT
BEGIN:VEVENT
DTSTART;TZID=UTC:20271004T170000
DTEND;TZID=UTC:20271004T190000
DTSTAMP:20260424T004032
CREATED:20260420T150514Z
LAST-MODIFIED:20260420T150514Z
UID:10103174-1822669200-1822676400@myrtlelearning.com
SUMMARY:27IBMA Myrtle 1
DESCRIPTION:27IBMA Myrtle 1  \nThis lesson covers Key Stage 3 English \nSelect the button below to join the lesson online
URL:https://myrtlelearning.com/event/27ibma-myrtle-1/2027-10-04/
LOCATION:Online Session\, 25 Pattens Gardens\, Rochester\, Other\, ME1 2QP\, United Kingdom
CATEGORIES:27IBMA Myrtle 1
ATTACH;FMTTYPE=image/jpeg:https://myrtlelearning.com/wp-content/uploads/2023/08/myrtle-icon-whitejpg.jpg
ORGANIZER;CN="Abbie":MAILTO:barnesab@myrtlelearning.com
END:VEVENT
BEGIN:VEVENT
DTSTART;TZID=UTC:20271004T173000
DTEND;TZID=UTC:20271004T183000
DTSTAMP:20260424T004032
CREATED:20251023T092227Z
LAST-MODIFIED:20251023T092348Z
UID:10084582-1822671000-1822674600@myrtlelearning.com
SUMMARY:26EP Myrtle 3 Ma
DESCRIPTION:This lesson covers 11Plus Mathematics each week \nSelect the button below to join the lesson online
URL:https://myrtlelearning.com/event/26ep-myrtle-3-ma/2027-10-04/
LOCATION:Online Session\, 25 Pattens Gardens\, Rochester\, Other\, ME1 2QP\, United Kingdom
CATEGORIES:26EP Myrtle 3 Ma
ATTACH;FMTTYPE=image/jpeg:https://myrtlelearning.com/wp-content/uploads/2023/08/myrtle-icon-whitejpg.jpg
ORGANIZER;CN="Abbie":MAILTO:barnesab@myrtlelearning.com
END:VEVENT
BEGIN:VEVENT
DTSTART;TZID=UTC:20271004T180000
DTEND;TZID=UTC:20271004T190000
DTSTAMP:20260424T004032
CREATED:20241014T194400Z
LAST-MODIFIED:20250127T115316Z
UID:10050625-1822672800-1822676400@myrtlelearning.com
SUMMARY:26GM Myrtle 3
DESCRIPTION:26GM Myrtle 3 \nThese group is made of students preparing for their Maths exams in 2026 \nSelect the button below to join the lesson online
URL:https://myrtlelearning.com/event/26gm-myrtle-3-2-2/2027-10-04/
LOCATION:Myrtle Learning Centre\, Pattens Gardens\, Rochester\, Kent\, ME1 2QP\, United Kingdom
CATEGORIES:26GM Myrtle 3
ATTACH;FMTTYPE=image/jpeg:https://myrtlelearning.com/wp-content/uploads/2023/08/myrtle-icon-whitejpg.jpg
ORGANIZER;CN="Abbie":MAILTO:barnesab@myrtlelearning.com
END:VEVENT
END:VCALENDAR