BEGIN:VCALENDAR
VERSION:2.0
PRODID:-//Myrtle Learning - ECPv6.15.3//NONSGML v1.0//EN
CALSCALE:GREGORIAN
METHOD:PUBLISH
X-WR-CALNAME:Myrtle Learning
X-ORIGINAL-URL:https://myrtlelearning.com
X-WR-CALDESC:Events for Myrtle Learning
REFRESH-INTERVAL;VALUE=DURATION:PT1H
X-Robots-Tag:noindex
X-PUBLISHED-TTL:PT1H
BEGIN:VTIMEZONE
TZID:UTC
BEGIN:STANDARD
TZOFFSETFROM:+0000
TZOFFSETTO:+0000
TZNAME:UTC
DTSTART:20280101T000000
END:STANDARD
END:VTIMEZONE
BEGIN:VEVENT
DTSTART;TZID=UTC:20280516T170000
DTEND;TZID=UTC:20280516T180000
DTSTAMP:20260421T085803
CREATED:20240620T154950Z
LAST-MODIFIED:20240620T160453Z
UID:10036858-1842109200-1842112800@myrtlelearning.com
SUMMARY:28GS Myrtle 2
DESCRIPTION:28GS Myrtle 2 \nThese group is made of students preparing for their Science exams in 2026 \nSelect the button below to join the lesson online
URL:https://myrtlelearning.com/event/28gs-myrtle-2-2/2028-05-16/
LOCATION:Abbie\, Myrtle Learning\, ME1 2QP\, United Kingdom
CATEGORIES:28GS Myrtle 2
ATTACH;FMTTYPE=image/jpeg:https://myrtlelearning.com/wp-content/uploads/2023/08/myrtle-icon-whitejpg.jpg
ORGANIZER;CN="Abbie":MAILTO:barnesab@myrtlelearning.com
END:VEVENT
BEGIN:VEVENT
DTSTART;TZID=UTC:20280523T170000
DTEND;TZID=UTC:20280523T180000
DTSTAMP:20260421T085803
CREATED:20240620T154950Z
LAST-MODIFIED:20240620T160453Z
UID:10036859-1842714000-1842717600@myrtlelearning.com
SUMMARY:28GS Myrtle 2
DESCRIPTION:28GS Myrtle 2 \nThese group is made of students preparing for their Science exams in 2026 \nSelect the button below to join the lesson online
URL:https://myrtlelearning.com/event/28gs-myrtle-2-2/2028-05-23/
LOCATION:Abbie\, Myrtle Learning\, ME1 2QP\, United Kingdom
CATEGORIES:28GS Myrtle 2
ATTACH;FMTTYPE=image/jpeg:https://myrtlelearning.com/wp-content/uploads/2023/08/myrtle-icon-whitejpg.jpg
ORGANIZER;CN="Abbie":MAILTO:barnesab@myrtlelearning.com
END:VEVENT
BEGIN:VEVENT
DTSTART;TZID=UTC:20280530T170000
DTEND;TZID=UTC:20280530T180000
DTSTAMP:20260421T085803
CREATED:20240620T154950Z
LAST-MODIFIED:20240620T160453Z
UID:10036860-1843318800-1843322400@myrtlelearning.com
SUMMARY:28GS Myrtle 2
DESCRIPTION:28GS Myrtle 2 \nThese group is made of students preparing for their Science exams in 2026 \nSelect the button below to join the lesson online
URL:https://myrtlelearning.com/event/28gs-myrtle-2-2/2028-05-30/
LOCATION:Abbie\, Myrtle Learning\, ME1 2QP\, United Kingdom
CATEGORIES:28GS Myrtle 2
ATTACH;FMTTYPE=image/jpeg:https://myrtlelearning.com/wp-content/uploads/2023/08/myrtle-icon-whitejpg.jpg
ORGANIZER;CN="Abbie":MAILTO:barnesab@myrtlelearning.com
END:VEVENT
BEGIN:VEVENT
DTSTART;TZID=UTC:20280606T170000
DTEND;TZID=UTC:20280606T180000
DTSTAMP:20260421T085803
CREATED:20240620T154950Z
LAST-MODIFIED:20240620T160453Z
UID:10036861-1843923600-1843927200@myrtlelearning.com
SUMMARY:28GS Myrtle 2
DESCRIPTION:28GS Myrtle 2 \nThese group is made of students preparing for their Science exams in 2026 \nSelect the button below to join the lesson online
URL:https://myrtlelearning.com/event/28gs-myrtle-2-2/2028-06-06/
LOCATION:Abbie\, Myrtle Learning\, ME1 2QP\, United Kingdom
CATEGORIES:28GS Myrtle 2
ATTACH;FMTTYPE=image/jpeg:https://myrtlelearning.com/wp-content/uploads/2023/08/myrtle-icon-whitejpg.jpg
ORGANIZER;CN="Abbie":MAILTO:barnesab@myrtlelearning.com
END:VEVENT
BEGIN:VEVENT
DTSTART;TZID=UTC:20280613T170000
DTEND;TZID=UTC:20280613T180000
DTSTAMP:20260421T085803
CREATED:20240620T154950Z
LAST-MODIFIED:20240620T160453Z
UID:10036862-1844528400-1844532000@myrtlelearning.com
SUMMARY:28GS Myrtle 2
DESCRIPTION:28GS Myrtle 2 \nThese group is made of students preparing for their Science exams in 2026 \nSelect the button below to join the lesson online
URL:https://myrtlelearning.com/event/28gs-myrtle-2-2/2028-06-13/
LOCATION:Abbie\, Myrtle Learning\, ME1 2QP\, United Kingdom
CATEGORIES:28GS Myrtle 2
ATTACH;FMTTYPE=image/jpeg:https://myrtlelearning.com/wp-content/uploads/2023/08/myrtle-icon-whitejpg.jpg
ORGANIZER;CN="Abbie":MAILTO:barnesab@myrtlelearning.com
END:VEVENT
BEGIN:VEVENT
DTSTART;TZID=UTC:20280620T170000
DTEND;TZID=UTC:20280620T180000
DTSTAMP:20260421T085803
CREATED:20240620T154950Z
LAST-MODIFIED:20240620T160453Z
UID:10036863-1845133200-1845136800@myrtlelearning.com
SUMMARY:28GS Myrtle 2
DESCRIPTION:28GS Myrtle 2 \nThese group is made of students preparing for their Science exams in 2026 \nSelect the button below to join the lesson online
URL:https://myrtlelearning.com/event/28gs-myrtle-2-2/2028-06-20/
LOCATION:Abbie\, Myrtle Learning\, ME1 2QP\, United Kingdom
CATEGORIES:28GS Myrtle 2
ATTACH;FMTTYPE=image/jpeg:https://myrtlelearning.com/wp-content/uploads/2023/08/myrtle-icon-whitejpg.jpg
ORGANIZER;CN="Abbie":MAILTO:barnesab@myrtlelearning.com
END:VEVENT
BEGIN:VEVENT
DTSTART;TZID=UTC:20280627T170000
DTEND;TZID=UTC:20280627T180000
DTSTAMP:20260421T085803
CREATED:20240620T154950Z
LAST-MODIFIED:20240620T160453Z
UID:10036864-1845738000-1845741600@myrtlelearning.com
SUMMARY:28GS Myrtle 2
DESCRIPTION:28GS Myrtle 2 \nThese group is made of students preparing for their Science exams in 2026 \nSelect the button below to join the lesson online
URL:https://myrtlelearning.com/event/28gs-myrtle-2-2/2028-06-27/
LOCATION:Abbie\, Myrtle Learning\, ME1 2QP\, United Kingdom
CATEGORIES:28GS Myrtle 2
ATTACH;FMTTYPE=image/jpeg:https://myrtlelearning.com/wp-content/uploads/2023/08/myrtle-icon-whitejpg.jpg
ORGANIZER;CN="Abbie":MAILTO:barnesab@myrtlelearning.com
END:VEVENT
BEGIN:VEVENT
DTSTART;TZID=UTC:20280704T170000
DTEND;TZID=UTC:20280704T180000
DTSTAMP:20260421T085803
CREATED:20240620T154950Z
LAST-MODIFIED:20240620T160453Z
UID:10036865-1846342800-1846346400@myrtlelearning.com
SUMMARY:28GS Myrtle 2
DESCRIPTION:28GS Myrtle 2 \nThese group is made of students preparing for their Science exams in 2026 \nSelect the button below to join the lesson online
URL:https://myrtlelearning.com/event/28gs-myrtle-2-2/2028-07-04/
LOCATION:Abbie\, Myrtle Learning\, ME1 2QP\, United Kingdom
CATEGORIES:28GS Myrtle 2
ATTACH;FMTTYPE=image/jpeg:https://myrtlelearning.com/wp-content/uploads/2023/08/myrtle-icon-whitejpg.jpg
ORGANIZER;CN="Abbie":MAILTO:barnesab@myrtlelearning.com
END:VEVENT
BEGIN:VEVENT
DTSTART;TZID=UTC:20280711T170000
DTEND;TZID=UTC:20280711T180000
DTSTAMP:20260421T085803
CREATED:20240620T154950Z
LAST-MODIFIED:20240620T160453Z
UID:10036866-1846947600-1846951200@myrtlelearning.com
SUMMARY:28GS Myrtle 2
DESCRIPTION:28GS Myrtle 2 \nThese group is made of students preparing for their Science exams in 2026 \nSelect the button below to join the lesson online
URL:https://myrtlelearning.com/event/28gs-myrtle-2-2/2028-07-11/
LOCATION:Abbie\, Myrtle Learning\, ME1 2QP\, United Kingdom
CATEGORIES:28GS Myrtle 2
ATTACH;FMTTYPE=image/jpeg:https://myrtlelearning.com/wp-content/uploads/2023/08/myrtle-icon-whitejpg.jpg
ORGANIZER;CN="Abbie":MAILTO:barnesab@myrtlelearning.com
END:VEVENT
BEGIN:VEVENT
DTSTART;TZID=UTC:20280718T170000
DTEND;TZID=UTC:20280718T180000
DTSTAMP:20260421T085803
CREATED:20240620T154950Z
LAST-MODIFIED:20240620T160453Z
UID:10036867-1847552400-1847556000@myrtlelearning.com
SUMMARY:28GS Myrtle 2
DESCRIPTION:28GS Myrtle 2 \nThese group is made of students preparing for their Science exams in 2026 \nSelect the button below to join the lesson online
URL:https://myrtlelearning.com/event/28gs-myrtle-2-2/2028-07-18/
LOCATION:Abbie\, Myrtle Learning\, ME1 2QP\, United Kingdom
CATEGORIES:28GS Myrtle 2
ATTACH;FMTTYPE=image/jpeg:https://myrtlelearning.com/wp-content/uploads/2023/08/myrtle-icon-whitejpg.jpg
ORGANIZER;CN="Abbie":MAILTO:barnesab@myrtlelearning.com
END:VEVENT
BEGIN:VEVENT
DTSTART;TZID=UTC:20280725T170000
DTEND;TZID=UTC:20280725T180000
DTSTAMP:20260421T085803
CREATED:20240620T154950Z
LAST-MODIFIED:20240620T160453Z
UID:10036868-1848157200-1848160800@myrtlelearning.com
SUMMARY:28GS Myrtle 2
DESCRIPTION:28GS Myrtle 2 \nThese group is made of students preparing for their Science exams in 2026 \nSelect the button below to join the lesson online
URL:https://myrtlelearning.com/event/28gs-myrtle-2-2/2028-07-25/
LOCATION:Abbie\, Myrtle Learning\, ME1 2QP\, United Kingdom
CATEGORIES:28GS Myrtle 2
ATTACH;FMTTYPE=image/jpeg:https://myrtlelearning.com/wp-content/uploads/2023/08/myrtle-icon-whitejpg.jpg
ORGANIZER;CN="Abbie":MAILTO:barnesab@myrtlelearning.com
END:VEVENT
BEGIN:VEVENT
DTSTART;TZID=UTC:20280801T170000
DTEND;TZID=UTC:20280801T180000
DTSTAMP:20260421T085803
CREATED:20240620T154950Z
LAST-MODIFIED:20240620T160453Z
UID:10036869-1848762000-1848765600@myrtlelearning.com
SUMMARY:28GS Myrtle 2
DESCRIPTION:28GS Myrtle 2 \nThese group is made of students preparing for their Science exams in 2026 \nSelect the button below to join the lesson online
URL:https://myrtlelearning.com/event/28gs-myrtle-2-2/2028-08-01/
LOCATION:Abbie\, Myrtle Learning\, ME1 2QP\, United Kingdom
CATEGORIES:28GS Myrtle 2
ATTACH;FMTTYPE=image/jpeg:https://myrtlelearning.com/wp-content/uploads/2023/08/myrtle-icon-whitejpg.jpg
ORGANIZER;CN="Abbie":MAILTO:barnesab@myrtlelearning.com
END:VEVENT
BEGIN:VEVENT
DTSTART;TZID=UTC:20280808T170000
DTEND;TZID=UTC:20280808T180000
DTSTAMP:20260421T085804
CREATED:20240620T154950Z
LAST-MODIFIED:20240620T160453Z
UID:10036870-1849366800-1849370400@myrtlelearning.com
SUMMARY:28GS Myrtle 2
DESCRIPTION:28GS Myrtle 2 \nThese group is made of students preparing for their Science exams in 2026 \nSelect the button below to join the lesson online
URL:https://myrtlelearning.com/event/28gs-myrtle-2-2/2028-08-08/
LOCATION:Abbie\, Myrtle Learning\, ME1 2QP\, United Kingdom
CATEGORIES:28GS Myrtle 2
ATTACH;FMTTYPE=image/jpeg:https://myrtlelearning.com/wp-content/uploads/2023/08/myrtle-icon-whitejpg.jpg
ORGANIZER;CN="Abbie":MAILTO:barnesab@myrtlelearning.com
END:VEVENT
BEGIN:VEVENT
DTSTART;TZID=UTC:20280815T170000
DTEND;TZID=UTC:20280815T180000
DTSTAMP:20260421T085804
CREATED:20240620T154950Z
LAST-MODIFIED:20240620T160453Z
UID:10036871-1849971600-1849975200@myrtlelearning.com
SUMMARY:28GS Myrtle 2
DESCRIPTION:28GS Myrtle 2 \nThese group is made of students preparing for their Science exams in 2026 \nSelect the button below to join the lesson online
URL:https://myrtlelearning.com/event/28gs-myrtle-2-2/2028-08-15/
LOCATION:Abbie\, Myrtle Learning\, ME1 2QP\, United Kingdom
CATEGORIES:28GS Myrtle 2
ATTACH;FMTTYPE=image/jpeg:https://myrtlelearning.com/wp-content/uploads/2023/08/myrtle-icon-whitejpg.jpg
ORGANIZER;CN="Abbie":MAILTO:barnesab@myrtlelearning.com
END:VEVENT
BEGIN:VEVENT
DTSTART;TZID=UTC:20280822T170000
DTEND;TZID=UTC:20280822T180000
DTSTAMP:20260421T085804
CREATED:20240620T154950Z
LAST-MODIFIED:20240620T160453Z
UID:10036872-1850576400-1850580000@myrtlelearning.com
SUMMARY:28GS Myrtle 2
DESCRIPTION:28GS Myrtle 2 \nThese group is made of students preparing for their Science exams in 2026 \nSelect the button below to join the lesson online
URL:https://myrtlelearning.com/event/28gs-myrtle-2-2/2028-08-22/
LOCATION:Abbie\, Myrtle Learning\, ME1 2QP\, United Kingdom
CATEGORIES:28GS Myrtle 2
ATTACH;FMTTYPE=image/jpeg:https://myrtlelearning.com/wp-content/uploads/2023/08/myrtle-icon-whitejpg.jpg
ORGANIZER;CN="Abbie":MAILTO:barnesab@myrtlelearning.com
END:VEVENT
BEGIN:VEVENT
DTSTART;TZID=UTC:20280829T170000
DTEND;TZID=UTC:20280829T180000
DTSTAMP:20260421T085804
CREATED:20240620T154950Z
LAST-MODIFIED:20240620T160453Z
UID:10036873-1851181200-1851184800@myrtlelearning.com
SUMMARY:28GS Myrtle 2
DESCRIPTION:28GS Myrtle 2 \nThese group is made of students preparing for their Science exams in 2026 \nSelect the button below to join the lesson online
URL:https://myrtlelearning.com/event/28gs-myrtle-2-2/2028-08-29/
LOCATION:Abbie\, Myrtle Learning\, ME1 2QP\, United Kingdom
CATEGORIES:28GS Myrtle 2
ATTACH;FMTTYPE=image/jpeg:https://myrtlelearning.com/wp-content/uploads/2023/08/myrtle-icon-whitejpg.jpg
ORGANIZER;CN="Abbie":MAILTO:barnesab@myrtlelearning.com
END:VEVENT
BEGIN:VEVENT
DTSTART;TZID=UTC:20280905T170000
DTEND;TZID=UTC:20280905T180000
DTSTAMP:20260421T085804
CREATED:20240620T154950Z
LAST-MODIFIED:20240620T160453Z
UID:10036874-1851786000-1851789600@myrtlelearning.com
SUMMARY:28GS Myrtle 2
DESCRIPTION:28GS Myrtle 2 \nThese group is made of students preparing for their Science exams in 2026 \nSelect the button below to join the lesson online
URL:https://myrtlelearning.com/event/28gs-myrtle-2-2/2028-09-05/
LOCATION:Abbie\, Myrtle Learning\, ME1 2QP\, United Kingdom
CATEGORIES:28GS Myrtle 2
ATTACH;FMTTYPE=image/jpeg:https://myrtlelearning.com/wp-content/uploads/2023/08/myrtle-icon-whitejpg.jpg
ORGANIZER;CN="Abbie":MAILTO:barnesab@myrtlelearning.com
END:VEVENT
BEGIN:VEVENT
DTSTART;TZID=UTC:20280912T170000
DTEND;TZID=UTC:20280912T180000
DTSTAMP:20260421T085804
CREATED:20240620T154950Z
LAST-MODIFIED:20240620T160453Z
UID:10036875-1852390800-1852394400@myrtlelearning.com
SUMMARY:28GS Myrtle 2
DESCRIPTION:28GS Myrtle 2 \nThese group is made of students preparing for their Science exams in 2026 \nSelect the button below to join the lesson online
URL:https://myrtlelearning.com/event/28gs-myrtle-2-2/2028-09-12/
LOCATION:Abbie\, Myrtle Learning\, ME1 2QP\, United Kingdom
CATEGORIES:28GS Myrtle 2
ATTACH;FMTTYPE=image/jpeg:https://myrtlelearning.com/wp-content/uploads/2023/08/myrtle-icon-whitejpg.jpg
ORGANIZER;CN="Abbie":MAILTO:barnesab@myrtlelearning.com
END:VEVENT
BEGIN:VEVENT
DTSTART;TZID=UTC:20280919T170000
DTEND;TZID=UTC:20280919T180000
DTSTAMP:20260421T085804
CREATED:20240620T154950Z
LAST-MODIFIED:20240620T160453Z
UID:10036876-1852995600-1852999200@myrtlelearning.com
SUMMARY:28GS Myrtle 2
DESCRIPTION:28GS Myrtle 2 \nThese group is made of students preparing for their Science exams in 2026 \nSelect the button below to join the lesson online
URL:https://myrtlelearning.com/event/28gs-myrtle-2-2/2028-09-19/
LOCATION:Abbie\, Myrtle Learning\, ME1 2QP\, United Kingdom
CATEGORIES:28GS Myrtle 2
ATTACH;FMTTYPE=image/jpeg:https://myrtlelearning.com/wp-content/uploads/2023/08/myrtle-icon-whitejpg.jpg
ORGANIZER;CN="Abbie":MAILTO:barnesab@myrtlelearning.com
END:VEVENT
BEGIN:VEVENT
DTSTART;TZID=UTC:20280926T170000
DTEND;TZID=UTC:20280926T180000
DTSTAMP:20260421T085804
CREATED:20240620T154950Z
LAST-MODIFIED:20240620T160453Z
UID:10036877-1853600400-1853604000@myrtlelearning.com
SUMMARY:28GS Myrtle 2
DESCRIPTION:28GS Myrtle 2 \nThese group is made of students preparing for their Science exams in 2026 \nSelect the button below to join the lesson online
URL:https://myrtlelearning.com/event/28gs-myrtle-2-2/2028-09-26/
LOCATION:Abbie\, Myrtle Learning\, ME1 2QP\, United Kingdom
CATEGORIES:28GS Myrtle 2
ATTACH;FMTTYPE=image/jpeg:https://myrtlelearning.com/wp-content/uploads/2023/08/myrtle-icon-whitejpg.jpg
ORGANIZER;CN="Abbie":MAILTO:barnesab@myrtlelearning.com
END:VEVENT
BEGIN:VEVENT
DTSTART;TZID=UTC:20281003T170000
DTEND;TZID=UTC:20281003T180000
DTSTAMP:20260421T085804
CREATED:20240620T154950Z
LAST-MODIFIED:20240620T160453Z
UID:10036878-1854205200-1854208800@myrtlelearning.com
SUMMARY:28GS Myrtle 2
DESCRIPTION:28GS Myrtle 2 \nThese group is made of students preparing for their Science exams in 2026 \nSelect the button below to join the lesson online
URL:https://myrtlelearning.com/event/28gs-myrtle-2-2/2028-10-03/
LOCATION:Abbie\, Myrtle Learning\, ME1 2QP\, United Kingdom
CATEGORIES:28GS Myrtle 2
ATTACH;FMTTYPE=image/jpeg:https://myrtlelearning.com/wp-content/uploads/2023/08/myrtle-icon-whitejpg.jpg
ORGANIZER;CN="Abbie":MAILTO:barnesab@myrtlelearning.com
END:VEVENT
BEGIN:VEVENT
DTSTART;TZID=UTC:20281010T170000
DTEND;TZID=UTC:20281010T180000
DTSTAMP:20260421T085804
CREATED:20240620T154950Z
LAST-MODIFIED:20240620T160453Z
UID:10036879-1854810000-1854813600@myrtlelearning.com
SUMMARY:28GS Myrtle 2
DESCRIPTION:28GS Myrtle 2 \nThese group is made of students preparing for their Science exams in 2026 \nSelect the button below to join the lesson online
URL:https://myrtlelearning.com/event/28gs-myrtle-2-2/2028-10-10/
LOCATION:Abbie\, Myrtle Learning\, ME1 2QP\, United Kingdom
CATEGORIES:28GS Myrtle 2
ATTACH;FMTTYPE=image/jpeg:https://myrtlelearning.com/wp-content/uploads/2023/08/myrtle-icon-whitejpg.jpg
ORGANIZER;CN="Abbie":MAILTO:barnesab@myrtlelearning.com
END:VEVENT
BEGIN:VEVENT
DTSTART;TZID=UTC:20281017T170000
DTEND;TZID=UTC:20281017T180000
DTSTAMP:20260421T085804
CREATED:20240620T154950Z
LAST-MODIFIED:20240620T160453Z
UID:10036880-1855414800-1855418400@myrtlelearning.com
SUMMARY:28GS Myrtle 2
DESCRIPTION:28GS Myrtle 2 \nThese group is made of students preparing for their Science exams in 2026 \nSelect the button below to join the lesson online
URL:https://myrtlelearning.com/event/28gs-myrtle-2-2/2028-10-17/
LOCATION:Abbie\, Myrtle Learning\, ME1 2QP\, United Kingdom
CATEGORIES:28GS Myrtle 2
ATTACH;FMTTYPE=image/jpeg:https://myrtlelearning.com/wp-content/uploads/2023/08/myrtle-icon-whitejpg.jpg
ORGANIZER;CN="Abbie":MAILTO:barnesab@myrtlelearning.com
END:VEVENT
BEGIN:VEVENT
DTSTART;TZID=UTC:20281024T170000
DTEND;TZID=UTC:20281024T180000
DTSTAMP:20260421T085804
CREATED:20240620T154950Z
LAST-MODIFIED:20240620T160453Z
UID:10036881-1856019600-1856023200@myrtlelearning.com
SUMMARY:28GS Myrtle 2
DESCRIPTION:28GS Myrtle 2 \nThese group is made of students preparing for their Science exams in 2026 \nSelect the button below to join the lesson online
URL:https://myrtlelearning.com/event/28gs-myrtle-2-2/2028-10-24/
LOCATION:Abbie\, Myrtle Learning\, ME1 2QP\, United Kingdom
CATEGORIES:28GS Myrtle 2
ATTACH;FMTTYPE=image/jpeg:https://myrtlelearning.com/wp-content/uploads/2023/08/myrtle-icon-whitejpg.jpg
ORGANIZER;CN="Abbie":MAILTO:barnesab@myrtlelearning.com
END:VEVENT
BEGIN:VEVENT
DTSTART;TZID=UTC:20281031T170000
DTEND;TZID=UTC:20281031T180000
DTSTAMP:20260421T085804
CREATED:20240620T154950Z
LAST-MODIFIED:20240620T160453Z
UID:10036882-1856624400-1856628000@myrtlelearning.com
SUMMARY:28GS Myrtle 2
DESCRIPTION:28GS Myrtle 2 \nThese group is made of students preparing for their Science exams in 2026 \nSelect the button below to join the lesson online
URL:https://myrtlelearning.com/event/28gs-myrtle-2-2/2028-10-31/
LOCATION:Abbie\, Myrtle Learning\, ME1 2QP\, United Kingdom
CATEGORIES:28GS Myrtle 2
ATTACH;FMTTYPE=image/jpeg:https://myrtlelearning.com/wp-content/uploads/2023/08/myrtle-icon-whitejpg.jpg
ORGANIZER;CN="Abbie":MAILTO:barnesab@myrtlelearning.com
END:VEVENT
BEGIN:VEVENT
DTSTART;TZID=UTC:20281107T170000
DTEND;TZID=UTC:20281107T180000
DTSTAMP:20260421T085804
CREATED:20240620T154950Z
LAST-MODIFIED:20240620T160453Z
UID:10036883-1857229200-1857232800@myrtlelearning.com
SUMMARY:28GS Myrtle 2
DESCRIPTION:28GS Myrtle 2 \nThese group is made of students preparing for their Science exams in 2026 \nSelect the button below to join the lesson online
URL:https://myrtlelearning.com/event/28gs-myrtle-2-2/2028-11-07/
LOCATION:Abbie\, Myrtle Learning\, ME1 2QP\, United Kingdom
CATEGORIES:28GS Myrtle 2
ATTACH;FMTTYPE=image/jpeg:https://myrtlelearning.com/wp-content/uploads/2023/08/myrtle-icon-whitejpg.jpg
ORGANIZER;CN="Abbie":MAILTO:barnesab@myrtlelearning.com
END:VEVENT
BEGIN:VEVENT
DTSTART;TZID=UTC:20281114T170000
DTEND;TZID=UTC:20281114T180000
DTSTAMP:20260421T085804
CREATED:20240620T154950Z
LAST-MODIFIED:20240620T160453Z
UID:10036884-1857834000-1857837600@myrtlelearning.com
SUMMARY:28GS Myrtle 2
DESCRIPTION:28GS Myrtle 2 \nThese group is made of students preparing for their Science exams in 2026 \nSelect the button below to join the lesson online
URL:https://myrtlelearning.com/event/28gs-myrtle-2-2/2028-11-14/
LOCATION:Abbie\, Myrtle Learning\, ME1 2QP\, United Kingdom
CATEGORIES:28GS Myrtle 2
ATTACH;FMTTYPE=image/jpeg:https://myrtlelearning.com/wp-content/uploads/2023/08/myrtle-icon-whitejpg.jpg
ORGANIZER;CN="Abbie":MAILTO:barnesab@myrtlelearning.com
END:VEVENT
BEGIN:VEVENT
DTSTART;TZID=UTC:20281121T170000
DTEND;TZID=UTC:20281121T180000
DTSTAMP:20260421T085804
CREATED:20240620T154950Z
LAST-MODIFIED:20240620T160453Z
UID:10036885-1858438800-1858442400@myrtlelearning.com
SUMMARY:28GS Myrtle 2
DESCRIPTION:28GS Myrtle 2 \nThese group is made of students preparing for their Science exams in 2026 \nSelect the button below to join the lesson online
URL:https://myrtlelearning.com/event/28gs-myrtle-2-2/2028-11-21/
LOCATION:Abbie\, Myrtle Learning\, ME1 2QP\, United Kingdom
CATEGORIES:28GS Myrtle 2
ATTACH;FMTTYPE=image/jpeg:https://myrtlelearning.com/wp-content/uploads/2023/08/myrtle-icon-whitejpg.jpg
ORGANIZER;CN="Abbie":MAILTO:barnesab@myrtlelearning.com
END:VEVENT
BEGIN:VEVENT
DTSTART;TZID=UTC:20281128T170000
DTEND;TZID=UTC:20281128T180000
DTSTAMP:20260421T085804
CREATED:20240620T154950Z
LAST-MODIFIED:20240620T160453Z
UID:10036886-1859043600-1859047200@myrtlelearning.com
SUMMARY:28GS Myrtle 2
DESCRIPTION:28GS Myrtle 2 \nThese group is made of students preparing for their Science exams in 2026 \nSelect the button below to join the lesson online
URL:https://myrtlelearning.com/event/28gs-myrtle-2-2/2028-11-28/
LOCATION:Abbie\, Myrtle Learning\, ME1 2QP\, United Kingdom
CATEGORIES:28GS Myrtle 2
ATTACH;FMTTYPE=image/jpeg:https://myrtlelearning.com/wp-content/uploads/2023/08/myrtle-icon-whitejpg.jpg
ORGANIZER;CN="Abbie":MAILTO:barnesab@myrtlelearning.com
END:VEVENT
BEGIN:VEVENT
DTSTART;TZID=UTC:20281205T170000
DTEND;TZID=UTC:20281205T180000
DTSTAMP:20260421T085804
CREATED:20240620T154950Z
LAST-MODIFIED:20240620T160453Z
UID:10036887-1859648400-1859652000@myrtlelearning.com
SUMMARY:28GS Myrtle 2
DESCRIPTION:28GS Myrtle 2 \nThese group is made of students preparing for their Science exams in 2026 \nSelect the button below to join the lesson online
URL:https://myrtlelearning.com/event/28gs-myrtle-2-2/2028-12-05/
LOCATION:Abbie\, Myrtle Learning\, ME1 2QP\, United Kingdom
CATEGORIES:28GS Myrtle 2
ATTACH;FMTTYPE=image/jpeg:https://myrtlelearning.com/wp-content/uploads/2023/08/myrtle-icon-whitejpg.jpg
ORGANIZER;CN="Abbie":MAILTO:barnesab@myrtlelearning.com
END:VEVENT
END:VCALENDAR