BEGIN:VCALENDAR
VERSION:2.0
PRODID:-//Myrtle Learning - ECPv6.15.3//NONSGML v1.0//EN
CALSCALE:GREGORIAN
METHOD:PUBLISH
X-ORIGINAL-URL:https://myrtlelearning.com
X-WR-CALDESC:Events for Myrtle Learning
REFRESH-INTERVAL;VALUE=DURATION:PT1H
X-Robots-Tag:noindex
X-PUBLISHED-TTL:PT1H
BEGIN:VTIMEZONE
TZID:UTC
BEGIN:STANDARD
TZOFFSETFROM:+0000
TZOFFSETTO:+0000
TZNAME:UTC
DTSTART:20290101T000000
END:STANDARD
END:VTIMEZONE
BEGIN:VEVENT
DTSTART;TZID=UTC:20290417T170000
DTEND;TZID=UTC:20290417T180000
DTSTAMP:20260421T134053
CREATED:20240620T154950Z
LAST-MODIFIED:20240620T160453Z
UID:10036906-1871139600-1871143200@myrtlelearning.com
SUMMARY:28GS Myrtle 2
DESCRIPTION:28GS Myrtle 2 \nThese group is made of students preparing for their Science exams in 2026 \nSelect the button below to join the lesson online
URL:https://myrtlelearning.com/event/28gs-myrtle-2-2/2029-04-17/
LOCATION:Abbie\, Myrtle Learning\, ME1 2QP\, United Kingdom
CATEGORIES:28GS Myrtle 2
ATTACH;FMTTYPE=image/jpeg:https://myrtlelearning.com/wp-content/uploads/2023/08/myrtle-icon-whitejpg.jpg
ORGANIZER;CN="Abbie":MAILTO:barnesab@myrtlelearning.com
END:VEVENT
BEGIN:VEVENT
DTSTART;TZID=UTC:20290424T170000
DTEND;TZID=UTC:20290424T180000
DTSTAMP:20260421T134053
CREATED:20240620T154950Z
LAST-MODIFIED:20240620T160453Z
UID:10036907-1871744400-1871748000@myrtlelearning.com
SUMMARY:28GS Myrtle 2
DESCRIPTION:28GS Myrtle 2 \nThese group is made of students preparing for their Science exams in 2026 \nSelect the button below to join the lesson online
URL:https://myrtlelearning.com/event/28gs-myrtle-2-2/2029-04-24/
LOCATION:Abbie\, Myrtle Learning\, ME1 2QP\, United Kingdom
CATEGORIES:28GS Myrtle 2
ATTACH;FMTTYPE=image/jpeg:https://myrtlelearning.com/wp-content/uploads/2023/08/myrtle-icon-whitejpg.jpg
ORGANIZER;CN="Abbie":MAILTO:barnesab@myrtlelearning.com
END:VEVENT
BEGIN:VEVENT
DTSTART;TZID=UTC:20290501T170000
DTEND;TZID=UTC:20290501T180000
DTSTAMP:20260421T134053
CREATED:20240620T154950Z
LAST-MODIFIED:20240620T160453Z
UID:10036908-1872349200-1872352800@myrtlelearning.com
SUMMARY:28GS Myrtle 2
DESCRIPTION:28GS Myrtle 2 \nThese group is made of students preparing for their Science exams in 2026 \nSelect the button below to join the lesson online
URL:https://myrtlelearning.com/event/28gs-myrtle-2-2/2029-05-01/
LOCATION:Abbie\, Myrtle Learning\, ME1 2QP\, United Kingdom
CATEGORIES:28GS Myrtle 2
ATTACH;FMTTYPE=image/jpeg:https://myrtlelearning.com/wp-content/uploads/2023/08/myrtle-icon-whitejpg.jpg
ORGANIZER;CN="Abbie":MAILTO:barnesab@myrtlelearning.com
END:VEVENT
BEGIN:VEVENT
DTSTART;TZID=UTC:20290508T170000
DTEND;TZID=UTC:20290508T180000
DTSTAMP:20260421T134053
CREATED:20240620T154950Z
LAST-MODIFIED:20240620T160453Z
UID:10036909-1872954000-1872957600@myrtlelearning.com
SUMMARY:28GS Myrtle 2
DESCRIPTION:28GS Myrtle 2 \nThese group is made of students preparing for their Science exams in 2026 \nSelect the button below to join the lesson online
URL:https://myrtlelearning.com/event/28gs-myrtle-2-2/2029-05-08/
LOCATION:Abbie\, Myrtle Learning\, ME1 2QP\, United Kingdom
CATEGORIES:28GS Myrtle 2
ATTACH;FMTTYPE=image/jpeg:https://myrtlelearning.com/wp-content/uploads/2023/08/myrtle-icon-whitejpg.jpg
ORGANIZER;CN="Abbie":MAILTO:barnesab@myrtlelearning.com
END:VEVENT
BEGIN:VEVENT
DTSTART;TZID=UTC:20290515T170000
DTEND;TZID=UTC:20290515T180000
DTSTAMP:20260421T134053
CREATED:20240620T154950Z
LAST-MODIFIED:20240620T160453Z
UID:10036910-1873558800-1873562400@myrtlelearning.com
SUMMARY:28GS Myrtle 2
DESCRIPTION:28GS Myrtle 2 \nThese group is made of students preparing for their Science exams in 2026 \nSelect the button below to join the lesson online
URL:https://myrtlelearning.com/event/28gs-myrtle-2-2/2029-05-15/
LOCATION:Abbie\, Myrtle Learning\, ME1 2QP\, United Kingdom
CATEGORIES:28GS Myrtle 2
ATTACH;FMTTYPE=image/jpeg:https://myrtlelearning.com/wp-content/uploads/2023/08/myrtle-icon-whitejpg.jpg
ORGANIZER;CN="Abbie":MAILTO:barnesab@myrtlelearning.com
END:VEVENT
BEGIN:VEVENT
DTSTART;TZID=UTC:20290522T170000
DTEND;TZID=UTC:20290522T180000
DTSTAMP:20260421T134053
CREATED:20240620T154950Z
LAST-MODIFIED:20240620T160453Z
UID:10036911-1874163600-1874167200@myrtlelearning.com
SUMMARY:28GS Myrtle 2
DESCRIPTION:28GS Myrtle 2 \nThese group is made of students preparing for their Science exams in 2026 \nSelect the button below to join the lesson online
URL:https://myrtlelearning.com/event/28gs-myrtle-2-2/2029-05-22/
LOCATION:Abbie\, Myrtle Learning\, ME1 2QP\, United Kingdom
CATEGORIES:28GS Myrtle 2
ATTACH;FMTTYPE=image/jpeg:https://myrtlelearning.com/wp-content/uploads/2023/08/myrtle-icon-whitejpg.jpg
ORGANIZER;CN="Abbie":MAILTO:barnesab@myrtlelearning.com
END:VEVENT
BEGIN:VEVENT
DTSTART;TZID=UTC:20290529T170000
DTEND;TZID=UTC:20290529T180000
DTSTAMP:20260421T134053
CREATED:20240620T154950Z
LAST-MODIFIED:20240620T160453Z
UID:10036912-1874768400-1874772000@myrtlelearning.com
SUMMARY:28GS Myrtle 2
DESCRIPTION:28GS Myrtle 2 \nThese group is made of students preparing for their Science exams in 2026 \nSelect the button below to join the lesson online
URL:https://myrtlelearning.com/event/28gs-myrtle-2-2/2029-05-29/
LOCATION:Abbie\, Myrtle Learning\, ME1 2QP\, United Kingdom
CATEGORIES:28GS Myrtle 2
ATTACH;FMTTYPE=image/jpeg:https://myrtlelearning.com/wp-content/uploads/2023/08/myrtle-icon-whitejpg.jpg
ORGANIZER;CN="Abbie":MAILTO:barnesab@myrtlelearning.com
END:VEVENT
BEGIN:VEVENT
DTSTART;TZID=UTC:20290605T170000
DTEND;TZID=UTC:20290605T180000
DTSTAMP:20260421T134053
CREATED:20240620T154950Z
LAST-MODIFIED:20240620T160453Z
UID:10036913-1875373200-1875376800@myrtlelearning.com
SUMMARY:28GS Myrtle 2
DESCRIPTION:28GS Myrtle 2 \nThese group is made of students preparing for their Science exams in 2026 \nSelect the button below to join the lesson online
URL:https://myrtlelearning.com/event/28gs-myrtle-2-2/2029-06-05/
LOCATION:Abbie\, Myrtle Learning\, ME1 2QP\, United Kingdom
CATEGORIES:28GS Myrtle 2
ATTACH;FMTTYPE=image/jpeg:https://myrtlelearning.com/wp-content/uploads/2023/08/myrtle-icon-whitejpg.jpg
ORGANIZER;CN="Abbie":MAILTO:barnesab@myrtlelearning.com
END:VEVENT
BEGIN:VEVENT
DTSTART;TZID=UTC:20290612T170000
DTEND;TZID=UTC:20290612T180000
DTSTAMP:20260421T134053
CREATED:20240620T154950Z
LAST-MODIFIED:20240620T160453Z
UID:10036914-1875978000-1875981600@myrtlelearning.com
SUMMARY:28GS Myrtle 2
DESCRIPTION:28GS Myrtle 2 \nThese group is made of students preparing for their Science exams in 2026 \nSelect the button below to join the lesson online
URL:https://myrtlelearning.com/event/28gs-myrtle-2-2/2029-06-12/
LOCATION:Abbie\, Myrtle Learning\, ME1 2QP\, United Kingdom
CATEGORIES:28GS Myrtle 2
ATTACH;FMTTYPE=image/jpeg:https://myrtlelearning.com/wp-content/uploads/2023/08/myrtle-icon-whitejpg.jpg
ORGANIZER;CN="Abbie":MAILTO:barnesab@myrtlelearning.com
END:VEVENT
BEGIN:VEVENT
DTSTART;TZID=UTC:20290619T170000
DTEND;TZID=UTC:20290619T180000
DTSTAMP:20260421T134053
CREATED:20240620T154950Z
LAST-MODIFIED:20240620T160453Z
UID:10036915-1876582800-1876586400@myrtlelearning.com
SUMMARY:28GS Myrtle 2
DESCRIPTION:28GS Myrtle 2 \nThese group is made of students preparing for their Science exams in 2026 \nSelect the button below to join the lesson online
URL:https://myrtlelearning.com/event/28gs-myrtle-2-2/2029-06-19/
LOCATION:Abbie\, Myrtle Learning\, ME1 2QP\, United Kingdom
CATEGORIES:28GS Myrtle 2
ATTACH;FMTTYPE=image/jpeg:https://myrtlelearning.com/wp-content/uploads/2023/08/myrtle-icon-whitejpg.jpg
ORGANIZER;CN="Abbie":MAILTO:barnesab@myrtlelearning.com
END:VEVENT
END:VCALENDAR