BEGIN:VCALENDAR
VERSION:2.0
PRODID:-//Myrtle Learning - ECPv6.15.3//NONSGML v1.0//EN
CALSCALE:GREGORIAN
METHOD:PUBLISH
X-ORIGINAL-URL:https://myrtlelearning.com
X-WR-CALDESC:Events for Myrtle Learning
REFRESH-INTERVAL;VALUE=DURATION:PT1H
X-Robots-Tag:noindex
X-PUBLISHED-TTL:PT1H
BEGIN:VTIMEZONE
TZID:UTC
BEGIN:STANDARD
TZOFFSETFROM:+0000
TZOFFSETTO:+0000
TZNAME:UTC
DTSTART:20270101T000000
END:STANDARD
END:VTIMEZONE
BEGIN:VEVENT
DTSTART;TZID=UTC:20271130T170000
DTEND;TZID=UTC:20271130T180000
DTSTAMP:20260421T062826
CREATED:20240620T154950Z
LAST-MODIFIED:20240620T160453Z
UID:10036834-1827594000-1827597600@myrtlelearning.com
SUMMARY:28GS Myrtle 2
DESCRIPTION:28GS Myrtle 2 \nThese group is made of students preparing for their Science exams in 2026 \nSelect the button below to join the lesson online
URL:https://myrtlelearning.com/event/28gs-myrtle-2-2/2027-11-30/
LOCATION:Abbie\, Myrtle Learning\, ME1 2QP\, United Kingdom
CATEGORIES:28GS Myrtle 2
ATTACH;FMTTYPE=image/jpeg:https://myrtlelearning.com/wp-content/uploads/2023/08/myrtle-icon-whitejpg.jpg
ORGANIZER;CN="Abbie":MAILTO:barnesab@myrtlelearning.com
END:VEVENT
BEGIN:VEVENT
DTSTART;TZID=UTC:20271207T170000
DTEND;TZID=UTC:20271207T180000
DTSTAMP:20260421T062826
CREATED:20240620T154950Z
LAST-MODIFIED:20240620T160453Z
UID:10036835-1828198800-1828202400@myrtlelearning.com
SUMMARY:28GS Myrtle 2
DESCRIPTION:28GS Myrtle 2 \nThese group is made of students preparing for their Science exams in 2026 \nSelect the button below to join the lesson online
URL:https://myrtlelearning.com/event/28gs-myrtle-2-2/2027-12-07/
LOCATION:Abbie\, Myrtle Learning\, ME1 2QP\, United Kingdom
CATEGORIES:28GS Myrtle 2
ATTACH;FMTTYPE=image/jpeg:https://myrtlelearning.com/wp-content/uploads/2023/08/myrtle-icon-whitejpg.jpg
ORGANIZER;CN="Abbie":MAILTO:barnesab@myrtlelearning.com
END:VEVENT
BEGIN:VEVENT
DTSTART;TZID=UTC:20271214T170000
DTEND;TZID=UTC:20271214T180000
DTSTAMP:20260421T062826
CREATED:20240620T154950Z
LAST-MODIFIED:20240620T160453Z
UID:10036836-1828803600-1828807200@myrtlelearning.com
SUMMARY:28GS Myrtle 2
DESCRIPTION:28GS Myrtle 2 \nThese group is made of students preparing for their Science exams in 2026 \nSelect the button below to join the lesson online
URL:https://myrtlelearning.com/event/28gs-myrtle-2-2/2027-12-14/
LOCATION:Abbie\, Myrtle Learning\, ME1 2QP\, United Kingdom
CATEGORIES:28GS Myrtle 2
ATTACH;FMTTYPE=image/jpeg:https://myrtlelearning.com/wp-content/uploads/2023/08/myrtle-icon-whitejpg.jpg
ORGANIZER;CN="Abbie":MAILTO:barnesab@myrtlelearning.com
END:VEVENT
BEGIN:VEVENT
DTSTART;TZID=UTC:20271221T170000
DTEND;TZID=UTC:20271221T180000
DTSTAMP:20260421T062826
CREATED:20240620T154950Z
LAST-MODIFIED:20240620T160453Z
UID:10036837-1829408400-1829412000@myrtlelearning.com
SUMMARY:28GS Myrtle 2
DESCRIPTION:28GS Myrtle 2 \nThese group is made of students preparing for their Science exams in 2026 \nSelect the button below to join the lesson online
URL:https://myrtlelearning.com/event/28gs-myrtle-2-2/2027-12-21/
LOCATION:Abbie\, Myrtle Learning\, ME1 2QP\, United Kingdom
CATEGORIES:28GS Myrtle 2
ATTACH;FMTTYPE=image/jpeg:https://myrtlelearning.com/wp-content/uploads/2023/08/myrtle-icon-whitejpg.jpg
ORGANIZER;CN="Abbie":MAILTO:barnesab@myrtlelearning.com
END:VEVENT
BEGIN:VEVENT
DTSTART;TZID=UTC:20271228T170000
DTEND;TZID=UTC:20271228T180000
DTSTAMP:20260421T062826
CREATED:20240620T154950Z
LAST-MODIFIED:20240620T160453Z
UID:10036838-1830013200-1830016800@myrtlelearning.com
SUMMARY:28GS Myrtle 2
DESCRIPTION:28GS Myrtle 2 \nThese group is made of students preparing for their Science exams in 2026 \nSelect the button below to join the lesson online
URL:https://myrtlelearning.com/event/28gs-myrtle-2-2/2027-12-28/
LOCATION:Abbie\, Myrtle Learning\, ME1 2QP\, United Kingdom
CATEGORIES:28GS Myrtle 2
ATTACH;FMTTYPE=image/jpeg:https://myrtlelearning.com/wp-content/uploads/2023/08/myrtle-icon-whitejpg.jpg
ORGANIZER;CN="Abbie":MAILTO:barnesab@myrtlelearning.com
END:VEVENT
BEGIN:VEVENT
DTSTART;TZID=UTC:20280104T170000
DTEND;TZID=UTC:20280104T180000
DTSTAMP:20260421T062826
CREATED:20240620T154950Z
LAST-MODIFIED:20240620T160453Z
UID:10036839-1830618000-1830621600@myrtlelearning.com
SUMMARY:28GS Myrtle 2
DESCRIPTION:28GS Myrtle 2 \nThese group is made of students preparing for their Science exams in 2026 \nSelect the button below to join the lesson online
URL:https://myrtlelearning.com/event/28gs-myrtle-2-2/2028-01-04/
LOCATION:Abbie\, Myrtle Learning\, ME1 2QP\, United Kingdom
CATEGORIES:28GS Myrtle 2
ATTACH;FMTTYPE=image/jpeg:https://myrtlelearning.com/wp-content/uploads/2023/08/myrtle-icon-whitejpg.jpg
ORGANIZER;CN="Abbie":MAILTO:barnesab@myrtlelearning.com
END:VEVENT
BEGIN:VEVENT
DTSTART;TZID=UTC:20280111T170000
DTEND;TZID=UTC:20280111T180000
DTSTAMP:20260421T062826
CREATED:20240620T154950Z
LAST-MODIFIED:20240620T160453Z
UID:10036840-1831222800-1831226400@myrtlelearning.com
SUMMARY:28GS Myrtle 2
DESCRIPTION:28GS Myrtle 2 \nThese group is made of students preparing for their Science exams in 2026 \nSelect the button below to join the lesson online
URL:https://myrtlelearning.com/event/28gs-myrtle-2-2/2028-01-11/
LOCATION:Abbie\, Myrtle Learning\, ME1 2QP\, United Kingdom
CATEGORIES:28GS Myrtle 2
ATTACH;FMTTYPE=image/jpeg:https://myrtlelearning.com/wp-content/uploads/2023/08/myrtle-icon-whitejpg.jpg
ORGANIZER;CN="Abbie":MAILTO:barnesab@myrtlelearning.com
END:VEVENT
BEGIN:VEVENT
DTSTART;TZID=UTC:20280118T170000
DTEND;TZID=UTC:20280118T180000
DTSTAMP:20260421T062826
CREATED:20240620T154950Z
LAST-MODIFIED:20240620T160453Z
UID:10036841-1831827600-1831831200@myrtlelearning.com
SUMMARY:28GS Myrtle 2
DESCRIPTION:28GS Myrtle 2 \nThese group is made of students preparing for their Science exams in 2026 \nSelect the button below to join the lesson online
URL:https://myrtlelearning.com/event/28gs-myrtle-2-2/2028-01-18/
LOCATION:Abbie\, Myrtle Learning\, ME1 2QP\, United Kingdom
CATEGORIES:28GS Myrtle 2
ATTACH;FMTTYPE=image/jpeg:https://myrtlelearning.com/wp-content/uploads/2023/08/myrtle-icon-whitejpg.jpg
ORGANIZER;CN="Abbie":MAILTO:barnesab@myrtlelearning.com
END:VEVENT
BEGIN:VEVENT
DTSTART;TZID=UTC:20280125T170000
DTEND;TZID=UTC:20280125T180000
DTSTAMP:20260421T062826
CREATED:20240620T154950Z
LAST-MODIFIED:20240620T160453Z
UID:10036842-1832432400-1832436000@myrtlelearning.com
SUMMARY:28GS Myrtle 2
DESCRIPTION:28GS Myrtle 2 \nThese group is made of students preparing for their Science exams in 2026 \nSelect the button below to join the lesson online
URL:https://myrtlelearning.com/event/28gs-myrtle-2-2/2028-01-25/
LOCATION:Abbie\, Myrtle Learning\, ME1 2QP\, United Kingdom
CATEGORIES:28GS Myrtle 2
ATTACH;FMTTYPE=image/jpeg:https://myrtlelearning.com/wp-content/uploads/2023/08/myrtle-icon-whitejpg.jpg
ORGANIZER;CN="Abbie":MAILTO:barnesab@myrtlelearning.com
END:VEVENT
BEGIN:VEVENT
DTSTART;TZID=UTC:20280201T170000
DTEND;TZID=UTC:20280201T180000
DTSTAMP:20260421T062826
CREATED:20240620T154950Z
LAST-MODIFIED:20240620T160453Z
UID:10036843-1833037200-1833040800@myrtlelearning.com
SUMMARY:28GS Myrtle 2
DESCRIPTION:28GS Myrtle 2 \nThese group is made of students preparing for their Science exams in 2026 \nSelect the button below to join the lesson online
URL:https://myrtlelearning.com/event/28gs-myrtle-2-2/2028-02-01/
LOCATION:Abbie\, Myrtle Learning\, ME1 2QP\, United Kingdom
CATEGORIES:28GS Myrtle 2
ATTACH;FMTTYPE=image/jpeg:https://myrtlelearning.com/wp-content/uploads/2023/08/myrtle-icon-whitejpg.jpg
ORGANIZER;CN="Abbie":MAILTO:barnesab@myrtlelearning.com
END:VEVENT
BEGIN:VEVENT
DTSTART;TZID=UTC:20280208T170000
DTEND;TZID=UTC:20280208T180000
DTSTAMP:20260421T062826
CREATED:20240620T154950Z
LAST-MODIFIED:20240620T160453Z
UID:10036844-1833642000-1833645600@myrtlelearning.com
SUMMARY:28GS Myrtle 2
DESCRIPTION:28GS Myrtle 2 \nThese group is made of students preparing for their Science exams in 2026 \nSelect the button below to join the lesson online
URL:https://myrtlelearning.com/event/28gs-myrtle-2-2/2028-02-08/
LOCATION:Abbie\, Myrtle Learning\, ME1 2QP\, United Kingdom
CATEGORIES:28GS Myrtle 2
ATTACH;FMTTYPE=image/jpeg:https://myrtlelearning.com/wp-content/uploads/2023/08/myrtle-icon-whitejpg.jpg
ORGANIZER;CN="Abbie":MAILTO:barnesab@myrtlelearning.com
END:VEVENT
BEGIN:VEVENT
DTSTART;TZID=UTC:20280215T170000
DTEND;TZID=UTC:20280215T180000
DTSTAMP:20260421T062826
CREATED:20240620T154950Z
LAST-MODIFIED:20240620T160453Z
UID:10036845-1834246800-1834250400@myrtlelearning.com
SUMMARY:28GS Myrtle 2
DESCRIPTION:28GS Myrtle 2 \nThese group is made of students preparing for their Science exams in 2026 \nSelect the button below to join the lesson online
URL:https://myrtlelearning.com/event/28gs-myrtle-2-2/2028-02-15/
LOCATION:Abbie\, Myrtle Learning\, ME1 2QP\, United Kingdom
CATEGORIES:28GS Myrtle 2
ATTACH;FMTTYPE=image/jpeg:https://myrtlelearning.com/wp-content/uploads/2023/08/myrtle-icon-whitejpg.jpg
ORGANIZER;CN="Abbie":MAILTO:barnesab@myrtlelearning.com
END:VEVENT
BEGIN:VEVENT
DTSTART;TZID=UTC:20280222T170000
DTEND;TZID=UTC:20280222T180000
DTSTAMP:20260421T062826
CREATED:20240620T154950Z
LAST-MODIFIED:20240620T160453Z
UID:10036846-1834851600-1834855200@myrtlelearning.com
SUMMARY:28GS Myrtle 2
DESCRIPTION:28GS Myrtle 2 \nThese group is made of students preparing for their Science exams in 2026 \nSelect the button below to join the lesson online
URL:https://myrtlelearning.com/event/28gs-myrtle-2-2/2028-02-22/
LOCATION:Abbie\, Myrtle Learning\, ME1 2QP\, United Kingdom
CATEGORIES:28GS Myrtle 2
ATTACH;FMTTYPE=image/jpeg:https://myrtlelearning.com/wp-content/uploads/2023/08/myrtle-icon-whitejpg.jpg
ORGANIZER;CN="Abbie":MAILTO:barnesab@myrtlelearning.com
END:VEVENT
BEGIN:VEVENT
DTSTART;TZID=UTC:20280229T170000
DTEND;TZID=UTC:20280229T180000
DTSTAMP:20260421T062826
CREATED:20240620T154950Z
LAST-MODIFIED:20240620T160453Z
UID:10036847-1835456400-1835460000@myrtlelearning.com
SUMMARY:28GS Myrtle 2
DESCRIPTION:28GS Myrtle 2 \nThese group is made of students preparing for their Science exams in 2026 \nSelect the button below to join the lesson online
URL:https://myrtlelearning.com/event/28gs-myrtle-2-2/2028-02-29/
LOCATION:Abbie\, Myrtle Learning\, ME1 2QP\, United Kingdom
CATEGORIES:28GS Myrtle 2
ATTACH;FMTTYPE=image/jpeg:https://myrtlelearning.com/wp-content/uploads/2023/08/myrtle-icon-whitejpg.jpg
ORGANIZER;CN="Abbie":MAILTO:barnesab@myrtlelearning.com
END:VEVENT
BEGIN:VEVENT
DTSTART;TZID=UTC:20280307T170000
DTEND;TZID=UTC:20280307T180000
DTSTAMP:20260421T062826
CREATED:20240620T154950Z
LAST-MODIFIED:20240620T160453Z
UID:10036848-1836061200-1836064800@myrtlelearning.com
SUMMARY:28GS Myrtle 2
DESCRIPTION:28GS Myrtle 2 \nThese group is made of students preparing for their Science exams in 2026 \nSelect the button below to join the lesson online
URL:https://myrtlelearning.com/event/28gs-myrtle-2-2/2028-03-07/
LOCATION:Abbie\, Myrtle Learning\, ME1 2QP\, United Kingdom
CATEGORIES:28GS Myrtle 2
ATTACH;FMTTYPE=image/jpeg:https://myrtlelearning.com/wp-content/uploads/2023/08/myrtle-icon-whitejpg.jpg
ORGANIZER;CN="Abbie":MAILTO:barnesab@myrtlelearning.com
END:VEVENT
BEGIN:VEVENT
DTSTART;TZID=UTC:20280314T170000
DTEND;TZID=UTC:20280314T180000
DTSTAMP:20260421T062826
CREATED:20240620T154950Z
LAST-MODIFIED:20240620T160453Z
UID:10036849-1836666000-1836669600@myrtlelearning.com
SUMMARY:28GS Myrtle 2
DESCRIPTION:28GS Myrtle 2 \nThese group is made of students preparing for their Science exams in 2026 \nSelect the button below to join the lesson online
URL:https://myrtlelearning.com/event/28gs-myrtle-2-2/2028-03-14/
LOCATION:Abbie\, Myrtle Learning\, ME1 2QP\, United Kingdom
CATEGORIES:28GS Myrtle 2
ATTACH;FMTTYPE=image/jpeg:https://myrtlelearning.com/wp-content/uploads/2023/08/myrtle-icon-whitejpg.jpg
ORGANIZER;CN="Abbie":MAILTO:barnesab@myrtlelearning.com
END:VEVENT
BEGIN:VEVENT
DTSTART;TZID=UTC:20280321T170000
DTEND;TZID=UTC:20280321T180000
DTSTAMP:20260421T062826
CREATED:20240620T154950Z
LAST-MODIFIED:20240620T160453Z
UID:10036850-1837270800-1837274400@myrtlelearning.com
SUMMARY:28GS Myrtle 2
DESCRIPTION:28GS Myrtle 2 \nThese group is made of students preparing for their Science exams in 2026 \nSelect the button below to join the lesson online
URL:https://myrtlelearning.com/event/28gs-myrtle-2-2/2028-03-21/
LOCATION:Abbie\, Myrtle Learning\, ME1 2QP\, United Kingdom
CATEGORIES:28GS Myrtle 2
ATTACH;FMTTYPE=image/jpeg:https://myrtlelearning.com/wp-content/uploads/2023/08/myrtle-icon-whitejpg.jpg
ORGANIZER;CN="Abbie":MAILTO:barnesab@myrtlelearning.com
END:VEVENT
BEGIN:VEVENT
DTSTART;TZID=UTC:20280328T170000
DTEND;TZID=UTC:20280328T180000
DTSTAMP:20260421T062826
CREATED:20240620T154950Z
LAST-MODIFIED:20240620T160453Z
UID:10036851-1837875600-1837879200@myrtlelearning.com
SUMMARY:28GS Myrtle 2
DESCRIPTION:28GS Myrtle 2 \nThese group is made of students preparing for their Science exams in 2026 \nSelect the button below to join the lesson online
URL:https://myrtlelearning.com/event/28gs-myrtle-2-2/2028-03-28/
LOCATION:Abbie\, Myrtle Learning\, ME1 2QP\, United Kingdom
CATEGORIES:28GS Myrtle 2
ATTACH;FMTTYPE=image/jpeg:https://myrtlelearning.com/wp-content/uploads/2023/08/myrtle-icon-whitejpg.jpg
ORGANIZER;CN="Abbie":MAILTO:barnesab@myrtlelearning.com
END:VEVENT
BEGIN:VEVENT
DTSTART;TZID=UTC:20280404T170000
DTEND;TZID=UTC:20280404T180000
DTSTAMP:20260421T062826
CREATED:20240620T154950Z
LAST-MODIFIED:20240620T160453Z
UID:10036852-1838480400-1838484000@myrtlelearning.com
SUMMARY:28GS Myrtle 2
DESCRIPTION:28GS Myrtle 2 \nThese group is made of students preparing for their Science exams in 2026 \nSelect the button below to join the lesson online
URL:https://myrtlelearning.com/event/28gs-myrtle-2-2/2028-04-04/
LOCATION:Abbie\, Myrtle Learning\, ME1 2QP\, United Kingdom
CATEGORIES:28GS Myrtle 2
ATTACH;FMTTYPE=image/jpeg:https://myrtlelearning.com/wp-content/uploads/2023/08/myrtle-icon-whitejpg.jpg
ORGANIZER;CN="Abbie":MAILTO:barnesab@myrtlelearning.com
END:VEVENT
BEGIN:VEVENT
DTSTART;TZID=UTC:20280411T170000
DTEND;TZID=UTC:20280411T180000
DTSTAMP:20260421T062826
CREATED:20240620T154950Z
LAST-MODIFIED:20240620T160453Z
UID:10036853-1839085200-1839088800@myrtlelearning.com
SUMMARY:28GS Myrtle 2
DESCRIPTION:28GS Myrtle 2 \nThese group is made of students preparing for their Science exams in 2026 \nSelect the button below to join the lesson online
URL:https://myrtlelearning.com/event/28gs-myrtle-2-2/2028-04-11/
LOCATION:Abbie\, Myrtle Learning\, ME1 2QP\, United Kingdom
CATEGORIES:28GS Myrtle 2
ATTACH;FMTTYPE=image/jpeg:https://myrtlelearning.com/wp-content/uploads/2023/08/myrtle-icon-whitejpg.jpg
ORGANIZER;CN="Abbie":MAILTO:barnesab@myrtlelearning.com
END:VEVENT
BEGIN:VEVENT
DTSTART;TZID=UTC:20280418T170000
DTEND;TZID=UTC:20280418T180000
DTSTAMP:20260421T062826
CREATED:20240620T154950Z
LAST-MODIFIED:20240620T160453Z
UID:10036854-1839690000-1839693600@myrtlelearning.com
SUMMARY:28GS Myrtle 2
DESCRIPTION:28GS Myrtle 2 \nThese group is made of students preparing for their Science exams in 2026 \nSelect the button below to join the lesson online
URL:https://myrtlelearning.com/event/28gs-myrtle-2-2/2028-04-18/
LOCATION:Abbie\, Myrtle Learning\, ME1 2QP\, United Kingdom
CATEGORIES:28GS Myrtle 2
ATTACH;FMTTYPE=image/jpeg:https://myrtlelearning.com/wp-content/uploads/2023/08/myrtle-icon-whitejpg.jpg
ORGANIZER;CN="Abbie":MAILTO:barnesab@myrtlelearning.com
END:VEVENT
BEGIN:VEVENT
DTSTART;TZID=UTC:20280425T170000
DTEND;TZID=UTC:20280425T180000
DTSTAMP:20260421T062826
CREATED:20240620T154950Z
LAST-MODIFIED:20240620T160453Z
UID:10036855-1840294800-1840298400@myrtlelearning.com
SUMMARY:28GS Myrtle 2
DESCRIPTION:28GS Myrtle 2 \nThese group is made of students preparing for their Science exams in 2026 \nSelect the button below to join the lesson online
URL:https://myrtlelearning.com/event/28gs-myrtle-2-2/2028-04-25/
LOCATION:Abbie\, Myrtle Learning\, ME1 2QP\, United Kingdom
CATEGORIES:28GS Myrtle 2
ATTACH;FMTTYPE=image/jpeg:https://myrtlelearning.com/wp-content/uploads/2023/08/myrtle-icon-whitejpg.jpg
ORGANIZER;CN="Abbie":MAILTO:barnesab@myrtlelearning.com
END:VEVENT
BEGIN:VEVENT
DTSTART;TZID=UTC:20280502T170000
DTEND;TZID=UTC:20280502T180000
DTSTAMP:20260421T062826
CREATED:20240620T154950Z
LAST-MODIFIED:20240620T160453Z
UID:10036856-1840899600-1840903200@myrtlelearning.com
SUMMARY:28GS Myrtle 2
DESCRIPTION:28GS Myrtle 2 \nThese group is made of students preparing for their Science exams in 2026 \nSelect the button below to join the lesson online
URL:https://myrtlelearning.com/event/28gs-myrtle-2-2/2028-05-02/
LOCATION:Abbie\, Myrtle Learning\, ME1 2QP\, United Kingdom
CATEGORIES:28GS Myrtle 2
ATTACH;FMTTYPE=image/jpeg:https://myrtlelearning.com/wp-content/uploads/2023/08/myrtle-icon-whitejpg.jpg
ORGANIZER;CN="Abbie":MAILTO:barnesab@myrtlelearning.com
END:VEVENT
BEGIN:VEVENT
DTSTART;TZID=UTC:20280509T170000
DTEND;TZID=UTC:20280509T180000
DTSTAMP:20260421T062826
CREATED:20240620T154950Z
LAST-MODIFIED:20240620T160453Z
UID:10036857-1841504400-1841508000@myrtlelearning.com
SUMMARY:28GS Myrtle 2
DESCRIPTION:28GS Myrtle 2 \nThese group is made of students preparing for their Science exams in 2026 \nSelect the button below to join the lesson online
URL:https://myrtlelearning.com/event/28gs-myrtle-2-2/2028-05-09/
LOCATION:Abbie\, Myrtle Learning\, ME1 2QP\, United Kingdom
CATEGORIES:28GS Myrtle 2
ATTACH;FMTTYPE=image/jpeg:https://myrtlelearning.com/wp-content/uploads/2023/08/myrtle-icon-whitejpg.jpg
ORGANIZER;CN="Abbie":MAILTO:barnesab@myrtlelearning.com
END:VEVENT
BEGIN:VEVENT
DTSTART;TZID=UTC:20280516T170000
DTEND;TZID=UTC:20280516T180000
DTSTAMP:20260421T062826
CREATED:20240620T154950Z
LAST-MODIFIED:20240620T160453Z
UID:10036858-1842109200-1842112800@myrtlelearning.com
SUMMARY:28GS Myrtle 2
DESCRIPTION:28GS Myrtle 2 \nThese group is made of students preparing for their Science exams in 2026 \nSelect the button below to join the lesson online
URL:https://myrtlelearning.com/event/28gs-myrtle-2-2/2028-05-16/
LOCATION:Abbie\, Myrtle Learning\, ME1 2QP\, United Kingdom
CATEGORIES:28GS Myrtle 2
ATTACH;FMTTYPE=image/jpeg:https://myrtlelearning.com/wp-content/uploads/2023/08/myrtle-icon-whitejpg.jpg
ORGANIZER;CN="Abbie":MAILTO:barnesab@myrtlelearning.com
END:VEVENT
BEGIN:VEVENT
DTSTART;TZID=UTC:20280523T170000
DTEND;TZID=UTC:20280523T180000
DTSTAMP:20260421T062826
CREATED:20240620T154950Z
LAST-MODIFIED:20240620T160453Z
UID:10036859-1842714000-1842717600@myrtlelearning.com
SUMMARY:28GS Myrtle 2
DESCRIPTION:28GS Myrtle 2 \nThese group is made of students preparing for their Science exams in 2026 \nSelect the button below to join the lesson online
URL:https://myrtlelearning.com/event/28gs-myrtle-2-2/2028-05-23/
LOCATION:Abbie\, Myrtle Learning\, ME1 2QP\, United Kingdom
CATEGORIES:28GS Myrtle 2
ATTACH;FMTTYPE=image/jpeg:https://myrtlelearning.com/wp-content/uploads/2023/08/myrtle-icon-whitejpg.jpg
ORGANIZER;CN="Abbie":MAILTO:barnesab@myrtlelearning.com
END:VEVENT
BEGIN:VEVENT
DTSTART;TZID=UTC:20280530T170000
DTEND;TZID=UTC:20280530T180000
DTSTAMP:20260421T062826
CREATED:20240620T154950Z
LAST-MODIFIED:20240620T160453Z
UID:10036860-1843318800-1843322400@myrtlelearning.com
SUMMARY:28GS Myrtle 2
DESCRIPTION:28GS Myrtle 2 \nThese group is made of students preparing for their Science exams in 2026 \nSelect the button below to join the lesson online
URL:https://myrtlelearning.com/event/28gs-myrtle-2-2/2028-05-30/
LOCATION:Abbie\, Myrtle Learning\, ME1 2QP\, United Kingdom
CATEGORIES:28GS Myrtle 2
ATTACH;FMTTYPE=image/jpeg:https://myrtlelearning.com/wp-content/uploads/2023/08/myrtle-icon-whitejpg.jpg
ORGANIZER;CN="Abbie":MAILTO:barnesab@myrtlelearning.com
END:VEVENT
BEGIN:VEVENT
DTSTART;TZID=UTC:20280606T170000
DTEND;TZID=UTC:20280606T180000
DTSTAMP:20260421T062826
CREATED:20240620T154950Z
LAST-MODIFIED:20240620T160453Z
UID:10036861-1843923600-1843927200@myrtlelearning.com
SUMMARY:28GS Myrtle 2
DESCRIPTION:28GS Myrtle 2 \nThese group is made of students preparing for their Science exams in 2026 \nSelect the button below to join the lesson online
URL:https://myrtlelearning.com/event/28gs-myrtle-2-2/2028-06-06/
LOCATION:Abbie\, Myrtle Learning\, ME1 2QP\, United Kingdom
CATEGORIES:28GS Myrtle 2
ATTACH;FMTTYPE=image/jpeg:https://myrtlelearning.com/wp-content/uploads/2023/08/myrtle-icon-whitejpg.jpg
ORGANIZER;CN="Abbie":MAILTO:barnesab@myrtlelearning.com
END:VEVENT
BEGIN:VEVENT
DTSTART;TZID=UTC:20280613T170000
DTEND;TZID=UTC:20280613T180000
DTSTAMP:20260421T062826
CREATED:20240620T154950Z
LAST-MODIFIED:20240620T160453Z
UID:10036862-1844528400-1844532000@myrtlelearning.com
SUMMARY:28GS Myrtle 2
DESCRIPTION:28GS Myrtle 2 \nThese group is made of students preparing for their Science exams in 2026 \nSelect the button below to join the lesson online
URL:https://myrtlelearning.com/event/28gs-myrtle-2-2/2028-06-13/
LOCATION:Abbie\, Myrtle Learning\, ME1 2QP\, United Kingdom
CATEGORIES:28GS Myrtle 2
ATTACH;FMTTYPE=image/jpeg:https://myrtlelearning.com/wp-content/uploads/2023/08/myrtle-icon-whitejpg.jpg
ORGANIZER;CN="Abbie":MAILTO:barnesab@myrtlelearning.com
END:VEVENT
BEGIN:VEVENT
DTSTART;TZID=UTC:20280620T170000
DTEND;TZID=UTC:20280620T180000
DTSTAMP:20260421T062826
CREATED:20240620T154950Z
LAST-MODIFIED:20240620T160453Z
UID:10036863-1845133200-1845136800@myrtlelearning.com
SUMMARY:28GS Myrtle 2
DESCRIPTION:28GS Myrtle 2 \nThese group is made of students preparing for their Science exams in 2026 \nSelect the button below to join the lesson online
URL:https://myrtlelearning.com/event/28gs-myrtle-2-2/2028-06-20/
LOCATION:Abbie\, Myrtle Learning\, ME1 2QP\, United Kingdom
CATEGORIES:28GS Myrtle 2
ATTACH;FMTTYPE=image/jpeg:https://myrtlelearning.com/wp-content/uploads/2023/08/myrtle-icon-whitejpg.jpg
ORGANIZER;CN="Abbie":MAILTO:barnesab@myrtlelearning.com
END:VEVENT
END:VCALENDAR